BEGIN:VCALENDAR
PRODID:-//nuDatenautomaten//framework iCal4j //DE
VERSION:2.0
CALSCALE:GREGORIAN
BEGIN:VTIMEZONE
TZID:Europe/Berlin
LAST-MODIFIED:20260306T231828Z
TZURL:https://www.tzurl.org/zoneinfo/Europe/Berlin
X-LIC-LOCATION:Europe/Berlin
X-PROLEPTIC-TZNAME:LMT
BEGIN:STANDARD
TZNAME:CET
TZOFFSETFROM:+005328
TZOFFSETTO:+0100
DTSTART:18930401T000000
END:STANDARD
BEGIN:DAYLIGHT
TZNAME:CEST
TZOFFSETFROM:+0100
TZOFFSETTO:+0200
DTSTART:19160430T230000
RDATE:19400401T020000
RDATE:19430329T020000
RDATE:19460414T020000
RDATE:19470406T030000
RDATE:19480418T020000
RDATE:19490410T020000
RDATE:19800406T020000
END:DAYLIGHT
BEGIN:STANDARD
TZNAME:CET
TZOFFSETFROM:+0200
TZOFFSETTO:+0100
DTSTART:19161001T010000
RDATE:19421102T030000
RDATE:19431004T030000
RDATE:19441002T030000
RDATE:19451118T030000
RDATE:19461007T030000
END:STANDARD
BEGIN:DAYLIGHT
TZNAME:CEST
TZOFFSETFROM:+0100
TZOFFSETTO:+0200
DTSTART:19170416T020000
RRULE:FREQ=YEARLY;UNTIL=19180415T010000Z;BYMONTH=4;BYDAY=3MO
END:DAYLIGHT
BEGIN:STANDARD
TZNAME:CET
TZOFFSETFROM:+0200
TZOFFSETTO:+0100
DTSTART:19170917T030000
RRULE:FREQ=YEARLY;UNTIL=19180916T010000Z;BYMONTH=9;BYDAY=3MO
END:STANDARD
BEGIN:DAYLIGHT
TZNAME:CEST
TZOFFSETFROM:+0100
TZOFFSETTO:+0200
DTSTART:19440403T020000
RRULE:FREQ=YEARLY;UNTIL=19450402T010000Z;BYMONTH=4;BYDAY=1MO
END:DAYLIGHT
BEGIN:DAYLIGHT
TZNAME:CEMT
TZOFFSETFROM:+0200
TZOFFSETTO:+0300
DTSTART:19450524T020000
RDATE:19470511T030000
END:DAYLIGHT
BEGIN:DAYLIGHT
TZNAME:CEST
TZOFFSETFROM:+0300
TZOFFSETTO:+0200
DTSTART:19450924T030000
RDATE:19470629T030000
END:DAYLIGHT
BEGIN:STANDARD
TZNAME:CET
TZOFFSETFROM:+0100
TZOFFSETTO:+0100
DTSTART:19460101T000000
RDATE:19800101T000000
END:STANDARD
BEGIN:STANDARD
TZNAME:CET
TZOFFSETFROM:+0200
TZOFFSETTO:+0100
DTSTART:19471005T030000
RRULE:FREQ=YEARLY;UNTIL=19491002T010000Z;BYMONTH=10;BYDAY=1SU
END:STANDARD
BEGIN:STANDARD
TZNAME:CET
TZOFFSETFROM:+0200
TZOFFSETTO:+0100
DTSTART:19800928T030000
RRULE:FREQ=YEARLY;UNTIL=19950924T010000Z;BYMONTH=9;BYDAY=-1SU
END:STANDARD
BEGIN:DAYLIGHT
TZNAME:CEST
TZOFFSETFROM:+0100
TZOFFSETTO:+0200
DTSTART:19810329T020000
RRULE:FREQ=YEARLY;BYMONTH=3;BYDAY=-1SU
END:DAYLIGHT
BEGIN:STANDARD
TZNAME:CET
TZOFFSETFROM:+0200
TZOFFSETTO:+0100
DTSTART:19961027T030000
RRULE:FREQ=YEARLY;BYMONTH=10;BYDAY=-1SU
END:STANDARD
END:VTIMEZONE
BEGIN:VEVENT
DTSTAMP:20260423T224753Z
DTSTART;TZID=Europe/Berlin:20250309T140000
DTEND;TZID=Europe/Berlin:20250309T170000
SUMMARY:DA NLB Gr. 2 Young Stars ZH II vs Kloten (15)
UID:d15f65e1-efa9-41ad-a13c-6673d30e9349
STATUS:CONFIRMED
LAST-MODIFIED:20250310T104055Z
DESCRIPTION:Damen Nationalliga B Gruppe 2\nBegegnungs-Nr: 15\nHeim: Young Stars ZH II\nGast: Kloten\n\nAdresse: Seefeldstrasse 93\, 8008 Zürich\n
LOCATION:Seefeldstrasse 93\, 8008 Zürich
CATEGORIES:Saison 2024/25
END:VEVENT
BEGIN:VEVENT
DTSTAMP:20260423T224753Z
DTSTART;TZID=Europe/Berlin:20250308T173000
DTEND;TZID=Europe/Berlin:20250308T203000
SUMMARY:DA NLB Gr. 2 Young Stars ZH II vs Wetzikon (10)
UID:c72c5bbc-066d-4bfa-939a-1317dd79980f
STATUS:CONFIRMED
LAST-MODIFIED:20250310T104047Z
DESCRIPTION:Damen Nationalliga B Gruppe 2\nBegegnungs-Nr: 10\nHeim: Young Stars ZH II\nGast: Wetzikon\n\nAdresse: Seefeldstrasse 93\, 8008 Zürich\n
LOCATION:Seefeldstrasse 93\, 8008 Zürich
CATEGORIES:Saison 2024/25
END:VEVENT
BEGIN:VEVENT
DTSTAMP:20260423T224753Z
DTSTART;TZID=Europe/Berlin:20250111T173000
DTEND;TZID=Europe/Berlin:20250111T203000
SUMMARY:DA NLB Gr. 2 Young Stars ZH II vs Uster (2)
UID:c97b0de2-81f8-4370-8735-e54d6312b2cb
STATUS:CONFIRMED
LAST-MODIFIED:20250113T084120Z
DESCRIPTION:Damen Nationalliga B Gruppe 2\nBegegnungs-Nr: 2\nHeim: Young Stars ZH II\nGast: Uster\n\nAdresse: Seefeldstrasse 93\, 8008 Zürich\n
LOCATION:Seefeldstrasse 93\, 8008 Zürich
CATEGORIES:Saison 2024/25
END:VEVENT
BEGIN:VEVENT
DTSTAMP:20260423T224753Z
DTSTART;TZID=Europe/Berlin:20241109T173000
DTEND;TZID=Europe/Berlin:20241109T203000
SUMMARY:DA NLB Gr. 2 Young Stars ZH II vs Romanshorn (12)
UID:6e6b09b4-f2d5-477d-9492-e9ed0764b7cb
STATUS:CONFIRMED
LAST-MODIFIED:20241111T161257Z
DESCRIPTION:Damen Nationalliga B Gruppe 2\nBegegnungs-Nr: 12\nHeim: Young Stars ZH II\nGast: Romanshorn\n\nAdresse: Seefeldstrasse 93\, 8008 Zürich\n
LOCATION:Seefeldstrasse 93\, 8008 Zürich
CATEGORIES:Saison 2024/25
END:VEVENT
BEGIN:VEVENT
DTSTAMP:20260423T224753Z
DTSTART;TZID=Europe/Berlin:20240921T173000
DTEND;TZID=Europe/Berlin:20240921T203000
SUMMARY:DA NLB Gr. 2 Young Stars ZH II vs Wädenswil (5)
UID:52291a14-2958-4ea3-86fd-47d314c21075
STATUS:CONFIRMED
LAST-MODIFIED:20240926T070032Z
DESCRIPTION:Damen Nationalliga B Gruppe 2\nBegegnungs-Nr: 5\nHeim: Young Stars ZH II\nGast: Wädenswil\n\nAdresse: Seefeldstrasse 93\, 8008 Zürich\n
LOCATION:Seefeldstrasse 93\, 8008 Zürich
CATEGORIES:Saison 2024/25
END:VEVENT
BEGIN:VEVENT
DTSTAMP:20260423T224753Z
DTSTART;TZID=Europe/Berlin:20250208T153000
DTEND;TZID=Europe/Berlin:20250208T183000
SUMMARY:DA NLB Gr. 2 Romanshorn vs Young Stars ZH II (9)
UID:0b9a84de-5b18-4f76-94c5-f86d1b8c29c9
STATUS:CONFIRMED
LAST-MODIFIED:20250210T072547Z
DESCRIPTION:Damen Nationalliga B Gruppe 2\nBegegnungs-Nr: 9\nHeim: Romanshorn\nGast: Young Stars ZH II\n\nAdresse: Florastrasse\, 8590 Romanshorn\n
LOCATION:Florastrasse\, 8590 Romanshorn
CATEGORIES:Saison 2024/25
END:VEVENT
BEGIN:VEVENT
DTSTAMP:20260423T224753Z
DTSTART;TZID=Europe/Berlin:20250201T150000
DTEND;TZID=Europe/Berlin:20250201T180000
SUMMARY:DA NLB Gr. 2 Wädenswil vs Young Stars ZH II (5)
UID:ab4d2419-5b37-4cef-8cad-bea117a6593b
STATUS:CONFIRMED
LAST-MODIFIED:20250203T094544Z
DESCRIPTION:Damen Nationalliga B Gruppe 2\nBegegnungs-Nr: 5\nHeim: Wädenswil\nGast: Young Stars ZH II\n\nAdresse: Fuhrstrasse 16b\, 8820 Wädenswil\n
LOCATION:Fuhrstrasse 16b\, 8820 Wädenswil
CATEGORIES:Saison 2024/25
END:VEVENT
BEGIN:VEVENT
DTSTAMP:20260423T224753Z
DTSTART;TZID=Europe/Berlin:20240913T201500
DTEND;TZID=Europe/Berlin:20240913T231500
SUMMARY:DA NLB Gr. 2 Uster vs Young Stars ZH II (2)
UID:8225a45f-d181-41da-975d-ac4ef92fb155
STATUS:CONFIRMED
LAST-MODIFIED:20240917T111515Z
DESCRIPTION:Damen Nationalliga B Gruppe 2\nBegegnungs-Nr: 2\nHeim: Uster\nGast: Young Stars ZH II\n\nAdresse: Wilstrasse 30 / Zürcherstrasse\, 8610 Uster\n
LOCATION:Wilstrasse 30 / Zürcherstrasse\, 8610 Uster
CATEGORIES:Saison 2024/25
END:VEVENT
BEGIN:VEVENT
DTSTAMP:20260423T224753Z
DTSTART;TZID=Europe/Berlin:20241025T194500
DTEND;TZID=Europe/Berlin:20241025T224500
SUMMARY:DA NLB Gr. 2 Wetzikon vs Young Stars ZH II (7)
UID:bd418aa4-68ef-4356-b50e-b5f9049cff10
STATUS:CONFIRMED
LAST-MODIFIED:20241031T083414Z
DESCRIPTION:Damen Nationalliga B Gruppe 2\nBegegnungs-Nr: 7\nHeim: Wetzikon\nGast: Young Stars ZH II\n\nAdresse: Usterstrasse 37\, 8620 Wetzikon\n
LOCATION:Usterstrasse 37\, 8620 Wetzikon
CATEGORIES:Saison 2024/25
END:VEVENT
BEGIN:VEVENT
DTSTAMP:20260423T224753Z
DTSTART;TZID=Europe/Berlin:20241130T143000
DTEND;TZID=Europe/Berlin:20241130T173000
SUMMARY:DA NLB Gr. 2 Kloten vs Young Stars ZH II (15)
UID:4a4c9b92-ed61-43ec-9349-f1077238a33d
STATUS:CONFIRMED
LAST-MODIFIED:20241204T095607Z
DESCRIPTION:Damen Nationalliga B Gruppe 2\nBegegnungs-Nr: 15\nHeim: Kloten\nGast: Young Stars ZH II\n\nAdresse: Schluefweg 10\, 8302 Kloten\n
LOCATION:Schluefweg 10\, 8302 Kloten
CATEGORIES:Saison 2024/25
END:VEVENT
END:VCALENDAR
