BEGIN:VCALENDAR
PRODID:-//nuDatenautomaten//framework iCal4j //DE
VERSION:2.0
CALSCALE:GREGORIAN
BEGIN:VTIMEZONE
TZID:Europe/Berlin
LAST-MODIFIED:20260306T231828Z
TZURL:https://www.tzurl.org/zoneinfo/Europe/Berlin
X-LIC-LOCATION:Europe/Berlin
X-PROLEPTIC-TZNAME:LMT
BEGIN:STANDARD
TZNAME:CET
TZOFFSETFROM:+005328
TZOFFSETTO:+0100
DTSTART:18930401T000000
END:STANDARD
BEGIN:DAYLIGHT
TZNAME:CEST
TZOFFSETFROM:+0100
TZOFFSETTO:+0200
DTSTART:19160430T230000
RDATE:19400401T020000
RDATE:19430329T020000
RDATE:19460414T020000
RDATE:19470406T030000
RDATE:19480418T020000
RDATE:19490410T020000
RDATE:19800406T020000
END:DAYLIGHT
BEGIN:STANDARD
TZNAME:CET
TZOFFSETFROM:+0200
TZOFFSETTO:+0100
DTSTART:19161001T010000
RDATE:19421102T030000
RDATE:19431004T030000
RDATE:19441002T030000
RDATE:19451118T030000
RDATE:19461007T030000
END:STANDARD
BEGIN:DAYLIGHT
TZNAME:CEST
TZOFFSETFROM:+0100
TZOFFSETTO:+0200
DTSTART:19170416T020000
RRULE:FREQ=YEARLY;UNTIL=19180415T010000Z;BYMONTH=4;BYDAY=3MO
END:DAYLIGHT
BEGIN:STANDARD
TZNAME:CET
TZOFFSETFROM:+0200
TZOFFSETTO:+0100
DTSTART:19170917T030000
RRULE:FREQ=YEARLY;UNTIL=19180916T010000Z;BYMONTH=9;BYDAY=3MO
END:STANDARD
BEGIN:DAYLIGHT
TZNAME:CEST
TZOFFSETFROM:+0100
TZOFFSETTO:+0200
DTSTART:19440403T020000
RRULE:FREQ=YEARLY;UNTIL=19450402T010000Z;BYMONTH=4;BYDAY=1MO
END:DAYLIGHT
BEGIN:DAYLIGHT
TZNAME:CEMT
TZOFFSETFROM:+0200
TZOFFSETTO:+0300
DTSTART:19450524T020000
RDATE:19470511T030000
END:DAYLIGHT
BEGIN:DAYLIGHT
TZNAME:CEST
TZOFFSETFROM:+0300
TZOFFSETTO:+0200
DTSTART:19450924T030000
RDATE:19470629T030000
END:DAYLIGHT
BEGIN:STANDARD
TZNAME:CET
TZOFFSETFROM:+0100
TZOFFSETTO:+0100
DTSTART:19460101T000000
RDATE:19800101T000000
END:STANDARD
BEGIN:STANDARD
TZNAME:CET
TZOFFSETFROM:+0200
TZOFFSETTO:+0100
DTSTART:19471005T030000
RRULE:FREQ=YEARLY;UNTIL=19491002T010000Z;BYMONTH=10;BYDAY=1SU
END:STANDARD
BEGIN:STANDARD
TZNAME:CET
TZOFFSETFROM:+0200
TZOFFSETTO:+0100
DTSTART:19800928T030000
RRULE:FREQ=YEARLY;UNTIL=19950924T010000Z;BYMONTH=9;BYDAY=-1SU
END:STANDARD
BEGIN:DAYLIGHT
TZNAME:CEST
TZOFFSETFROM:+0100
TZOFFSETTO:+0200
DTSTART:19810329T020000
RRULE:FREQ=YEARLY;BYMONTH=3;BYDAY=-1SU
END:DAYLIGHT
BEGIN:STANDARD
TZNAME:CET
TZOFFSETFROM:+0200
TZOFFSETTO:+0100
DTSTART:19961027T030000
RRULE:FREQ=YEARLY;BYMONTH=10;BYDAY=-1SU
END:STANDARD
END:VTIMEZONE
BEGIN:VEVENT
DTSTAMP:20260423T224814Z
DTSTART;TZID=Europe/Berlin:20240919T201500
DTEND;TZID=Europe/Berlin:20240919T231500
SUMMARY:He 2. Liga Gr. 2 Steinhausen vs Kriens III (0)
UID:da98839f-8257-47b1-934a-5093beef9a8f
STATUS:CONFIRMED
LAST-MODIFIED:20240923T140351Z
DESCRIPTION:2. Liga Herren Gruppe 2\nBegegnungs-Nr: 0\nHeim: Steinhausen\nGast: Kriens III\n\nAdresse: Blickensdorferstrasse\, 6312 Steinhausen\n
LOCATION:Blickensdorferstrasse\, 6312 Steinhausen
CATEGORIES:Saison 2024/25
END:VEVENT
BEGIN:VEVENT
DTSTAMP:20260423T224814Z
DTSTART;TZID=Europe/Berlin:20241024T201500
DTEND;TZID=Europe/Berlin:20241024T231500
SUMMARY:He 2. Liga Gr. 2 Steinhausen vs Zug (0)
UID:054ca6a2-a93d-4135-8f8c-e875b7d0b909
STATUS:CONFIRMED
LAST-MODIFIED:20241027T093903Z
DESCRIPTION:2. Liga Herren Gruppe 2\nBegegnungs-Nr: 0\nHeim: Steinhausen\nGast: Zug\n\nAdresse: Blickensdorferstrasse\, 6312 Steinhausen\n
LOCATION:Blickensdorferstrasse\, 6312 Steinhausen
CATEGORIES:Saison 2024/25
END:VEVENT
BEGIN:VEVENT
DTSTAMP:20260423T224814Z
DTSTART;TZID=Europe/Berlin:20250113T201500
DTEND;TZID=Europe/Berlin:20250113T231500
SUMMARY:He 2. Liga Gr. 2 Steinhausen vs Reussbühl (0)
UID:915e0476-adf0-481a-bcc6-01fe27a69822
STATUS:CONFIRMED
LAST-MODIFIED:20250117T073403Z
DESCRIPTION:2. Liga Herren Gruppe 2\nBegegnungs-Nr: 0\nHeim: Steinhausen\nGast: Reussbühl\n\nAdresse: Blickensdorferstrasse\, 6312 Steinhausen\n
LOCATION:Blickensdorferstrasse\, 6312 Steinhausen
CATEGORIES:Saison 2024/25
END:VEVENT
BEGIN:VEVENT
DTSTAMP:20260423T224814Z
DTSTART;TZID=Europe/Berlin:20241219T201500
DTEND;TZID=Europe/Berlin:20241219T231500
SUMMARY:He 2. Liga Gr. 2 Steinhausen vs Rapid Luzern VII (0)
UID:0e917280-0812-4c61-bba1-372ee2e62eac
STATUS:CONFIRMED
LAST-MODIFIED:20241223T171326Z
DESCRIPTION:2. Liga Herren Gruppe 2\nBegegnungs-Nr: 0\nHeim: Steinhausen\nGast: Rapid Luzern VII\n\nAdresse: Blickensdorferstrasse\, 6312 Steinhausen\n
LOCATION:Blickensdorferstrasse\, 6312 Steinhausen
CATEGORIES:Saison 2024/25
END:VEVENT
BEGIN:VEVENT
DTSTAMP:20260423T224814Z
DTSTART;TZID=Europe/Berlin:20250116T200000
DTEND;TZID=Europe/Berlin:20250116T230000
SUMMARY:He 2. Liga Gr. 2 Steinhausen vs Dierikon-Ebikon (0)
UID:8db0aa96-55cb-4b7b-9801-28c0ebeaa0e8
STATUS:CONFIRMED
LAST-MODIFIED:20250117T073424Z
DESCRIPTION:2. Liga Herren Gruppe 2\nBegegnungs-Nr: 0\nHeim: Steinhausen\nGast: Dierikon-Ebikon\n\nAdresse: Blickensdorferstrasse\, 6312 Steinhausen\n
LOCATION:Blickensdorferstrasse\, 6312 Steinhausen
CATEGORIES:Saison 2024/25
END:VEVENT
BEGIN:VEVENT
DTSTAMP:20260423T224814Z
DTSTART;TZID=Europe/Berlin:20250123T201500
DTEND;TZID=Europe/Berlin:20250123T231500
SUMMARY:He 2. Liga Gr. 2 Steinhausen vs Hünenberg II (0)
UID:8b7e4664-8590-435c-a7ea-7d264f005060
STATUS:CONFIRMED
LAST-MODIFIED:20250204T204708Z
DESCRIPTION:2. Liga Herren Gruppe 2\nBegegnungs-Nr: 0\nHeim: Steinhausen\nGast: Hünenberg II\n\nAdresse: Blickensdorferstrasse\, 6312 Steinhausen\n
LOCATION:Blickensdorferstrasse\, 6312 Steinhausen
CATEGORIES:Saison 2024/25
END:VEVENT
BEGIN:VEVENT
DTSTAMP:20260423T224814Z
DTSTART;TZID=Europe/Berlin:20250320T201500
DTEND;TZID=Europe/Berlin:20250320T231500
SUMMARY:He 2. Liga Gr. 2 Steinhausen vs Baar III (0)
UID:7a4f0d18-caf1-4d1d-bed7-b474d00ea534
STATUS:CONFIRMED
LAST-MODIFIED:20250326T152348Z
DESCRIPTION:2. Liga Herren Gruppe 2\nBegegnungs-Nr: 0\nHeim: Steinhausen\nGast: Baar III\n\nAdresse: Blickensdorferstrasse\, 6312 Steinhausen\n
LOCATION:Blickensdorferstrasse\, 6312 Steinhausen
CATEGORIES:Saison 2024/25
END:VEVENT
BEGIN:VEVENT
DTSTAMP:20260423T224814Z
DTSTART;TZID=Europe/Berlin:20241109T130000
DTEND;TZID=Europe/Berlin:20241109T160000
SUMMARY:He 2. Liga Gr. 2 Rapid Luzern VII vs Steinhausen (0)
UID:7cecbb7d-81d0-4ca0-8864-60df1473f907
STATUS:CONFIRMED
LAST-MODIFIED:20241113T143637Z
DESCRIPTION:2. Liga Herren Gruppe 2\nBegegnungs-Nr: 0\nHeim: Rapid Luzern VII\nGast: Steinhausen\n\nAdresse: Kreuzbuchstr. 60\, 6006 Luzern\n
LOCATION:Kreuzbuchstr. 60\, 6006 Luzern
CATEGORIES:Saison 2024/25
END:VEVENT
BEGIN:VEVENT
DTSTAMP:20260423T224814Z
DTSTART;TZID=Europe/Berlin:20250204T200000
DTEND;TZID=Europe/Berlin:20250204T230000
SUMMARY:He 2. Liga Gr. 2 Dierikon-Ebikon vs Steinhausen (0)
UID:45aabdbf-a0d7-4e6a-9c1b-afd2e9871199
STATUS:CONFIRMED
LAST-MODIFIED:20250219T080724Z
DESCRIPTION:2. Liga Herren Gruppe 2\nBegegnungs-Nr: 0\nHeim: Dierikon-Ebikon\nGast: Steinhausen\n\nAdresse: Rigistrasse 14\, 6036 Dierikon\n
LOCATION:Rigistrasse 14\, 6036 Dierikon
CATEGORIES:Saison 2024/25
END:VEVENT
BEGIN:VEVENT
DTSTAMP:20260423T224814Z
DTSTART;TZID=Europe/Berlin:20241111T200000
DTEND;TZID=Europe/Berlin:20241111T230000
SUMMARY:He 2. Liga Gr. 2 Hünenberg II vs Steinhausen (0)
UID:19cb2e4c-cfde-4877-8e09-bff789098ebf
STATUS:CONFIRMED
LAST-MODIFIED:20241113T143912Z
DESCRIPTION:2. Liga Herren Gruppe 2\nBegegnungs-Nr: 0\nHeim: Hünenberg II\nGast: Steinhausen\n\nAdresse: Lindenbergstrasse 25\, 6331 Hünenberg\n
LOCATION:Lindenbergstrasse 25\, 6331 Hünenberg
CATEGORIES:Saison 2024/25
END:VEVENT
BEGIN:VEVENT
DTSTAMP:20260423T224814Z
DTSTART;TZID=Europe/Berlin:20241130T143000
DTEND;TZID=Europe/Berlin:20241130T173000
SUMMARY:He 2. Liga Gr. 2 Baar III vs Steinhausen (0)
UID:114d2ca8-5f54-4a9b-89c2-040f437b7ad1
STATUS:CONFIRMED
LAST-MODIFIED:20241204T154236Z
DESCRIPTION:2. Liga Herren Gruppe 2\nBegegnungs-Nr: 0\nHeim: Baar III\nGast: Steinhausen\n\nAdresse: Rigistrasse 175/177\, 6340 Baar\n
LOCATION:Rigistrasse 175/177\, 6340 Baar
CATEGORIES:Saison 2024/25
END:VEVENT
BEGIN:VEVENT
DTSTAMP:20260423T224814Z
DTSTART;TZID=Europe/Berlin:20241206T200000
DTEND;TZID=Europe/Berlin:20241206T230000
SUMMARY:He 2. Liga Gr. 2 Kriens III vs Steinhausen (0)
UID:9260a0c8-55f1-4a8e-802b-18aaf042ecf8
STATUS:CONFIRMED
LAST-MODIFIED:20241210T105933Z
DESCRIPTION:2. Liga Herren Gruppe 2\nBegegnungs-Nr: 0\nHeim: Kriens III\nGast: Steinhausen\n\nAdresse: Krauerstrasse 1\, 6010 Kriens\n
LOCATION:Krauerstrasse 1\, 6010 Kriens
CATEGORIES:Saison 2024/25
END:VEVENT
BEGIN:VEVENT
DTSTAMP:20260423T224814Z
DTSTART;TZID=Europe/Berlin:20250108T200000
DTEND;TZID=Europe/Berlin:20250108T230000
SUMMARY:He 2. Liga Gr. 2 Zug vs Steinhausen (0)
UID:e5916c6a-5078-4f32-878b-5797a880e119
STATUS:CONFIRMED
LAST-MODIFIED:20250112T155034Z
DESCRIPTION:2. Liga Herren Gruppe 2\nBegegnungs-Nr: 0\nHeim: Zug\nGast: Steinhausen\n\nAdresse: Lüssiweg 24\, 6300 Zug\n
LOCATION:Lüssiweg 24\, 6300 Zug
CATEGORIES:Saison 2024/25
END:VEVENT
BEGIN:VEVENT
DTSTAMP:20260423T224814Z
DTSTART;TZID=Europe/Berlin:20250220T200000
DTEND;TZID=Europe/Berlin:20250220T230000
SUMMARY:He 2. Liga Gr. 2 Reussbühl vs Steinhausen (0)
UID:f7e78098-4308-4e44-b4b2-f630c8b04afc
STATUS:CONFIRMED
LAST-MODIFIED:20250226T101548Z
DESCRIPTION:2. Liga Herren Gruppe 2\nBegegnungs-Nr: 0\nHeim: Reussbühl\nGast: Steinhausen\n\nAdresse: Obermättlistrasse 44\, 6015 Luzern\n
LOCATION:Obermättlistrasse 44\, 6015 Luzern
CATEGORIES:Saison 2024/25
END:VEVENT
END:VCALENDAR
