BEGIN:VCALENDAR
PRODID:-//nuDatenautomaten//framework iCal4j //DE
VERSION:2.0
CALSCALE:GREGORIAN
BEGIN:VTIMEZONE
TZID:Europe/Berlin
LAST-MODIFIED:20260306T231828Z
TZURL:https://www.tzurl.org/zoneinfo/Europe/Berlin
X-LIC-LOCATION:Europe/Berlin
X-PROLEPTIC-TZNAME:LMT
BEGIN:STANDARD
TZNAME:CET
TZOFFSETFROM:+005328
TZOFFSETTO:+0100
DTSTART:18930401T000000
END:STANDARD
BEGIN:DAYLIGHT
TZNAME:CEST
TZOFFSETFROM:+0100
TZOFFSETTO:+0200
DTSTART:19160430T230000
RDATE:19400401T020000
RDATE:19430329T020000
RDATE:19460414T020000
RDATE:19470406T030000
RDATE:19480418T020000
RDATE:19490410T020000
RDATE:19800406T020000
END:DAYLIGHT
BEGIN:STANDARD
TZNAME:CET
TZOFFSETFROM:+0200
TZOFFSETTO:+0100
DTSTART:19161001T010000
RDATE:19421102T030000
RDATE:19431004T030000
RDATE:19441002T030000
RDATE:19451118T030000
RDATE:19461007T030000
END:STANDARD
BEGIN:DAYLIGHT
TZNAME:CEST
TZOFFSETFROM:+0100
TZOFFSETTO:+0200
DTSTART:19170416T020000
RRULE:FREQ=YEARLY;UNTIL=19180415T010000Z;BYMONTH=4;BYDAY=3MO
END:DAYLIGHT
BEGIN:STANDARD
TZNAME:CET
TZOFFSETFROM:+0200
TZOFFSETTO:+0100
DTSTART:19170917T030000
RRULE:FREQ=YEARLY;UNTIL=19180916T010000Z;BYMONTH=9;BYDAY=3MO
END:STANDARD
BEGIN:DAYLIGHT
TZNAME:CEST
TZOFFSETFROM:+0100
TZOFFSETTO:+0200
DTSTART:19440403T020000
RRULE:FREQ=YEARLY;UNTIL=19450402T010000Z;BYMONTH=4;BYDAY=1MO
END:DAYLIGHT
BEGIN:DAYLIGHT
TZNAME:CEMT
TZOFFSETFROM:+0200
TZOFFSETTO:+0300
DTSTART:19450524T020000
RDATE:19470511T030000
END:DAYLIGHT
BEGIN:DAYLIGHT
TZNAME:CEST
TZOFFSETFROM:+0300
TZOFFSETTO:+0200
DTSTART:19450924T030000
RDATE:19470629T030000
END:DAYLIGHT
BEGIN:STANDARD
TZNAME:CET
TZOFFSETFROM:+0100
TZOFFSETTO:+0100
DTSTART:19460101T000000
RDATE:19800101T000000
END:STANDARD
BEGIN:STANDARD
TZNAME:CET
TZOFFSETFROM:+0200
TZOFFSETTO:+0100
DTSTART:19471005T030000
RRULE:FREQ=YEARLY;UNTIL=19491002T010000Z;BYMONTH=10;BYDAY=1SU
END:STANDARD
BEGIN:STANDARD
TZNAME:CET
TZOFFSETFROM:+0200
TZOFFSETTO:+0100
DTSTART:19800928T030000
RRULE:FREQ=YEARLY;UNTIL=19950924T010000Z;BYMONTH=9;BYDAY=-1SU
END:STANDARD
BEGIN:DAYLIGHT
TZNAME:CEST
TZOFFSETFROM:+0100
TZOFFSETTO:+0200
DTSTART:19810329T020000
RRULE:FREQ=YEARLY;BYMONTH=3;BYDAY=-1SU
END:DAYLIGHT
BEGIN:STANDARD
TZNAME:CET
TZOFFSETFROM:+0200
TZOFFSETTO:+0100
DTSTART:19961027T030000
RRULE:FREQ=YEARLY;BYMONTH=10;BYDAY=-1SU
END:STANDARD
END:VTIMEZONE
BEGIN:VEVENT
DTSTAMP:20260424T043634Z
DTSTART;TZID=Europe/Berlin:20241212T201500
DTEND;TZID=Europe/Berlin:20241212T231500
SUMMARY:ME L5 Gr 5\, Tours 1&2 Eysins III vs Bougy (0)
UID:ce5f2d14-a69e-49ba-a59d-fcb08f382e6d
STATUS:CONFIRMED
LAST-MODIFIED:20241215T010149Z
DESCRIPTION:5ème ligue Hommes Groupe 5\, Tours 1&2\nBegegnungs-Nr: 0\nHeim: Eysins III\nGast: Bougy\n\nAdresse: En Bellossiez 1\, 1262 Eysins\n
LOCATION:En Bellossiez 1\, 1262 Eysins
CATEGORIES:Saison 2024/25
END:VEVENT
BEGIN:VEVENT
DTSTAMP:20260424T043634Z
DTSTART;TZID=Europe/Berlin:20241120T200000
DTEND;TZID=Europe/Berlin:20241120T230000
SUMMARY:ME L5 Gr 5\, Tours 1&2 Eysins III vs Gland III (0)
UID:0a300b8b-c28d-40d1-a849-c835c0c5a5b3
STATUS:CONFIRMED
LAST-MODIFIED:20241121T104806Z
DESCRIPTION:5ème ligue Hommes Groupe 5\, Tours 1&2\nBegegnungs-Nr: 0\nHeim: Eysins III\nGast: Gland III\n\nAdresse: En Bellossiez 1\, 1262 Eysins\n
LOCATION:En Bellossiez 1\, 1262 Eysins
CATEGORIES:Saison 2024/25
END:VEVENT
BEGIN:VEVENT
DTSTAMP:20260424T043634Z
DTSTART;TZID=Europe/Berlin:20241030T200000
DTEND;TZID=Europe/Berlin:20241030T230000
SUMMARY:ME L5 Gr 5\, Tours 1&2 Eysins III vs Vaudoise-Assurances (0)
UID:7bbbfaa3-9c7f-4187-b084-d6e6461199d8
STATUS:CONFIRMED
LAST-MODIFIED:20241101T000033Z
DESCRIPTION:5ème ligue Hommes Groupe 5\, Tours 1&2\nBegegnungs-Nr: 0\nHeim: Eysins III\nGast: Vaudoise-Assurances\n\nAdresse: En Bellossiez 1\, 1262 Eysins\n
LOCATION:En Bellossiez 1\, 1262 Eysins
CATEGORIES:Saison 2024/25
END:VEVENT
BEGIN:VEVENT
DTSTAMP:20260424T043634Z
DTSTART;TZID=Europe/Berlin:20241002T200000
DTEND;TZID=Europe/Berlin:20241002T230000
SUMMARY:ME L5 Gr 5\, Tours 1&2 Eysins III vs Lausanne X (0)
UID:bb5f2d5d-345b-4054-a2f8-2f9c340a896f
STATUS:CONFIRMED
LAST-MODIFIED:20241008T173622Z
DESCRIPTION:5ème ligue Hommes Groupe 5\, Tours 1&2\nBegegnungs-Nr: 0\nHeim: Eysins III\nGast: Lausanne X\n\nAdresse: En Bellossiez 1\, 1262 Eysins\n
LOCATION:En Bellossiez 1\, 1262 Eysins
CATEGORIES:Saison 2024/25
END:VEVENT
BEGIN:VEVENT
DTSTAMP:20260424T043634Z
DTSTART;TZID=Europe/Berlin:20240911T200000
DTEND;TZID=Europe/Berlin:20240911T230000
SUMMARY:ME L5 Gr 5\, Tours 1&2 Eysins III vs Rolle (0)
UID:0e8bd833-a2ea-4547-b001-b9c8282766d6
STATUS:CONFIRMED
LAST-MODIFIED:20240911T233104Z
DESCRIPTION:5ème ligue Hommes Groupe 5\, Tours 1&2\nBegegnungs-Nr: 0\nHeim: Eysins III\nGast: Rolle\n\nAdresse: En Bellossiez 1\, 1262 Eysins\n
LOCATION:En Bellossiez 1\, 1262 Eysins
CATEGORIES:Saison 2024/25
END:VEVENT
BEGIN:VEVENT
DTSTAMP:20260424T043634Z
DTSTART;TZID=Europe/Berlin:20250507T200000
DTEND;TZID=Europe/Berlin:20250507T230000
SUMMARY:ME L5 Gr 5\, Tours 3&4 Eysins III vs Crissier VI (0)
UID:5eaf88f5-0dd5-49be-9cee-62846dbb28c5
STATUS:CONFIRMED
LAST-MODIFIED:20250508T231407Z
DESCRIPTION:5ème ligue Hommes Groupe 5\, Tours 3&4\nBegegnungs-Nr: 0\nHeim: Eysins III\nGast: Crissier VI\n\nAdresse: En Bellossiez 1\, 1262 Eysins\n
LOCATION:En Bellossiez 1\, 1262 Eysins
CATEGORIES:Saison 2024/25
END:VEVENT
BEGIN:VEVENT
DTSTAMP:20260424T043634Z
DTSTART;TZID=Europe/Berlin:20250319T200000
DTEND;TZID=Europe/Berlin:20250319T230000
SUMMARY:ME L5 Gr 5\, Tours 3&4 Eysins III vs Rolle (0)
UID:db504743-0c4d-4916-84e3-aeb019e1be11
STATUS:CONFIRMED
LAST-MODIFIED:20250320T012433Z
DESCRIPTION:5ème ligue Hommes Groupe 5\, Tours 3&4\nBegegnungs-Nr: 0\nHeim: Eysins III\nGast: Rolle\n\nAdresse: En Bellossiez 1\, 1262 Eysins\n
LOCATION:En Bellossiez 1\, 1262 Eysins
CATEGORIES:Saison 2024/25
END:VEVENT
BEGIN:VEVENT
DTSTAMP:20260424T043634Z
DTSTART;TZID=Europe/Berlin:20250312T200000
DTEND;TZID=Europe/Berlin:20250312T230000
SUMMARY:ME L5 Gr 5\, Tours 3&4 Eysins III vs Romanel VI (0)
UID:8534058a-ffb2-481a-8b2a-b3f99a00625a
STATUS:CONFIRMED
LAST-MODIFIED:20250313T110314Z
DESCRIPTION:5ème ligue Hommes Groupe 5\, Tours 3&4\nBegegnungs-Nr: 0\nHeim: Eysins III\nGast: Romanel VI\n\nAdresse: En Bellossiez 1\, 1262 Eysins\n
LOCATION:En Bellossiez 1\, 1262 Eysins
CATEGORIES:Saison 2024/25
END:VEVENT
BEGIN:VEVENT
DTSTAMP:20260424T043634Z
DTSTART;TZID=Europe/Berlin:20250212T200000
DTEND;TZID=Europe/Berlin:20250212T230000
SUMMARY:ME L5 Gr 5\, Tours 3&4 Eysins III vs Montriond-Ouchy  III (0)
UID:f5b685af-6fd4-4908-8656-db75359afcb3
STATUS:CONFIRMED
LAST-MODIFIED:20250213T212341Z
DESCRIPTION:5ème ligue Hommes Groupe 5\, Tours 3&4\nBegegnungs-Nr: 0\nHeim: Eysins III\nGast: Montriond-Ouchy  III\n\nAdresse: En Bellossiez 1\, 1262 Eysins\n
LOCATION:En Bellossiez 1\, 1262 Eysins
CATEGORIES:Saison 2024/25
END:VEVENT
BEGIN:VEVENT
DTSTAMP:20260424T043634Z
DTSTART;TZID=Europe/Berlin:20250129T200000
DTEND;TZID=Europe/Berlin:20250129T230000
SUMMARY:ME L5 Gr 5\, Tours 3&4 Eysins III vs Bougy (0)
UID:829dbc3c-5f6d-4b94-8f8d-217cfe010b6d
STATUS:CONFIRMED
LAST-MODIFIED:20250129T233905Z
DESCRIPTION:5ème ligue Hommes Groupe 5\, Tours 3&4\nBegegnungs-Nr: 0\nHeim: Eysins III\nGast: Bougy\n\nAdresse: En Bellossiez 1\, 1262 Eysins\n
LOCATION:En Bellossiez 1\, 1262 Eysins
CATEGORIES:Saison 2024/25
END:VEVENT
BEGIN:VEVENT
DTSTAMP:20260424T043634Z
DTSTART;TZID=Europe/Berlin:20241125T200000
DTEND;TZID=Europe/Berlin:20241125T230000
SUMMARY:ME L5 Gr 5\, Tours 1&2 Lausanne X vs Eysins III (0)
UID:1f531de6-a52f-4e26-84d4-f961b5f8028e
STATUS:CONFIRMED
LAST-MODIFIED:20241128T003227Z
DESCRIPTION:5ème ligue Hommes Groupe 5\, Tours 1&2\nBegegnungs-Nr: 0\nHeim: Lausanne X\nGast: Eysins III\n\nAdresse: Vaudoise Aréna\, Ch. du Viaduc 14\, 1008 Prilly\n
LOCATION:Vaudoise Aréna\, Ch. du Viaduc 14\, 1008 Prilly
CATEGORIES:Saison 2024/25
END:VEVENT
BEGIN:VEVENT
DTSTAMP:20260424T043634Z
DTSTART;TZID=Europe/Berlin:20241106T200000
DTEND;TZID=Europe/Berlin:20241106T230000
SUMMARY:ME L5 Gr 5\, Tours 1&2 Rolle vs Eysins III (0)
UID:11c455b1-16d2-44d2-84a4-38b96c3211ed
STATUS:CONFIRMED
LAST-MODIFIED:20241111T230958Z
DESCRIPTION:5ème ligue Hommes Groupe 5\, Tours 1&2\nBegegnungs-Nr: 0\nHeim: Rolle\nGast: Eysins III\n\nAdresse: Route des Quatre-Communes 7\, 1180 Rolle\n
LOCATION:Route des Quatre-Communes 7\, 1180 Rolle
CATEGORIES:Saison 2024/25
END:VEVENT
BEGIN:VEVENT
DTSTAMP:20260424T043634Z
DTSTART;TZID=Europe/Berlin:20241009T193000
DTEND;TZID=Europe/Berlin:20241009T223000
SUMMARY:ME L5 Gr 5\, Tours 1&2 Bougy vs Eysins III (0)
UID:9f3541ea-4b30-41ea-8383-fcdbea627f68
STATUS:CONFIRMED
LAST-MODIFIED:20241013T205920Z
DESCRIPTION:5ème ligue Hommes Groupe 5\, Tours 1&2\nBegegnungs-Nr: 0\nHeim: Bougy\nGast: Eysins III\n\nAdresse: Grand-Rue 11\, 1172 Bougy-Villars\n
LOCATION:Grand-Rue 11\, 1172 Bougy-Villars
CATEGORIES:Saison 2024/25
END:VEVENT
BEGIN:VEVENT
DTSTAMP:20260424T043634Z
DTSTART;TZID=Europe/Berlin:20240927T193000
DTEND;TZID=Europe/Berlin:20240927T223000
SUMMARY:ME L5 Gr 5\, Tours 1&2 Gland III vs Eysins III (0)
UID:ffde8ba1-d1d6-467c-9c2f-ccca54d74ab2
STATUS:CONFIRMED
LAST-MODIFIED:20240928T191653Z
DESCRIPTION:5ème ligue Hommes Groupe 5\, Tours 1&2\nBegegnungs-Nr: 0\nHeim: Gland III\nGast: Eysins III\n\nAdresse: Chemin de la Perroude 1\, 1196 Gland\n
LOCATION:Chemin de la Perroude 1\, 1196 Gland
CATEGORIES:Saison 2024/25
END:VEVENT
BEGIN:VEVENT
DTSTAMP:20260424T043634Z
DTSTART;TZID=Europe/Berlin:20240919T193000
DTEND;TZID=Europe/Berlin:20240919T223000
SUMMARY:ME L5 Gr 5\, Tours 1&2 Vaudoise-Assurances vs Eysins III (0)
UID:94ff83d6-726c-46d3-99c5-d1b9445cd12b
STATUS:CONFIRMED
LAST-MODIFIED:20240922T140838Z
DESCRIPTION:5ème ligue Hommes Groupe 5\, Tours 1&2\nBegegnungs-Nr: 0\nHeim: Vaudoise-Assurances\nGast: Eysins III\n\nAdresse: Ch de Bellerive 36\, 1007 Lausanne\n
LOCATION:Ch de Bellerive 36\, 1007 Lausanne
CATEGORIES:Saison 2024/25
END:VEVENT
BEGIN:VEVENT
DTSTAMP:20260424T043634Z
DTSTART;TZID=Europe/Berlin:20250409T193000
DTEND;TZID=Europe/Berlin:20250409T223000
SUMMARY:ME L5 Gr 5\, Tours 3&4 Montriond-Ouchy  III vs Eysins III (0)
UID:0d89ed5a-7f01-465a-ab46-a389141e4ef2
STATUS:CONFIRMED
LAST-MODIFIED:20250410T084204Z
DESCRIPTION:5ème ligue Hommes Groupe 5\, Tours 3&4\nBegegnungs-Nr: 0\nHeim: Montriond-Ouchy  III\nGast: Eysins III\n\nAdresse: Avenue d'Ouchy 45\, 1006 Lausanne\n
LOCATION:Avenue d'Ouchy 45\, 1006 Lausanne
CATEGORIES:Saison 2024/25
END:VEVENT
BEGIN:VEVENT
DTSTAMP:20260424T043634Z
DTSTART;TZID=Europe/Berlin:20250326T193000
DTEND;TZID=Europe/Berlin:20250326T223000
SUMMARY:ME L5 Gr 5\, Tours 3&4 Bougy vs Eysins III (0)
UID:9a0220d1-0d68-45e2-b554-61126f7bc1c1
STATUS:CONFIRMED
LAST-MODIFIED:20250331T160744Z
DESCRIPTION:5ème ligue Hommes Groupe 5\, Tours 3&4\nBegegnungs-Nr: 0\nHeim: Bougy\nGast: Eysins III\n\nAdresse: Grand-Rue 11\, 1172 Bougy-Villars\n
LOCATION:Grand-Rue 11\, 1172 Bougy-Villars
CATEGORIES:Saison 2024/25
END:VEVENT
BEGIN:VEVENT
DTSTAMP:20260424T043634Z
DTSTART;TZID=Europe/Berlin:20250225T193000
DTEND;TZID=Europe/Berlin:20250225T223000
SUMMARY:ME L5 Gr 5\, Tours 3&4 Crissier VI vs Eysins III (0)
UID:6d5498c6-dca9-4def-adf0-2ef6f9f0d1f4
STATUS:CONFIRMED
LAST-MODIFIED:20250227T092602Z
DESCRIPTION:5ème ligue Hommes Groupe 5\, Tours 3&4\nBegegnungs-Nr: 0\nHeim: Crissier VI\nGast: Eysins III\n\nAdresse: Ch. de Roséaz\, 1030 Bussigny\n
LOCATION:Ch. de Roséaz\, 1030 Bussigny
CATEGORIES:Saison 2024/25
END:VEVENT
BEGIN:VEVENT
DTSTAMP:20260424T043634Z
DTSTART;TZID=Europe/Berlin:20250205T200000
DTEND;TZID=Europe/Berlin:20250205T230000
SUMMARY:ME L5 Gr 5\, Tours 3&4 Rolle vs Eysins III (0)
UID:e46e14e0-b55e-4336-a3a9-f0a0c73da681
STATUS:CONFIRMED
LAST-MODIFIED:20250205T225833Z
DESCRIPTION:5ème ligue Hommes Groupe 5\, Tours 3&4\nBegegnungs-Nr: 0\nHeim: Rolle\nGast: Eysins III\n\nAdresse: Route des Quatre-Communes 7\, 1180 Rolle\n
LOCATION:Route des Quatre-Communes 7\, 1180 Rolle
CATEGORIES:Saison 2024/25
END:VEVENT
BEGIN:VEVENT
DTSTAMP:20260424T043634Z
DTSTART;TZID=Europe/Berlin:20250121T200000
DTEND;TZID=Europe/Berlin:20250121T230000
SUMMARY:ME L5 Gr 5\, Tours 3&4 Romanel VI vs Eysins III (0)
UID:f29e6ddb-3f01-4511-96f0-1de161a7d1bd
STATUS:CONFIRMED
LAST-MODIFIED:20250122T232230Z
DESCRIPTION:5ème ligue Hommes Groupe 5\, Tours 3&4\nBegegnungs-Nr: 0\nHeim: Romanel VI\nGast: Eysins III\n\nAdresse: Ch des Epinettes 1\, 1032 Romanel-sur-Lausanne\n
LOCATION:Ch des Epinettes 1\, 1032 Romanel-sur-Lausanne
CATEGORIES:Saison 2024/25
END:VEVENT
END:VCALENDAR
