BEGIN:VCALENDAR
PRODID:-//nuDatenautomaten//framework iCal4j //DE
VERSION:2.0
CALSCALE:GREGORIAN
BEGIN:VTIMEZONE
TZID:Europe/Berlin
LAST-MODIFIED:20260306T231828Z
TZURL:https://www.tzurl.org/zoneinfo/Europe/Berlin
X-LIC-LOCATION:Europe/Berlin
X-PROLEPTIC-TZNAME:LMT
BEGIN:STANDARD
TZNAME:CET
TZOFFSETFROM:+005328
TZOFFSETTO:+0100
DTSTART:18930401T000000
END:STANDARD
BEGIN:DAYLIGHT
TZNAME:CEST
TZOFFSETFROM:+0100
TZOFFSETTO:+0200
DTSTART:19160430T230000
RDATE:19400401T020000
RDATE:19430329T020000
RDATE:19460414T020000
RDATE:19470406T030000
RDATE:19480418T020000
RDATE:19490410T020000
RDATE:19800406T020000
END:DAYLIGHT
BEGIN:STANDARD
TZNAME:CET
TZOFFSETFROM:+0200
TZOFFSETTO:+0100
DTSTART:19161001T010000
RDATE:19421102T030000
RDATE:19431004T030000
RDATE:19441002T030000
RDATE:19451118T030000
RDATE:19461007T030000
END:STANDARD
BEGIN:DAYLIGHT
TZNAME:CEST
TZOFFSETFROM:+0100
TZOFFSETTO:+0200
DTSTART:19170416T020000
RRULE:FREQ=YEARLY;UNTIL=19180415T010000Z;BYMONTH=4;BYDAY=3MO
END:DAYLIGHT
BEGIN:STANDARD
TZNAME:CET
TZOFFSETFROM:+0200
TZOFFSETTO:+0100
DTSTART:19170917T030000
RRULE:FREQ=YEARLY;UNTIL=19180916T010000Z;BYMONTH=9;BYDAY=3MO
END:STANDARD
BEGIN:DAYLIGHT
TZNAME:CEST
TZOFFSETFROM:+0100
TZOFFSETTO:+0200
DTSTART:19440403T020000
RRULE:FREQ=YEARLY;UNTIL=19450402T010000Z;BYMONTH=4;BYDAY=1MO
END:DAYLIGHT
BEGIN:DAYLIGHT
TZNAME:CEMT
TZOFFSETFROM:+0200
TZOFFSETTO:+0300
DTSTART:19450524T020000
RDATE:19470511T030000
END:DAYLIGHT
BEGIN:DAYLIGHT
TZNAME:CEST
TZOFFSETFROM:+0300
TZOFFSETTO:+0200
DTSTART:19450924T030000
RDATE:19470629T030000
END:DAYLIGHT
BEGIN:STANDARD
TZNAME:CET
TZOFFSETFROM:+0100
TZOFFSETTO:+0100
DTSTART:19460101T000000
RDATE:19800101T000000
END:STANDARD
BEGIN:STANDARD
TZNAME:CET
TZOFFSETFROM:+0200
TZOFFSETTO:+0100
DTSTART:19471005T030000
RRULE:FREQ=YEARLY;UNTIL=19491002T010000Z;BYMONTH=10;BYDAY=1SU
END:STANDARD
BEGIN:STANDARD
TZNAME:CET
TZOFFSETFROM:+0200
TZOFFSETTO:+0100
DTSTART:19800928T030000
RRULE:FREQ=YEARLY;UNTIL=19950924T010000Z;BYMONTH=9;BYDAY=-1SU
END:STANDARD
BEGIN:DAYLIGHT
TZNAME:CEST
TZOFFSETFROM:+0100
TZOFFSETTO:+0200
DTSTART:19810329T020000
RRULE:FREQ=YEARLY;BYMONTH=3;BYDAY=-1SU
END:DAYLIGHT
BEGIN:STANDARD
TZNAME:CET
TZOFFSETFROM:+0200
TZOFFSETTO:+0100
DTSTART:19961027T030000
RRULE:FREQ=YEARLY;BYMONTH=10;BYDAY=-1SU
END:STANDARD
END:VTIMEZONE
BEGIN:VEVENT
DTSTAMP:20260424T043556Z
DTSTART;TZID=Europe/Berlin:20250605T200000
DTEND;TZID=Europe/Berlin:20250605T230000
SUMMARY:ME L2 Finales Martigny II vs Rossens III (1)
UID:a66722cf-964b-4519-a389-d683f79e37b3
STATUS:CONFIRMED
LAST-MODIFIED:20250606T155137Z
DESCRIPTION:2ème ligue Hommes\, Finales\nBegegnungs-Nr: 1\nHeim: Martigny II\nGast: Rossens III\n
LOCATION:
CATEGORIES:Saison 2024/25
END:VEVENT
BEGIN:VEVENT
DTSTAMP:20260424T043556Z
DTSTART;TZID=Europe/Berlin:20241114T200000
DTEND;TZID=Europe/Berlin:20241114T230000
SUMMARY:ME L3 Gr 1\, Tours 1&2 Martigny II vs Gampel-Steg II (0)
UID:3bc019c2-b0a4-47c7-ba32-491109cb32c3
STATUS:CONFIRMED
LAST-MODIFIED:20241116T192220Z
DESCRIPTION:3ème ligue Hommes Groupe 1\, Tours 1&2\nBegegnungs-Nr: 0\nHeim: Martigny II\nGast: Gampel-Steg II\n\nAdresse: Rue des Ecoles 9\, 1920 Martigny\n
LOCATION:Rue des Ecoles 9\, 1920 Martigny
CATEGORIES:Saison 2024/25
END:VEVENT
BEGIN:VEVENT
DTSTAMP:20260424T043556Z
DTSTART;TZID=Europe/Berlin:20241017T200000
DTEND;TZID=Europe/Berlin:20241017T230000
SUMMARY:ME L3 Gr 1\, Tours 1&2 Martigny II vs Collombey/Muraz III (0)
UID:ef311385-8e2d-4ba0-88fb-bdebd00ce79f
STATUS:CONFIRMED
LAST-MODIFIED:20241018T001924Z
DESCRIPTION:3ème ligue Hommes Groupe 1\, Tours 1&2\nBegegnungs-Nr: 0\nHeim: Martigny II\nGast: Collombey/Muraz III\n\nAdresse: Rue des Ecoles 9\, 1920 Martigny\n
LOCATION:Rue des Ecoles 9\, 1920 Martigny
CATEGORIES:Saison 2024/25
END:VEVENT
BEGIN:VEVENT
DTSTAMP:20260424T043556Z
DTSTART;TZID=Europe/Berlin:20241010T200000
DTEND;TZID=Europe/Berlin:20241010T230000
SUMMARY:ME L3 Gr 1\, Tours 1&2 Martigny II vs Stalden (0)
UID:9f5a2b42-078e-4479-9cca-8061a03f18f0
STATUS:CONFIRMED
LAST-MODIFIED:20241010T231539Z
DESCRIPTION:3ème ligue Hommes Groupe 1\, Tours 1&2\nBegegnungs-Nr: 0\nHeim: Martigny II\nGast: Stalden\n\nAdresse: Rue des Ecoles 9\, 1920 Martigny\n
LOCATION:Rue des Ecoles 9\, 1920 Martigny
CATEGORIES:Saison 2024/25
END:VEVENT
BEGIN:VEVENT
DTSTAMP:20260424T043556Z
DTSTART;TZID=Europe/Berlin:20240924T200000
DTEND;TZID=Europe/Berlin:20240924T230000
SUMMARY:ME L3 Gr 1\, Tours 1&2 Martigny II vs Gampel-Steg (0)
UID:b8fe8751-0e16-4478-8189-0fd8bc9c7201
STATUS:CONFIRMED
LAST-MODIFIED:20240924T212101Z
DESCRIPTION:3ème ligue Hommes Groupe 1\, Tours 1&2\nBegegnungs-Nr: 0\nHeim: Martigny II\nGast: Gampel-Steg\n\nAdresse: Rue des Ecoles 9\, 1920 Martigny\n
LOCATION:Rue des Ecoles 9\, 1920 Martigny
CATEGORIES:Saison 2024/25
END:VEVENT
BEGIN:VEVENT
DTSTAMP:20260424T043556Z
DTSTART;TZID=Europe/Berlin:20241015T200000
DTEND;TZID=Europe/Berlin:20241015T230000
SUMMARY:ME L3 Gr 1\, Tours 1&2 Martigny II vs Collombey/Muraz II (0)
UID:ed28989e-21dc-4548-a0e2-63bd9d37a4ab
STATUS:CONFIRMED
LAST-MODIFIED:20241016T184936Z
DESCRIPTION:3ème ligue Hommes Groupe 1\, Tours 1&2\nBegegnungs-Nr: 0\nHeim: Martigny II\nGast: Collombey/Muraz II\n\nAdresse: Rue des Ecoles 9\, 1920 Martigny\n
LOCATION:Rue des Ecoles 9\, 1920 Martigny
CATEGORIES:Saison 2024/25
END:VEVENT
BEGIN:VEVENT
DTSTAMP:20260424T043556Z
DTSTART;TZID=Europe/Berlin:20250429T200000
DTEND;TZID=Europe/Berlin:20250429T230000
SUMMARY:ME L2 Gr 1\, Tours 3&4 Martigny II vs Sion (0)
UID:1e04dbb1-36f2-4814-8084-eef282a6bca4
STATUS:CONFIRMED
LAST-MODIFIED:20250430T210444Z
DESCRIPTION:2ème ligue Hommes Groupe 1\, Tours 3&4\nBegegnungs-Nr: 0\nHeim: Martigny II\nGast: Sion\n\nAdresse: Rue des Ecoles 9\, 1920 Martigny\n
LOCATION:Rue des Ecoles 9\, 1920 Martigny
CATEGORIES:Saison 2024/25
END:VEVENT
BEGIN:VEVENT
DTSTAMP:20260424T043556Z
DTSTART;TZID=Europe/Berlin:20250320T200000
DTEND;TZID=Europe/Berlin:20250320T230000
SUMMARY:ME L2 Gr 1\, Tours 3&4 Martigny II vs Vevey III (0)
UID:90ee33b6-bc7e-454b-9d93-2a428b90a32c
STATUS:CONFIRMED
LAST-MODIFIED:20250322T123644Z
DESCRIPTION:2ème ligue Hommes Groupe 1\, Tours 3&4\nBegegnungs-Nr: 0\nHeim: Martigny II\nGast: Vevey III\n\nAdresse: Rue des Ecoles 9\, 1920 Martigny\n
LOCATION:Rue des Ecoles 9\, 1920 Martigny
CATEGORIES:Saison 2024/25
END:VEVENT
BEGIN:VEVENT
DTSTAMP:20260424T043556Z
DTSTART;TZID=Europe/Berlin:20250213T200000
DTEND;TZID=Europe/Berlin:20250213T230000
SUMMARY:ME L2 Gr 1\, Tours 3&4 Martigny II vs Sierre III (0)
UID:6ca44c3a-eee9-4775-9b10-18d982232f7b
STATUS:CONFIRMED
LAST-MODIFIED:20250214T173806Z
DESCRIPTION:2ème ligue Hommes Groupe 1\, Tours 3&4\nBegegnungs-Nr: 0\nHeim: Martigny II\nGast: Sierre III\n\nAdresse: Rue des Ecoles 9\, 1920 Martigny\n
LOCATION:Rue des Ecoles 9\, 1920 Martigny
CATEGORIES:Saison 2024/25
END:VEVENT
BEGIN:VEVENT
DTSTAMP:20260424T043556Z
DTSTART;TZID=Europe/Berlin:20250206T200000
DTEND;TZID=Europe/Berlin:20250206T230000
SUMMARY:ME L2 Gr 1\, Tours 3&4 Martigny II vs Yvorne (0)
UID:4552438d-70e2-4176-9d6e-5368a93ce1e8
STATUS:CONFIRMED
LAST-MODIFIED:20250207T171842Z
DESCRIPTION:2ème ligue Hommes Groupe 1\, Tours 3&4\nBegegnungs-Nr: 0\nHeim: Martigny II\nGast: Yvorne\n\nAdresse: Rue des Ecoles 9\, 1920 Martigny\n
LOCATION:Rue des Ecoles 9\, 1920 Martigny
CATEGORIES:Saison 2024/25
END:VEVENT
BEGIN:VEVENT
DTSTAMP:20260424T043556Z
DTSTART;TZID=Europe/Berlin:20250508T200000
DTEND;TZID=Europe/Berlin:20250508T230000
SUMMARY:ME L2 Gr 1\, Tours 3&4 Martigny II vs Grône (0)
UID:5f27fc1d-3510-421f-930f-bf60502b2473
STATUS:CONFIRMED
LAST-MODIFIED:20250508T230950Z
DESCRIPTION:2ème ligue Hommes Groupe 1\, Tours 3&4\nBegegnungs-Nr: 0\nHeim: Martigny II\nGast: Grône\n\nAdresse: Rue des Ecoles 9\, 1920 Martigny\n
LOCATION:Rue des Ecoles 9\, 1920 Martigny
CATEGORIES:Saison 2024/25
END:VEVENT
BEGIN:VEVENT
DTSTAMP:20260424T043556Z
DTSTART;TZID=Europe/Berlin:20241209T200000
DTEND;TZID=Europe/Berlin:20241209T230000
SUMMARY:ME L3 Gr 1\, Tours 1&2 Stalden vs Martigny II (0)
UID:f6b61925-900d-4ca4-ae78-4e89ec80235d
STATUS:CONFIRMED
LAST-MODIFIED:20241210T222607Z
DESCRIPTION:3ème ligue Hommes Groupe 1\, Tours 1&2\nBegegnungs-Nr: 0\nHeim: Stalden\nGast: Martigny II\n\nAdresse: -\, 3922 Stalden\n
LOCATION:-\, 3922 Stalden
CATEGORIES:Saison 2024/25
END:VEVENT
BEGIN:VEVENT
DTSTAMP:20260424T043556Z
DTSTART;TZID=Europe/Berlin:20241129T200000
DTEND;TZID=Europe/Berlin:20241129T230000
SUMMARY:ME L3 Gr 1\, Tours 1&2 Gampel-Steg vs Martigny II (0)
UID:77b9b789-0490-43a5-8c0e-a73ed4a319c9
STATUS:CONFIRMED
LAST-MODIFIED:20241202T192716Z
DESCRIPTION:3ème ligue Hommes Groupe 1\, Tours 1&2\nBegegnungs-Nr: 0\nHeim: Gampel-Steg\nGast: Martigny II\n\nAdresse: Bienenstrasse 2\, 3945 Niedergampel\n
LOCATION:Bienenstrasse 2\, 3945 Niedergampel
CATEGORIES:Saison 2024/25
END:VEVENT
BEGIN:VEVENT
DTSTAMP:20260424T043556Z
DTSTART;TZID=Europe/Berlin:20241106T193000
DTEND;TZID=Europe/Berlin:20241106T223000
SUMMARY:ME L3 Gr 1\, Tours 1&2 Collombey/Muraz II vs Martigny II (0)
UID:416908f4-0f4f-4099-a028-74ff8dadf82f
STATUS:CONFIRMED
LAST-MODIFIED:20241107T130152Z
DESCRIPTION:3ème ligue Hommes Groupe 1\, Tours 1&2\nBegegnungs-Nr: 0\nHeim: Collombey/Muraz II\nGast: Martigny II\n\nAdresse: Route du Montagnier 81\, 1868 Collombey\n
LOCATION:Route du Montagnier 81\, 1868 Collombey
CATEGORIES:Saison 2024/25
END:VEVENT
BEGIN:VEVENT
DTSTAMP:20260424T043556Z
DTSTART;TZID=Europe/Berlin:20240918T193000
DTEND;TZID=Europe/Berlin:20240918T223000
SUMMARY:ME L3 Gr 1\, Tours 1&2 Gampel-Steg II vs Martigny II (0)
UID:f4afea36-dea3-484e-a088-1008be56cd25
STATUS:CONFIRMED
LAST-MODIFIED:20240920T063500Z
DESCRIPTION:3ème ligue Hommes Groupe 1\, Tours 1&2\nBegegnungs-Nr: 0\nHeim: Gampel-Steg II\nGast: Martigny II\n\nAdresse: Bienenstrasse 2\, 3945 Niedergampel\n
LOCATION:Bienenstrasse 2\, 3945 Niedergampel
CATEGORIES:Saison 2024/25
END:VEVENT
BEGIN:VEVENT
DTSTAMP:20260424T043556Z
DTSTART;TZID=Europe/Berlin:20240902T193000
DTEND;TZID=Europe/Berlin:20240902T223000
SUMMARY:ME L3 Gr 1\, Tours 1&2 Collombey/Muraz III vs Martigny II (0)
UID:3651d7c8-4ca9-439e-8903-626ad594d2f6
STATUS:CONFIRMED
LAST-MODIFIED:20240905T100640Z
DESCRIPTION:3ème ligue Hommes Groupe 1\, Tours 1&2\nBegegnungs-Nr: 0\nHeim: Collombey/Muraz III\nGast: Martigny II\n\nAdresse: Route du Montagnier 81\, 1868 Collombey\n
LOCATION:Route du Montagnier 81\, 1868 Collombey
CATEGORIES:Saison 2024/25
END:VEVENT
BEGIN:VEVENT
DTSTAMP:20260424T043556Z
DTSTART;TZID=Europe/Berlin:20250331T194500
DTEND;TZID=Europe/Berlin:20250331T224500
SUMMARY:ME L2 Gr 1\, Tours 3&4 Sierre III vs Martigny II (0)
UID:b73eaec6-d325-4cd7-a5d0-bafcf2efd2e2
STATUS:CONFIRMED
LAST-MODIFIED:20250401T215555Z
DESCRIPTION:2ème ligue Hommes Groupe 1\, Tours 3&4\nBegegnungs-Nr: 0\nHeim: Sierre III\nGast: Martigny II\n\nAdresse: Rte des Liddes 6\, 3960 Sierre\n
LOCATION:Rte des Liddes 6\, 3960 Sierre
CATEGORIES:Saison 2024/25
END:VEVENT
BEGIN:VEVENT
DTSTAMP:20260424T043556Z
DTSTART;TZID=Europe/Berlin:20250312T200000
DTEND;TZID=Europe/Berlin:20250312T230000
SUMMARY:ME L2 Gr 1\, Tours 3&4 Yvorne vs Martigny II (0)
UID:ba581372-0207-4cf2-8311-b4fefb4aa6da
STATUS:CONFIRMED
LAST-MODIFIED:20250313T110209Z
DESCRIPTION:2ème ligue Hommes Groupe 1\, Tours 3&4\nBegegnungs-Nr: 0\nHeim: Yvorne\nGast: Martigny II\n\nAdresse: Les Maisons Neuves 38\, 1853 Yvorne\n
LOCATION:Les Maisons Neuves 38\, 1853 Yvorne
CATEGORIES:Saison 2024/25
END:VEVENT
BEGIN:VEVENT
DTSTAMP:20260424T043556Z
DTSTART;TZID=Europe/Berlin:20250228T200000
DTEND;TZID=Europe/Berlin:20250228T230000
SUMMARY:ME L2 Gr 1\, Tours 3&4 Grône vs Martigny II (0)
UID:cc0f940d-09cd-4492-afd3-aa28a7f0a52f
STATUS:CONFIRMED
LAST-MODIFIED:20250301T115848Z
DESCRIPTION:2ème ligue Hommes Groupe 1\, Tours 3&4\nBegegnungs-Nr: 0\nHeim: Grône\nGast: Martigny II\n\nAdresse:  Rue Centrale\,  \, Rue de la Piscine\, \, 3979 Grône\n
LOCATION: Rue Centrale\,  \, Rue de la Piscine\, \, 3979 Grône
CATEGORIES:Saison 2024/25
END:VEVENT
BEGIN:VEVENT
DTSTAMP:20260424T043556Z
DTSTART;TZID=Europe/Berlin:20250220T190000
DTEND;TZID=Europe/Berlin:20250220T220000
SUMMARY:ME L2 Gr 1\, Tours 3&4 Sion vs Martigny II (0)
UID:ca95e700-b17a-4d9c-9cab-ac7f24e26b2d
STATUS:CONFIRMED
LAST-MODIFIED:20250222T175801Z
DESCRIPTION:2ème ligue Hommes Groupe 1\, Tours 3&4\nBegegnungs-Nr: 0\nHeim: Sion\nGast: Martigny II\n\nAdresse: Rue du Chanoine-Berchtold 17\, 1950 Sion\n
LOCATION:Rue du Chanoine-Berchtold 17\, 1950 Sion
CATEGORIES:Saison 2024/25
END:VEVENT
BEGIN:VEVENT
DTSTAMP:20260424T043556Z
DTSTART;TZID=Europe/Berlin:20250130T200000
DTEND;TZID=Europe/Berlin:20250130T230000
SUMMARY:ME L2 Gr 1\, Tours 3&4 Vevey III vs Martigny II (0)
UID:b66775f2-ca5f-4897-b0cc-2df11177d709
STATUS:CONFIRMED
LAST-MODIFIED:20250201T002123Z
DESCRIPTION:2ème ligue Hommes Groupe 1\, Tours 3&4\nBegegnungs-Nr: 0\nHeim: Vevey III\nGast: Martigny II\n\nAdresse: Rue Louis-Meyer\, 1800 Vevey\n
LOCATION:Rue Louis-Meyer\, 1800 Vevey
CATEGORIES:Saison 2024/25
END:VEVENT
END:VCALENDAR
