BEGIN:VCALENDAR
PRODID:-//nuDatenautomaten//framework iCal4j //DE
VERSION:2.0
CALSCALE:GREGORIAN
BEGIN:VTIMEZONE
TZID:Europe/Berlin
LAST-MODIFIED:20260306T231828Z
TZURL:https://www.tzurl.org/zoneinfo/Europe/Berlin
X-LIC-LOCATION:Europe/Berlin
X-PROLEPTIC-TZNAME:LMT
BEGIN:STANDARD
TZNAME:CET
TZOFFSETFROM:+005328
TZOFFSETTO:+0100
DTSTART:18930401T000000
END:STANDARD
BEGIN:DAYLIGHT
TZNAME:CEST
TZOFFSETFROM:+0100
TZOFFSETTO:+0200
DTSTART:19160430T230000
RDATE:19400401T020000
RDATE:19430329T020000
RDATE:19460414T020000
RDATE:19470406T030000
RDATE:19480418T020000
RDATE:19490410T020000
RDATE:19800406T020000
END:DAYLIGHT
BEGIN:STANDARD
TZNAME:CET
TZOFFSETFROM:+0200
TZOFFSETTO:+0100
DTSTART:19161001T010000
RDATE:19421102T030000
RDATE:19431004T030000
RDATE:19441002T030000
RDATE:19451118T030000
RDATE:19461007T030000
END:STANDARD
BEGIN:DAYLIGHT
TZNAME:CEST
TZOFFSETFROM:+0100
TZOFFSETTO:+0200
DTSTART:19170416T020000
RRULE:FREQ=YEARLY;UNTIL=19180415T010000Z;BYMONTH=4;BYDAY=3MO
END:DAYLIGHT
BEGIN:STANDARD
TZNAME:CET
TZOFFSETFROM:+0200
TZOFFSETTO:+0100
DTSTART:19170917T030000
RRULE:FREQ=YEARLY;UNTIL=19180916T010000Z;BYMONTH=9;BYDAY=3MO
END:STANDARD
BEGIN:DAYLIGHT
TZNAME:CEST
TZOFFSETFROM:+0100
TZOFFSETTO:+0200
DTSTART:19440403T020000
RRULE:FREQ=YEARLY;UNTIL=19450402T010000Z;BYMONTH=4;BYDAY=1MO
END:DAYLIGHT
BEGIN:DAYLIGHT
TZNAME:CEMT
TZOFFSETFROM:+0200
TZOFFSETTO:+0300
DTSTART:19450524T020000
RDATE:19470511T030000
END:DAYLIGHT
BEGIN:DAYLIGHT
TZNAME:CEST
TZOFFSETFROM:+0300
TZOFFSETTO:+0200
DTSTART:19450924T030000
RDATE:19470629T030000
END:DAYLIGHT
BEGIN:STANDARD
TZNAME:CET
TZOFFSETFROM:+0100
TZOFFSETTO:+0100
DTSTART:19460101T000000
RDATE:19800101T000000
END:STANDARD
BEGIN:STANDARD
TZNAME:CET
TZOFFSETFROM:+0200
TZOFFSETTO:+0100
DTSTART:19471005T030000
RRULE:FREQ=YEARLY;UNTIL=19491002T010000Z;BYMONTH=10;BYDAY=1SU
END:STANDARD
BEGIN:STANDARD
TZNAME:CET
TZOFFSETFROM:+0200
TZOFFSETTO:+0100
DTSTART:19800928T030000
RRULE:FREQ=YEARLY;UNTIL=19950924T010000Z;BYMONTH=9;BYDAY=-1SU
END:STANDARD
BEGIN:DAYLIGHT
TZNAME:CEST
TZOFFSETFROM:+0100
TZOFFSETTO:+0200
DTSTART:19810329T020000
RRULE:FREQ=YEARLY;BYMONTH=3;BYDAY=-1SU
END:DAYLIGHT
BEGIN:STANDARD
TZNAME:CET
TZOFFSETFROM:+0200
TZOFFSETTO:+0100
DTSTART:19961027T030000
RRULE:FREQ=YEARLY;BYMONTH=10;BYDAY=-1SU
END:STANDARD
END:VTIMEZONE
BEGIN:VEVENT
DTSTAMP:20260423T224754Z
DTSTART;TZID=Europe/Berlin:20250406T150000
DTEND;TZID=Europe/Berlin:20250406T180000
SUMMARY:HE NLC Gr. 1 UGS-Chênois II vs Lausanne (28)
UID:c3a6740b-0d7f-420d-a668-b74080bd5b0b
STATUS:CONFIRMED
LAST-MODIFIED:20250408T102149Z
DESCRIPTION:Herren Nationalliga C Gruppe 1\nBegegnungs-Nr: 28\nHeim: UGS-Chênois II\nGast: Lausanne\n\nAdresse: Route de Frontenex 68\, 1208 Genève\n
LOCATION:Route de Frontenex 68\, 1208 Genève
CATEGORIES:Saison 2024/25
END:VEVENT
BEGIN:VEVENT
DTSTAMP:20260423T224754Z
DTSTART;TZID=Europe/Berlin:20250405T170000
DTEND;TZID=Europe/Berlin:20250405T200000
SUMMARY:HE NLC Gr. 1 UGS-Chênois II vs Vevey II (24)
UID:6b88acc4-221d-4a66-9b77-480b15a12cc3
STATUS:CONFIRMED
LAST-MODIFIED:20250408T102109Z
DESCRIPTION:Herren Nationalliga C Gruppe 1\nBegegnungs-Nr: 24\nHeim: UGS-Chênois II\nGast: Vevey II\n\nAdresse: Route de Frontenex 68\, 1208 Genève\n
LOCATION:Route de Frontenex 68\, 1208 Genève
CATEGORIES:Saison 2024/25
END:VEVENT
BEGIN:VEVENT
DTSTAMP:20260423T224754Z
DTSTART;TZID=Europe/Berlin:20250112T150000
DTEND;TZID=Europe/Berlin:20250112T180000
SUMMARY:HE NLC Gr. 1 UGS-Chênois II vs ZZ-Lancy III (1)
UID:362010bf-d343-4094-bd5a-4ced3ae55113
STATUS:CONFIRMED
LAST-MODIFIED:20250113T085650Z
DESCRIPTION:Herren Nationalliga C Gruppe 1\nBegegnungs-Nr: 1\nHeim: UGS-Chênois II\nGast: ZZ-Lancy III\n\nAdresse: Route de Frontenex 68\, 1208 Genève\n
LOCATION:Route de Frontenex 68\, 1208 Genève
CATEGORIES:Saison 2024/25
END:VEVENT
BEGIN:VEVENT
DTSTAMP:20260423T224754Z
DTSTART;TZID=Europe/Berlin:20250201T170000
DTEND;TZID=Europe/Berlin:20250201T200000
SUMMARY:HE NLC Gr. 1 UGS-Chênois II vs Meyrin II (6)
UID:bf546109-d270-41a0-b41f-db036e778a8b
STATUS:CONFIRMED
LAST-MODIFIED:20250203T103335Z
DESCRIPTION:Herren Nationalliga C Gruppe 1\nBegegnungs-Nr: 6\nHeim: UGS-Chênois II\nGast: Meyrin II\n\nAdresse: Route de Frontenex 68\, 1208 Genève\n
LOCATION:Route de Frontenex 68\, 1208 Genève
CATEGORIES:Saison 2024/25
END:VEVENT
BEGIN:VEVENT
DTSTAMP:20260423T224754Z
DTSTART;TZID=Europe/Berlin:20241019T140000
DTEND;TZID=Europe/Berlin:20241019T170000
SUMMARY:HE NLC Gr. 1 UGS-Chênois II vs Mandement (10)
UID:11953661-a6d9-4ca9-bfc2-3dd07bf229db
STATUS:CONFIRMED
LAST-MODIFIED:20241021T101333Z
DESCRIPTION:Herren Nationalliga C Gruppe 1\nBegegnungs-Nr: 10\nHeim: UGS-Chênois II\nGast: Mandement\n\nAdresse: Route de Frontenex 68\, 1208 Genève\n
LOCATION:Route de Frontenex 68\, 1208 Genève
CATEGORIES:Saison 2024/25
END:VEVENT
BEGIN:VEVENT
DTSTAMP:20260423T224754Z
DTSTART;TZID=Europe/Berlin:20241116T170000
DTEND;TZID=Europe/Berlin:20241116T200000
SUMMARY:HE NLC Gr. 1 UGS-Chênois II vs Carouge II (22)
UID:2fbe5988-b0d2-49c0-a15b-8542312c222f
STATUS:CONFIRMED
LAST-MODIFIED:20241118T111827Z
DESCRIPTION:Herren Nationalliga C Gruppe 1\nBegegnungs-Nr: 22\nHeim: UGS-Chênois II\nGast: Carouge II\n\nAdresse: Route de Frontenex 68\, 1208 Genève\n
LOCATION:Route de Frontenex 68\, 1208 Genève
CATEGORIES:Saison 2024/25
END:VEVENT
BEGIN:VEVENT
DTSTAMP:20260423T224754Z
DTSTART;TZID=Europe/Berlin:20240907T170000
DTEND;TZID=Europe/Berlin:20240907T200000
SUMMARY:HE NLC Gr. 1 UGS-Chênois II vs Bernex (4)
UID:100a66fe-cf5a-474a-800e-8a4a0611775f
STATUS:CONFIRMED
LAST-MODIFIED:20240917T111408Z
DESCRIPTION:Herren Nationalliga C Gruppe 1\nBegegnungs-Nr: 4\nHeim: UGS-Chênois II\nGast: Bernex\n\nAdresse: Route de Frontenex 68\, 1208 Genève\n
LOCATION:Route de Frontenex 68\, 1208 Genève
CATEGORIES:Saison 2024/25
END:VEVENT
BEGIN:VEVENT
DTSTAMP:20260423T224754Z
DTSTART;TZID=Europe/Berlin:20250228T200000
DTEND;TZID=Europe/Berlin:20250228T230000
SUMMARY:HE NLC Gr. 1 Mandement vs UGS-Chênois II (14)
UID:6c9f8d12-de45-4ea0-9e26-084e13ee90b2
STATUS:CONFIRMED
LAST-MODIFIED:20250303T065424Z
DESCRIPTION:Herren Nationalliga C Gruppe 1\nBegegnungs-Nr: 14\nHeim: Mandement\nGast: UGS-Chênois II\n\nAdresse: Route de la Gare de Satigny 27A\, 1242 Satigny\n
LOCATION:Route de la Gare de Satigny 27A\, 1242 Satigny
CATEGORIES:Saison 2024/25
END:VEVENT
BEGIN:VEVENT
DTSTAMP:20260423T224754Z
DTSTART;TZID=Europe/Berlin:20250311T194500
DTEND;TZID=Europe/Berlin:20250311T224500
SUMMARY:HE NLC Gr. 1 Bernex vs UGS-Chênois II (20)
UID:d30b719b-a3e1-4003-ab61-0ca652cac8e1
STATUS:CONFIRMED
LAST-MODIFIED:20250313T143334Z
DESCRIPTION:Herren Nationalliga C Gruppe 1\nBegegnungs-Nr: 20\nHeim: Bernex\nGast: UGS-Chênois II\n\nAdresse: Chemin de Saule 120\, 1233 Bernex\n
LOCATION:Chemin de Saule 120\, 1233 Bernex
CATEGORIES:Saison 2024/25
END:VEVENT
BEGIN:VEVENT
DTSTAMP:20260423T224754Z
DTSTART;TZID=Europe/Berlin:20250213T194500
DTEND;TZID=Europe/Berlin:20250213T224500
SUMMARY:HE NLC Gr. 1 Carouge II vs UGS-Chênois II (10)
UID:fb5aed01-4139-48ed-b148-32289dd1e704
STATUS:CONFIRMED
LAST-MODIFIED:20250217T143453Z
DESCRIPTION:Herren Nationalliga C Gruppe 1\nBegegnungs-Nr: 10\nHeim: Carouge II\nGast: UGS-Chênois II\n\nAdresse: Route de Veyrier 44\, 1227 Carouge GE\n
LOCATION:Route de Veyrier 44\, 1227 Carouge GE
CATEGORIES:Saison 2024/25
END:VEVENT
BEGIN:VEVENT
DTSTAMP:20260423T224754Z
DTSTART;TZID=Europe/Berlin:20240928T160000
DTEND;TZID=Europe/Berlin:20240928T190000
SUMMARY:HE NLC Gr. 1 Lausanne vs UGS-Chênois II (8)
UID:0dafb5d4-d1f6-4719-834a-f0bfc5ba21fd
STATUS:CONFIRMED
LAST-MODIFIED:20241001T072347Z
DESCRIPTION:Herren Nationalliga C Gruppe 1\nBegegnungs-Nr: 8\nHeim: Lausanne\nGast: UGS-Chênois II\n\nAdresse: Vaudoise Aréna\, Ch. du Viaduc 14\, 1008 Prilly\n
LOCATION:Vaudoise Aréna\, Ch. du Viaduc 14\, 1008 Prilly
CATEGORIES:Saison 2024/25
END:VEVENT
BEGIN:VEVENT
DTSTAMP:20260423T224754Z
DTSTART;TZID=Europe/Berlin:20241207T150000
DTEND;TZID=Europe/Berlin:20241207T180000
SUMMARY:HE NLC Gr. 1 Meyrin II vs UGS-Chênois II (26)
UID:88c5daaf-84e3-4bed-8376-fe45bbc53104
STATUS:CONFIRMED
LAST-MODIFIED:20241209T113200Z
DESCRIPTION:Herren Nationalliga C Gruppe 1\nBegegnungs-Nr: 26\nHeim: Meyrin II\nGast: UGS-Chênois II\n\nAdresse: Rue De-Livron 2\, 1217 Meyrin\n
LOCATION:Rue De-Livron 2\, 1217 Meyrin
CATEGORIES:Saison 2024/25
END:VEVENT
BEGIN:VEVENT
DTSTAMP:20260423T224754Z
DTSTART;TZID=Europe/Berlin:20241109T150000
DTEND;TZID=Europe/Berlin:20241109T180000
SUMMARY:HE NLC Gr. 1 ZZ-Lancy III vs UGS-Chênois II (17)
UID:f3f44bf0-c8b8-4c58-88f8-241dcab24a7e
STATUS:CONFIRMED
LAST-MODIFIED:20241111T161653Z
DESCRIPTION:Herren Nationalliga C Gruppe 1\nBegegnungs-Nr: 17\nHeim: ZZ-Lancy III\nGast: UGS-Chênois II\n\nAdresse: Avenue du Curé-Baud 40\, 1212 Grand-Lancy\n
LOCATION:Avenue du Curé-Baud 40\, 1212 Grand-Lancy
CATEGORIES:Saison 2024/25
END:VEVENT
BEGIN:VEVENT
DTSTAMP:20260423T224754Z
DTSTART;TZID=Europe/Berlin:20241027T140000
DTEND;TZID=Europe/Berlin:20241027T170000
SUMMARY:HE NLC Gr. 1 Vevey II vs UGS-Chênois II (16)
UID:6c48e95d-9305-42e9-9701-c4c5a96a3d69
STATUS:CONFIRMED
LAST-MODIFIED:20241031T083012Z
DESCRIPTION:Herren Nationalliga C Gruppe 1\nBegegnungs-Nr: 16\nHeim: Vevey II\nGast: UGS-Chênois II\n\nAdresse: Rue Louis-Meyer\, 1800 Vevey\n
LOCATION:Rue Louis-Meyer\, 1800 Vevey
CATEGORIES:Saison 2024/25
END:VEVENT
END:VCALENDAR
