BEGIN:VCALENDAR
PRODID:-//nuDatenautomaten//framework iCal4j //DE
VERSION:2.0
CALSCALE:GREGORIAN
BEGIN:VTIMEZONE
TZID:Europe/Berlin
LAST-MODIFIED:20260306T231828Z
TZURL:https://www.tzurl.org/zoneinfo/Europe/Berlin
X-LIC-LOCATION:Europe/Berlin
X-PROLEPTIC-TZNAME:LMT
BEGIN:STANDARD
TZNAME:CET
TZOFFSETFROM:+005328
TZOFFSETTO:+0100
DTSTART:18930401T000000
END:STANDARD
BEGIN:DAYLIGHT
TZNAME:CEST
TZOFFSETFROM:+0100
TZOFFSETTO:+0200
DTSTART:19160430T230000
RDATE:19400401T020000
RDATE:19430329T020000
RDATE:19460414T020000
RDATE:19470406T030000
RDATE:19480418T020000
RDATE:19490410T020000
RDATE:19800406T020000
END:DAYLIGHT
BEGIN:STANDARD
TZNAME:CET
TZOFFSETFROM:+0200
TZOFFSETTO:+0100
DTSTART:19161001T010000
RDATE:19421102T030000
RDATE:19431004T030000
RDATE:19441002T030000
RDATE:19451118T030000
RDATE:19461007T030000
END:STANDARD
BEGIN:DAYLIGHT
TZNAME:CEST
TZOFFSETFROM:+0100
TZOFFSETTO:+0200
DTSTART:19170416T020000
RRULE:FREQ=YEARLY;UNTIL=19180415T010000Z;BYMONTH=4;BYDAY=3MO
END:DAYLIGHT
BEGIN:STANDARD
TZNAME:CET
TZOFFSETFROM:+0200
TZOFFSETTO:+0100
DTSTART:19170917T030000
RRULE:FREQ=YEARLY;UNTIL=19180916T010000Z;BYMONTH=9;BYDAY=3MO
END:STANDARD
BEGIN:DAYLIGHT
TZNAME:CEST
TZOFFSETFROM:+0100
TZOFFSETTO:+0200
DTSTART:19440403T020000
RRULE:FREQ=YEARLY;UNTIL=19450402T010000Z;BYMONTH=4;BYDAY=1MO
END:DAYLIGHT
BEGIN:DAYLIGHT
TZNAME:CEMT
TZOFFSETFROM:+0200
TZOFFSETTO:+0300
DTSTART:19450524T020000
RDATE:19470511T030000
END:DAYLIGHT
BEGIN:DAYLIGHT
TZNAME:CEST
TZOFFSETFROM:+0300
TZOFFSETTO:+0200
DTSTART:19450924T030000
RDATE:19470629T030000
END:DAYLIGHT
BEGIN:STANDARD
TZNAME:CET
TZOFFSETFROM:+0100
TZOFFSETTO:+0100
DTSTART:19460101T000000
RDATE:19800101T000000
END:STANDARD
BEGIN:STANDARD
TZNAME:CET
TZOFFSETFROM:+0200
TZOFFSETTO:+0100
DTSTART:19471005T030000
RRULE:FREQ=YEARLY;UNTIL=19491002T010000Z;BYMONTH=10;BYDAY=1SU
END:STANDARD
BEGIN:STANDARD
TZNAME:CET
TZOFFSETFROM:+0200
TZOFFSETTO:+0100
DTSTART:19800928T030000
RRULE:FREQ=YEARLY;UNTIL=19950924T010000Z;BYMONTH=9;BYDAY=-1SU
END:STANDARD
BEGIN:DAYLIGHT
TZNAME:CEST
TZOFFSETFROM:+0100
TZOFFSETTO:+0200
DTSTART:19810329T020000
RRULE:FREQ=YEARLY;BYMONTH=3;BYDAY=-1SU
END:DAYLIGHT
BEGIN:STANDARD
TZNAME:CET
TZOFFSETFROM:+0200
TZOFFSETTO:+0100
DTSTART:19961027T030000
RRULE:FREQ=YEARLY;BYMONTH=10;BYDAY=-1SU
END:STANDARD
END:VTIMEZONE
BEGIN:VEVENT
DTSTAMP:20260424T023907Z
DTSTART;TZID=Europe/Berlin:20241212T200000
DTEND;TZID=Europe/Berlin:20241212T230000
SUMMARY:ME L2 Gr 1\, Tours 1&2 Vevey III vs Sierre III (0)
UID:0c8e6acb-5e56-4006-b225-eda279722291
STATUS:CONFIRMED
LAST-MODIFIED:20241215T005704Z
DESCRIPTION:2ème ligue Hommes Groupe 1\, Tours 1&2\nBegegnungs-Nr: 0\nHeim: Vevey III\nGast: Sierre III\n\nAdresse: Rue Louis-Meyer\, 1800 Vevey\n
LOCATION:Rue Louis-Meyer\, 1800 Vevey
CATEGORIES:Saison 2024/25
END:VEVENT
BEGIN:VEVENT
DTSTAMP:20260424T023907Z
DTSTART;TZID=Europe/Berlin:20241128T200000
DTEND;TZID=Europe/Berlin:20241128T230000
SUMMARY:ME L2 Gr 1\, Tours 1&2 Vevey III vs Rossens IV (0)
UID:ec0e0ba5-89b4-40a1-9246-04a082b94951
STATUS:CONFIRMED
LAST-MODIFIED:20241129T154144Z
DESCRIPTION:2ème ligue Hommes Groupe 1\, Tours 1&2\nBegegnungs-Nr: 0\nHeim: Vevey III\nGast: Rossens IV\n\nAdresse: Rue Louis-Meyer\, 1800 Vevey\n
LOCATION:Rue Louis-Meyer\, 1800 Vevey
CATEGORIES:Saison 2024/25
END:VEVENT
BEGIN:VEVENT
DTSTAMP:20260424T023907Z
DTSTART;TZID=Europe/Berlin:20241107T200000
DTEND;TZID=Europe/Berlin:20241107T230000
SUMMARY:ME L2 Gr 1\, Tours 1&2 Vevey III vs Martigny (0)
UID:9ffccbb4-c7bd-4703-92bd-868fb0f8de96
STATUS:CONFIRMED
LAST-MODIFIED:20241108T194900Z
DESCRIPTION:2ème ligue Hommes Groupe 1\, Tours 1&2\nBegegnungs-Nr: 0\nHeim: Vevey III\nGast: Martigny\n\nAdresse: Rue Louis-Meyer\, 1800 Vevey\n
LOCATION:Rue Louis-Meyer\, 1800 Vevey
CATEGORIES:Saison 2024/25
END:VEVENT
BEGIN:VEVENT
DTSTAMP:20260424T023907Z
DTSTART;TZID=Europe/Berlin:20240919T200000
DTEND;TZID=Europe/Berlin:20240919T230000
SUMMARY:ME L2 Gr 1\, Tours 1&2 Vevey III vs Sion (0)
UID:1844077d-e138-437f-8da7-f99ab8c95741
STATUS:CONFIRMED
LAST-MODIFIED:20240920T063416Z
DESCRIPTION:2ème ligue Hommes Groupe 1\, Tours 1&2\nBegegnungs-Nr: 0\nHeim: Vevey III\nGast: Sion\n\nAdresse: Rue Louis-Meyer\, 1800 Vevey\n
LOCATION:Rue Louis-Meyer\, 1800 Vevey
CATEGORIES:Saison 2024/25
END:VEVENT
BEGIN:VEVENT
DTSTAMP:20260424T023907Z
DTSTART;TZID=Europe/Berlin:20240905T200000
DTEND;TZID=Europe/Berlin:20240905T230000
SUMMARY:ME L2 Gr 1\, Tours 1&2 Vevey III vs Romanel (0)
UID:7c57aafd-c891-4c65-b294-ea84d148280d
STATUS:CONFIRMED
LAST-MODIFIED:20240907T122900Z
DESCRIPTION:2ème ligue Hommes Groupe 1\, Tours 1&2\nBegegnungs-Nr: 0\nHeim: Vevey III\nGast: Romanel\n\nAdresse: Rue Louis-Meyer\, 1800 Vevey\n
LOCATION:Rue Louis-Meyer\, 1800 Vevey
CATEGORIES:Saison 2024/25
END:VEVENT
BEGIN:VEVENT
DTSTAMP:20260424T023907Z
DTSTART;TZID=Europe/Berlin:20250508T200000
DTEND;TZID=Europe/Berlin:20250508T230000
SUMMARY:ME L2 Gr 1\, Tours 3&4 Vevey III vs Sion (0)
UID:fb8bc52d-00ba-4b2e-9107-0bbeadd62e03
STATUS:CONFIRMED
LAST-MODIFIED:20250509T150130Z
DESCRIPTION:2ème ligue Hommes Groupe 1\, Tours 3&4\nBegegnungs-Nr: 0\nHeim: Vevey III\nGast: Sion\n\nAdresse: Rue Louis-Meyer\, 1800 Vevey\n
LOCATION:Rue Louis-Meyer\, 1800 Vevey
CATEGORIES:Saison 2024/25
END:VEVENT
BEGIN:VEVENT
DTSTAMP:20260424T023907Z
DTSTART;TZID=Europe/Berlin:20250501T200000
DTEND;TZID=Europe/Berlin:20250501T230000
SUMMARY:ME L2 Gr 1\, Tours 3&4 Vevey III vs Sierre III (0)
UID:2947c60a-2ab7-4e0d-9a47-5ed5beac7f63
STATUS:CONFIRMED
LAST-MODIFIED:20250503T000245Z
DESCRIPTION:2ème ligue Hommes Groupe 1\, Tours 3&4\nBegegnungs-Nr: 0\nHeim: Vevey III\nGast: Sierre III\n\nAdresse: Rue Louis-Meyer\, 1800 Vevey\n
LOCATION:Rue Louis-Meyer\, 1800 Vevey
CATEGORIES:Saison 2024/25
END:VEVENT
BEGIN:VEVENT
DTSTAMP:20260424T023907Z
DTSTART;TZID=Europe/Berlin:20250313T200000
DTEND;TZID=Europe/Berlin:20250313T230000
SUMMARY:ME L2 Gr 1\, Tours 3&4 Vevey III vs Grône (0)
UID:fc6aa9ef-df42-4d55-8527-b1c39ad004d0
STATUS:CONFIRMED
LAST-MODIFIED:20250314T181554Z
DESCRIPTION:2ème ligue Hommes Groupe 1\, Tours 3&4\nBegegnungs-Nr: 0\nHeim: Vevey III\nGast: Grône\n\nAdresse: Rue Louis-Meyer\, 1800 Vevey\n
LOCATION:Rue Louis-Meyer\, 1800 Vevey
CATEGORIES:Saison 2024/25
END:VEVENT
BEGIN:VEVENT
DTSTAMP:20260424T023907Z
DTSTART;TZID=Europe/Berlin:20250213T200000
DTEND;TZID=Europe/Berlin:20250213T230000
SUMMARY:ME L2 Gr 1\, Tours 3&4 Vevey III vs Yvorne (0)
UID:6a874cc5-e6b1-4ef7-b450-263b012b3b72
STATUS:CONFIRMED
LAST-MODIFIED:20250214T134439Z
DESCRIPTION:2ème ligue Hommes Groupe 1\, Tours 3&4\nBegegnungs-Nr: 0\nHeim: Vevey III\nGast: Yvorne\n\nAdresse: Rue Louis-Meyer\, 1800 Vevey\n
LOCATION:Rue Louis-Meyer\, 1800 Vevey
CATEGORIES:Saison 2024/25
END:VEVENT
BEGIN:VEVENT
DTSTAMP:20260424T023907Z
DTSTART;TZID=Europe/Berlin:20250130T200000
DTEND;TZID=Europe/Berlin:20250130T230000
SUMMARY:ME L2 Gr 1\, Tours 3&4 Vevey III vs Martigny II (0)
UID:b66775f2-ca5f-4897-b0cc-2df11177d709
STATUS:CONFIRMED
LAST-MODIFIED:20250201T002123Z
DESCRIPTION:2ème ligue Hommes Groupe 1\, Tours 3&4\nBegegnungs-Nr: 0\nHeim: Vevey III\nGast: Martigny II\n\nAdresse: Rue Louis-Meyer\, 1800 Vevey\n
LOCATION:Rue Louis-Meyer\, 1800 Vevey
CATEGORIES:Saison 2024/25
END:VEVENT
BEGIN:VEVENT
DTSTAMP:20260424T023907Z
DTSTART;TZID=Europe/Berlin:20241122T190000
DTEND;TZID=Europe/Berlin:20241122T220000
SUMMARY:ME L2 Gr 1\, Tours 1&2 Sion vs Vevey III (0)
UID:a6c8cf8b-4f59-4aa3-8e4f-300237bab755
STATUS:CONFIRMED
LAST-MODIFIED:20241126T111841Z
DESCRIPTION:2ème ligue Hommes Groupe 1\, Tours 1&2\nBegegnungs-Nr: 0\nHeim: Sion\nGast: Vevey III\n\nAdresse: Rue du Chanoine-Berchtold 17\, 1950 Sion\n
LOCATION:Rue du Chanoine-Berchtold 17\, 1950 Sion
CATEGORIES:Saison 2024/25
END:VEVENT
BEGIN:VEVENT
DTSTAMP:20260424T023907Z
DTSTART;TZID=Europe/Berlin:20241030T200000
DTEND;TZID=Europe/Berlin:20241030T230000
SUMMARY:ME L2 Gr 1\, Tours 1&2 Romanel vs Vevey III (0)
UID:25791818-d0a5-44c5-979a-6536163ef53f
STATUS:CONFIRMED
LAST-MODIFIED:20241031T235754Z
DESCRIPTION:2ème ligue Hommes Groupe 1\, Tours 1&2\nBegegnungs-Nr: 0\nHeim: Romanel\nGast: Vevey III\n\nAdresse: Ch des Epinettes 1\, 1032 Romanel-sur-Lausanne\n
LOCATION:Ch des Epinettes 1\, 1032 Romanel-sur-Lausanne
CATEGORIES:Saison 2024/25
END:VEVENT
BEGIN:VEVENT
DTSTAMP:20260424T023907Z
DTSTART;TZID=Europe/Berlin:20241007T194500
DTEND;TZID=Europe/Berlin:20241007T224500
SUMMARY:ME L2 Gr 1\, Tours 1&2 Sierre III vs Vevey III (0)
UID:985cecef-907d-40e7-8ac0-d904a462830a
STATUS:CONFIRMED
LAST-MODIFIED:20241008T105007Z
DESCRIPTION:2ème ligue Hommes Groupe 1\, Tours 1&2\nBegegnungs-Nr: 0\nHeim: Sierre III\nGast: Vevey III\n\nAdresse: Rte des Liddes 6\, 3960 Sierre\n
LOCATION:Rte des Liddes 6\, 3960 Sierre
CATEGORIES:Saison 2024/25
END:VEVENT
BEGIN:VEVENT
DTSTAMP:20260424T023907Z
DTSTART;TZID=Europe/Berlin:20241004T200000
DTEND;TZID=Europe/Berlin:20241004T230000
SUMMARY:ME L2 Gr 1\, Tours 1&2 Rossens IV vs Vevey III (0)
UID:69b65431-7b2f-4219-966d-9a5a794d5f7a
STATUS:CONFIRMED
LAST-MODIFIED:20241007T063107Z
DESCRIPTION:2ème ligue Hommes Groupe 1\, Tours 1&2\nBegegnungs-Nr: 0\nHeim: Rossens IV\nGast: Vevey III\n\nAdresse: Route du Jordil 14\, 1728 Rossens\n
LOCATION:Route du Jordil 14\, 1728 Rossens
CATEGORIES:Saison 2024/25
END:VEVENT
BEGIN:VEVENT
DTSTAMP:20260424T023907Z
DTSTART;TZID=Europe/Berlin:20240912T200000
DTEND;TZID=Europe/Berlin:20240912T230000
SUMMARY:ME L2 Gr 1\, Tours 1&2 Martigny vs Vevey III (0)
UID:f5a674af-e88a-4ce9-ad6b-836266a1767c
STATUS:CONFIRMED
LAST-MODIFIED:20240914T210258Z
DESCRIPTION:2ème ligue Hommes Groupe 1\, Tours 1&2\nBegegnungs-Nr: 0\nHeim: Martigny\nGast: Vevey III\n\nAdresse: Rue des Ecoles 9\, 1920 Martigny\n
LOCATION:Rue des Ecoles 9\, 1920 Martigny
CATEGORIES:Saison 2024/25
END:VEVENT
BEGIN:VEVENT
DTSTAMP:20260424T023907Z
DTSTART;TZID=Europe/Berlin:20250409T200000
DTEND;TZID=Europe/Berlin:20250409T230000
SUMMARY:ME L2 Gr 1\, Tours 3&4 Yvorne vs Vevey III (0)
UID:4ad97430-9e2f-42b1-b31a-cede3ca180ff
STATUS:CONFIRMED
LAST-MODIFIED:20250410T084052Z
DESCRIPTION:2ème ligue Hommes Groupe 1\, Tours 3&4\nBegegnungs-Nr: 0\nHeim: Yvorne\nGast: Vevey III\n\nAdresse: Les Maisons Neuves 38\, 1853 Yvorne\n
LOCATION:Les Maisons Neuves 38\, 1853 Yvorne
CATEGORIES:Saison 2024/25
END:VEVENT
BEGIN:VEVENT
DTSTAMP:20260424T023907Z
DTSTART;TZID=Europe/Berlin:20250320T200000
DTEND;TZID=Europe/Berlin:20250320T230000
SUMMARY:ME L2 Gr 1\, Tours 3&4 Martigny II vs Vevey III (0)
UID:90ee33b6-bc7e-454b-9d93-2a428b90a32c
STATUS:CONFIRMED
LAST-MODIFIED:20250322T123644Z
DESCRIPTION:2ème ligue Hommes Groupe 1\, Tours 3&4\nBegegnungs-Nr: 0\nHeim: Martigny II\nGast: Vevey III\n\nAdresse: Rue des Ecoles 9\, 1920 Martigny\n
LOCATION:Rue des Ecoles 9\, 1920 Martigny
CATEGORIES:Saison 2024/25
END:VEVENT
BEGIN:VEVENT
DTSTAMP:20260424T023907Z
DTSTART;TZID=Europe/Berlin:20250207T190000
DTEND;TZID=Europe/Berlin:20250207T220000
SUMMARY:ME L2 Gr 1\, Tours 3&4 Sion vs Vevey III (0)
UID:75d39dc9-93fd-4d67-b8c4-5fcec995c111
STATUS:CONFIRMED
LAST-MODIFIED:20250210T162336Z
DESCRIPTION:2ème ligue Hommes Groupe 1\, Tours 3&4\nBegegnungs-Nr: 0\nHeim: Sion\nGast: Vevey III\n\nAdresse: Rue du Chanoine-Berchtold 17\, 1950 Sion\n
LOCATION:Rue du Chanoine-Berchtold 17\, 1950 Sion
CATEGORIES:Saison 2024/25
END:VEVENT
BEGIN:VEVENT
DTSTAMP:20260424T023907Z
DTSTART;TZID=Europe/Berlin:20250219T194500
DTEND;TZID=Europe/Berlin:20250219T224500
SUMMARY:ME L2 Gr 1\, Tours 3&4 Sierre III vs Vevey III (0)
UID:5f1e8bcf-b98c-4ca2-8733-a308e86412e6
STATUS:CONFIRMED
LAST-MODIFIED:20250219T231023Z
DESCRIPTION:2ème ligue Hommes Groupe 1\, Tours 3&4\nBegegnungs-Nr: 0\nHeim: Sierre III\nGast: Vevey III\n\nAdresse: Rte des Liddes 6\, 3960 Sierre\n
LOCATION:Rte des Liddes 6\, 3960 Sierre
CATEGORIES:Saison 2024/25
END:VEVENT
BEGIN:VEVENT
DTSTAMP:20260424T023907Z
DTSTART;TZID=Europe/Berlin:20250124T200000
DTEND;TZID=Europe/Berlin:20250124T230000
SUMMARY:ME L2 Gr 1\, Tours 3&4 Grône vs Vevey III (0)
UID:5048757a-a6b3-4dd6-80e6-7cebc1b8d4d0
STATUS:CONFIRMED
LAST-MODIFIED:20250127T012007Z
DESCRIPTION:2ème ligue Hommes Groupe 1\, Tours 3&4\nBegegnungs-Nr: 0\nHeim: Grône\nGast: Vevey III\n\nAdresse:  Rue Centrale\,  \, Rue de la Piscine\, \, 3979 Grône\n
LOCATION: Rue Centrale\,  \, Rue de la Piscine\, \, 3979 Grône
CATEGORIES:Saison 2024/25
END:VEVENT
END:VCALENDAR
