BEGIN:VCALENDAR
PRODID:-//nuDatenautomaten//framework iCal4j //DE
VERSION:2.0
CALSCALE:GREGORIAN
BEGIN:VTIMEZONE
TZID:Europe/Berlin
LAST-MODIFIED:20260306T231828Z
TZURL:https://www.tzurl.org/zoneinfo/Europe/Berlin
X-LIC-LOCATION:Europe/Berlin
X-PROLEPTIC-TZNAME:LMT
BEGIN:STANDARD
TZNAME:CET
TZOFFSETFROM:+005328
TZOFFSETTO:+0100
DTSTART:18930401T000000
END:STANDARD
BEGIN:DAYLIGHT
TZNAME:CEST
TZOFFSETFROM:+0100
TZOFFSETTO:+0200
DTSTART:19160430T230000
RDATE:19400401T020000
RDATE:19430329T020000
RDATE:19460414T020000
RDATE:19470406T030000
RDATE:19480418T020000
RDATE:19490410T020000
RDATE:19800406T020000
END:DAYLIGHT
BEGIN:STANDARD
TZNAME:CET
TZOFFSETFROM:+0200
TZOFFSETTO:+0100
DTSTART:19161001T010000
RDATE:19421102T030000
RDATE:19431004T030000
RDATE:19441002T030000
RDATE:19451118T030000
RDATE:19461007T030000
END:STANDARD
BEGIN:DAYLIGHT
TZNAME:CEST
TZOFFSETFROM:+0100
TZOFFSETTO:+0200
DTSTART:19170416T020000
RRULE:FREQ=YEARLY;UNTIL=19180415T010000Z;BYMONTH=4;BYDAY=3MO
END:DAYLIGHT
BEGIN:STANDARD
TZNAME:CET
TZOFFSETFROM:+0200
TZOFFSETTO:+0100
DTSTART:19170917T030000
RRULE:FREQ=YEARLY;UNTIL=19180916T010000Z;BYMONTH=9;BYDAY=3MO
END:STANDARD
BEGIN:DAYLIGHT
TZNAME:CEST
TZOFFSETFROM:+0100
TZOFFSETTO:+0200
DTSTART:19440403T020000
RRULE:FREQ=YEARLY;UNTIL=19450402T010000Z;BYMONTH=4;BYDAY=1MO
END:DAYLIGHT
BEGIN:DAYLIGHT
TZNAME:CEMT
TZOFFSETFROM:+0200
TZOFFSETTO:+0300
DTSTART:19450524T020000
RDATE:19470511T030000
END:DAYLIGHT
BEGIN:DAYLIGHT
TZNAME:CEST
TZOFFSETFROM:+0300
TZOFFSETTO:+0200
DTSTART:19450924T030000
RDATE:19470629T030000
END:DAYLIGHT
BEGIN:STANDARD
TZNAME:CET
TZOFFSETFROM:+0100
TZOFFSETTO:+0100
DTSTART:19460101T000000
RDATE:19800101T000000
END:STANDARD
BEGIN:STANDARD
TZNAME:CET
TZOFFSETFROM:+0200
TZOFFSETTO:+0100
DTSTART:19471005T030000
RRULE:FREQ=YEARLY;UNTIL=19491002T010000Z;BYMONTH=10;BYDAY=1SU
END:STANDARD
BEGIN:STANDARD
TZNAME:CET
TZOFFSETFROM:+0200
TZOFFSETTO:+0100
DTSTART:19800928T030000
RRULE:FREQ=YEARLY;UNTIL=19950924T010000Z;BYMONTH=9;BYDAY=-1SU
END:STANDARD
BEGIN:DAYLIGHT
TZNAME:CEST
TZOFFSETFROM:+0100
TZOFFSETTO:+0200
DTSTART:19810329T020000
RRULE:FREQ=YEARLY;BYMONTH=3;BYDAY=-1SU
END:DAYLIGHT
BEGIN:STANDARD
TZNAME:CET
TZOFFSETFROM:+0200
TZOFFSETTO:+0100
DTSTART:19961027T030000
RRULE:FREQ=YEARLY;BYMONTH=10;BYDAY=-1SU
END:STANDARD
END:VTIMEZONE
BEGIN:VEVENT
DTSTAMP:20260424T062157Z
DTSTART;TZID=Europe/Berlin:20241011T200000
DTEND;TZID=Europe/Berlin:20241011T230000
SUMMARY:ME L6 Gr 2\, Tours 1&2 Grône III vs Martigny VI (0)
UID:06c6078c-e48a-431b-b347-02772e502b87
STATUS:CONFIRMED
LAST-MODIFIED:20241012T202703Z
DESCRIPTION:6ème ligue Hommes Groupe 2\, Tours 1&2\nBegegnungs-Nr: 0\nHeim: Grône III\nGast: Martigny VI\n\nAdresse:  Rue Centrale\,  \, Rue de la Piscine\, \, 3979 Grône\n
LOCATION: Rue Centrale\,  \, Rue de la Piscine\, \, 3979 Grône
CATEGORIES:Saison 2024/25
END:VEVENT
BEGIN:VEVENT
DTSTAMP:20260424T062157Z
DTSTART;TZID=Europe/Berlin:20241002T200000
DTEND;TZID=Europe/Berlin:20241002T230000
SUMMARY:ME L6 Gr 2\, Tours 1&2 Grône III vs Martigny V (0)
UID:0eb5f265-6396-469a-a221-8d6c49b9d8de
STATUS:CONFIRMED
LAST-MODIFIED:20241007T064351Z
DESCRIPTION:6ème ligue Hommes Groupe 2\, Tours 1&2\nBegegnungs-Nr: 0\nHeim: Grône III\nGast: Martigny V\n\nAdresse:  Rue Centrale\,  \, Rue de la Piscine\, \, 3979 Grône\n
LOCATION: Rue Centrale\,  \, Rue de la Piscine\, \, 3979 Grône
CATEGORIES:Saison 2024/25
END:VEVENT
BEGIN:VEVENT
DTSTAMP:20260424T062157Z
DTSTART;TZID=Europe/Berlin:20241122T200000
DTEND;TZID=Europe/Berlin:20241122T230000
SUMMARY:ME L6 Gr 2\, Tours 1&2 Grône III vs Grône IV (0)
UID:2de55ea2-5c5c-41ce-ac21-f1978697e1b2
STATUS:CONFIRMED
LAST-MODIFIED:20241126T112845Z
DESCRIPTION:6ème ligue Hommes Groupe 2\, Tours 1&2\nBegegnungs-Nr: 0\nHeim: Grône III\nGast: Grône IV\n\nAdresse:  Rue Centrale\,  \, Rue de la Piscine\, \, 3979 Grône\n
LOCATION: Rue Centrale\,  \, Rue de la Piscine\, \, 3979 Grône
CATEGORIES:Saison 2024/25
END:VEVENT
BEGIN:VEVENT
DTSTAMP:20260424T062157Z
DTSTART;TZID=Europe/Berlin:20241108T200000
DTEND;TZID=Europe/Berlin:20241108T230000
SUMMARY:ME L6 Gr 2\, Tours 1&2 Grône III vs Sion V (0)
UID:296caa40-cd53-441e-b868-c91e1058bd13
STATUS:CONFIRMED
LAST-MODIFIED:20241109T080122Z
DESCRIPTION:6ème ligue Hommes Groupe 2\, Tours 1&2\nBegegnungs-Nr: 0\nHeim: Grône III\nGast: Sion V\n\nAdresse:  Rue Centrale\,  \, Rue de la Piscine\, \, 3979 Grône\n
LOCATION: Rue Centrale\,  \, Rue de la Piscine\, \, 3979 Grône
CATEGORIES:Saison 2024/25
END:VEVENT
BEGIN:VEVENT
DTSTAMP:20260424T062157Z
DTSTART;TZID=Europe/Berlin:20250328T200000
DTEND;TZID=Europe/Berlin:20250328T230000
SUMMARY:ME L6 Gr 2\, Tours 3&4 Grône III vs Dorénaz (0)
UID:4adcaad4-2559-4689-8465-daebd135f4a5
STATUS:CONFIRMED
LAST-MODIFIED:20250401T215803Z
DESCRIPTION:6ème ligue Hommes Groupe 2\, Tours 3&4\nBegegnungs-Nr: 0\nHeim: Grône III\nGast: Dorénaz\n\nAdresse:  Rue Centrale\,  \, Rue de la Piscine\, \, 3979 Grône\n
LOCATION: Rue Centrale\,  \, Rue de la Piscine\, \, 3979 Grône
CATEGORIES:Saison 2024/25
END:VEVENT
BEGIN:VEVENT
DTSTAMP:20260424T062157Z
DTSTART;TZID=Europe/Berlin:20250228T200000
DTEND;TZID=Europe/Berlin:20250228T230000
SUMMARY:ME L6 Gr 2\, Tours 3&4 Grône III vs Sion V (0)
UID:dbfa02ca-eef5-46d5-8c3b-d4db208ab8e6
STATUS:CONFIRMED
LAST-MODIFIED:20250301T120005Z
DESCRIPTION:6ème ligue Hommes Groupe 2\, Tours 3&4\nBegegnungs-Nr: 0\nHeim: Grône III\nGast: Sion V\n\nAdresse:  Rue Centrale\,  \, Rue de la Piscine\, \, 3979 Grône\n
LOCATION: Rue Centrale\,  \, Rue de la Piscine\, \, 3979 Grône
CATEGORIES:Saison 2024/25
END:VEVENT
BEGIN:VEVENT
DTSTAMP:20260424T062157Z
DTSTART;TZID=Europe/Berlin:20250221T200000
DTEND;TZID=Europe/Berlin:20250221T230000
SUMMARY:ME L6 Gr 2\, Tours 3&4 Grône III vs Grône IV (0)
UID:9a934983-adf6-4ca9-a73e-c32db8dfe6da
STATUS:CONFIRMED
LAST-MODIFIED:20250222T180316Z
DESCRIPTION:6ème ligue Hommes Groupe 2\, Tours 3&4\nBegegnungs-Nr: 0\nHeim: Grône III\nGast: Grône IV\n\nAdresse:  Rue Centrale\,  \, Rue de la Piscine\, \, 3979 Grône\n
LOCATION: Rue Centrale\,  \, Rue de la Piscine\, \, 3979 Grône
CATEGORIES:Saison 2024/25
END:VEVENT
BEGIN:VEVENT
DTSTAMP:20260424T062157Z
DTSTART;TZID=Europe/Berlin:20250124T200000
DTEND;TZID=Europe/Berlin:20250124T230000
SUMMARY:ME L6 Gr 2\, Tours 3&4 Grône III vs Martigny VI (0)
UID:44914c31-741e-4cb1-94ea-9d3de2cea531
STATUS:CONFIRMED
LAST-MODIFIED:20250127T011725Z
DESCRIPTION:6ème ligue Hommes Groupe 2\, Tours 3&4\nBegegnungs-Nr: 0\nHeim: Grône III\nGast: Martigny VI\n\nAdresse:  Rue Centrale\,  \, Rue de la Piscine\, \, 3979 Grône\n
LOCATION: Rue Centrale\,  \, Rue de la Piscine\, \, 3979 Grône
CATEGORIES:Saison 2024/25
END:VEVENT
BEGIN:VEVENT
DTSTAMP:20260424T062157Z
DTSTART;TZID=Europe/Berlin:20240920T200000
DTEND;TZID=Europe/Berlin:20240920T230000
SUMMARY:ME L6 Gr 2\, Tours 1&2 Grône IV vs Grône III (0)
UID:f8397d28-7362-48f5-8ce3-56458205a974
STATUS:CONFIRMED
LAST-MODIFIED:20240922T173538Z
DESCRIPTION:6ème ligue Hommes Groupe 2\, Tours 1&2\nBegegnungs-Nr: 0\nHeim: Grône IV\nGast: Grône III\n\nAdresse:  Rue Centrale\,  \, Rue de la Piscine\, \, 3979 Grône\n
LOCATION: Rue Centrale\,  \, Rue de la Piscine\, \, 3979 Grône
CATEGORIES:Saison 2024/25
END:VEVENT
BEGIN:VEVENT
DTSTAMP:20260424T062157Z
DTSTART;TZID=Europe/Berlin:20240912T193000
DTEND;TZID=Europe/Berlin:20240912T223000
SUMMARY:ME L6 Gr 2\, Tours 1&2 Sion V vs Grône III (0)
UID:da94d7be-9544-4306-9a3b-efc8c4aadb4e
STATUS:CONFIRMED
LAST-MODIFIED:20240913T172725Z
DESCRIPTION:6ème ligue Hommes Groupe 2\, Tours 1&2\nBegegnungs-Nr: 0\nHeim: Sion V\nGast: Grône III\n\nAdresse: Rue du Chanoine-Berchtold 17\, 1950 Sion\n
LOCATION:Rue du Chanoine-Berchtold 17\, 1950 Sion
CATEGORIES:Saison 2024/25
END:VEVENT
BEGIN:VEVENT
DTSTAMP:20260424T062157Z
DTSTART;TZID=Europe/Berlin:20241213T193000
DTEND;TZID=Europe/Berlin:20241213T223000
SUMMARY:ME L6 Gr 2\, Tours 1&2 Martigny VI vs Grône III (0)
UID:c617d9e3-bff8-4b6a-8dd6-59176b93b261
STATUS:CONFIRMED
LAST-MODIFIED:20250211T232603Z
DESCRIPTION:6ème ligue Hommes Groupe 2\, Tours 1&2\nBegegnungs-Nr: 0\nHeim: Martigny VI\nGast: Grône III\n\nAdresse: Rue des Ecoles 9\, 1920 Martigny\n
LOCATION:Rue des Ecoles 9\, 1920 Martigny
CATEGORIES:Saison 2024/25
END:VEVENT
BEGIN:VEVENT
DTSTAMP:20260424T062157Z
DTSTART;TZID=Europe/Berlin:20241129T193000
DTEND;TZID=Europe/Berlin:20241129T223000
SUMMARY:ME L6 Gr 2\, Tours 1&2 Martigny V vs Grône III (0)
UID:3d3d7ca4-2ff8-4d57-82d7-f69b2465fcb4
STATUS:CONFIRMED
LAST-MODIFIED:20241130T173210Z
DESCRIPTION:6ème ligue Hommes Groupe 2\, Tours 1&2\nBegegnungs-Nr: 0\nHeim: Martigny V\nGast: Grône III\n\nAdresse: Rue des Ecoles 9\, 1920 Martigny\n
LOCATION:Rue des Ecoles 9\, 1920 Martigny
CATEGORIES:Saison 2024/25
END:VEVENT
BEGIN:VEVENT
DTSTAMP:20260424T062157Z
DTSTART;TZID=Europe/Berlin:20250508T193000
DTEND;TZID=Europe/Berlin:20250508T223000
SUMMARY:ME L6 Gr 2\, Tours 3&4 Sion V vs Grône III (0)
UID:5d684b2d-a6aa-4456-8a0b-3e353a727dd7
STATUS:CONFIRMED
LAST-MODIFIED:20250508T232055Z
DESCRIPTION:6ème ligue Hommes Groupe 2\, Tours 3&4\nBegegnungs-Nr: 0\nHeim: Sion V\nGast: Grône III\n\nAdresse: Rue du Chanoine-Berchtold 17\, 1950 Sion\n
LOCATION:Rue du Chanoine-Berchtold 17\, 1950 Sion
CATEGORIES:Saison 2024/25
END:VEVENT
BEGIN:VEVENT
DTSTAMP:20260424T062157Z
DTSTART;TZID=Europe/Berlin:20250430T200000
DTEND;TZID=Europe/Berlin:20250430T230000
SUMMARY:ME L6 Gr 2\, Tours 3&4 Grône IV vs Grône III (0)
UID:8747d03f-cccc-4c85-8c48-de31050b37d8
STATUS:CONFIRMED
LAST-MODIFIED:20250501T115206Z
DESCRIPTION:6ème ligue Hommes Groupe 2\, Tours 3&4\nBegegnungs-Nr: 0\nHeim: Grône IV\nGast: Grône III\n\nAdresse:  Rue Centrale\,  \, Rue de la Piscine\, \, 3979 Grône\n
LOCATION: Rue Centrale\,  \, Rue de la Piscine\, \, 3979 Grône
CATEGORIES:Saison 2024/25
END:VEVENT
BEGIN:VEVENT
DTSTAMP:20260424T062157Z
DTSTART;TZID=Europe/Berlin:20250314T193000
DTEND;TZID=Europe/Berlin:20250314T223000
SUMMARY:ME L6 Gr 2\, Tours 3&4 Martigny VI vs Grône III (0)
UID:f39b4f62-9cf5-481f-af26-18205870d374
STATUS:CONFIRMED
LAST-MODIFIED:20250314T225441Z
DESCRIPTION:6ème ligue Hommes Groupe 2\, Tours 3&4\nBegegnungs-Nr: 0\nHeim: Martigny VI\nGast: Grône III\n\nAdresse: Rue des Ecoles 9\, 1920 Martigny\n
LOCATION:Rue des Ecoles 9\, 1920 Martigny
CATEGORIES:Saison 2024/25
END:VEVENT
BEGIN:VEVENT
DTSTAMP:20260424T062157Z
DTSTART;TZID=Europe/Berlin:20250130T200000
DTEND;TZID=Europe/Berlin:20250130T230000
SUMMARY:ME L6 Gr 2\, Tours 3&4 Dorénaz vs Grône III (0)
UID:21c2b879-bd01-4473-bcba-9db728c6aa73
STATUS:CONFIRMED
LAST-MODIFIED:20250205T102830Z
DESCRIPTION:6ème ligue Hommes Groupe 2\, Tours 3&4\nBegegnungs-Nr: 0\nHeim: Dorénaz\nGast: Grône III\n\nAdresse: Place du téléphérique\, 1905 Dorénaz\n
LOCATION:Place du téléphérique\, 1905 Dorénaz
CATEGORIES:Saison 2024/25
END:VEVENT
END:VCALENDAR
