BEGIN:VCALENDAR
PRODID:-//nuDatenautomaten//framework iCal4j //DE
VERSION:2.0
CALSCALE:GREGORIAN
BEGIN:VTIMEZONE
TZID:Europe/Berlin
LAST-MODIFIED:20260306T231828Z
TZURL:https://www.tzurl.org/zoneinfo/Europe/Berlin
X-LIC-LOCATION:Europe/Berlin
X-PROLEPTIC-TZNAME:LMT
BEGIN:STANDARD
TZNAME:CET
TZOFFSETFROM:+005328
TZOFFSETTO:+0100
DTSTART:18930401T000000
END:STANDARD
BEGIN:DAYLIGHT
TZNAME:CEST
TZOFFSETFROM:+0100
TZOFFSETTO:+0200
DTSTART:19160430T230000
RDATE:19400401T020000
RDATE:19430329T020000
RDATE:19460414T020000
RDATE:19470406T030000
RDATE:19480418T020000
RDATE:19490410T020000
RDATE:19800406T020000
END:DAYLIGHT
BEGIN:STANDARD
TZNAME:CET
TZOFFSETFROM:+0200
TZOFFSETTO:+0100
DTSTART:19161001T010000
RDATE:19421102T030000
RDATE:19431004T030000
RDATE:19441002T030000
RDATE:19451118T030000
RDATE:19461007T030000
END:STANDARD
BEGIN:DAYLIGHT
TZNAME:CEST
TZOFFSETFROM:+0100
TZOFFSETTO:+0200
DTSTART:19170416T020000
RRULE:FREQ=YEARLY;UNTIL=19180415T010000Z;BYMONTH=4;BYDAY=3MO
END:DAYLIGHT
BEGIN:STANDARD
TZNAME:CET
TZOFFSETFROM:+0200
TZOFFSETTO:+0100
DTSTART:19170917T030000
RRULE:FREQ=YEARLY;UNTIL=19180916T010000Z;BYMONTH=9;BYDAY=3MO
END:STANDARD
BEGIN:DAYLIGHT
TZNAME:CEST
TZOFFSETFROM:+0100
TZOFFSETTO:+0200
DTSTART:19440403T020000
RRULE:FREQ=YEARLY;UNTIL=19450402T010000Z;BYMONTH=4;BYDAY=1MO
END:DAYLIGHT
BEGIN:DAYLIGHT
TZNAME:CEMT
TZOFFSETFROM:+0200
TZOFFSETTO:+0300
DTSTART:19450524T020000
RDATE:19470511T030000
END:DAYLIGHT
BEGIN:DAYLIGHT
TZNAME:CEST
TZOFFSETFROM:+0300
TZOFFSETTO:+0200
DTSTART:19450924T030000
RDATE:19470629T030000
END:DAYLIGHT
BEGIN:STANDARD
TZNAME:CET
TZOFFSETFROM:+0100
TZOFFSETTO:+0100
DTSTART:19460101T000000
RDATE:19800101T000000
END:STANDARD
BEGIN:STANDARD
TZNAME:CET
TZOFFSETFROM:+0200
TZOFFSETTO:+0100
DTSTART:19471005T030000
RRULE:FREQ=YEARLY;UNTIL=19491002T010000Z;BYMONTH=10;BYDAY=1SU
END:STANDARD
BEGIN:STANDARD
TZNAME:CET
TZOFFSETFROM:+0200
TZOFFSETTO:+0100
DTSTART:19800928T030000
RRULE:FREQ=YEARLY;UNTIL=19950924T010000Z;BYMONTH=9;BYDAY=-1SU
END:STANDARD
BEGIN:DAYLIGHT
TZNAME:CEST
TZOFFSETFROM:+0100
TZOFFSETTO:+0200
DTSTART:19810329T020000
RRULE:FREQ=YEARLY;BYMONTH=3;BYDAY=-1SU
END:DAYLIGHT
BEGIN:STANDARD
TZNAME:CET
TZOFFSETFROM:+0200
TZOFFSETTO:+0100
DTSTART:19961027T030000
RRULE:FREQ=YEARLY;BYMONTH=10;BYDAY=-1SU
END:STANDARD
END:VTIMEZONE
BEGIN:VEVENT
DTSTAMP:20260424T082635Z
DTSTART;TZID=Europe/Berlin:20240831T160000
DTEND;TZID=Europe/Berlin:20240831T190000
SUMMARY:JUG\, 3.Liga\, Gr.7\, Vorrunde Gossau St.Gallen vs Horn (6)
UID:8db5b6d5-3530-456c-8227-2b71410dc868
STATUS:CONFIRMED
LAST-MODIFIED:20240904T133533Z
DESCRIPTION:Jugend\, 3. Liga\,Gruppe 7\, Vorrunde\nBegegnungs-Nr: 6\nHeim: Gossau St.Gallen\nGast: Horn\n\nAdresse: Falkenstrasse 21\, 9200 Gossau\n
LOCATION:Falkenstrasse 21\, 9200 Gossau
CATEGORIES:Saison 2024/25
END:VEVENT
BEGIN:VEVENT
DTSTAMP:20260424T082635Z
DTSTART;TZID=Europe/Berlin:20241116T160000
DTEND;TZID=Europe/Berlin:20241116T190000
SUMMARY:JUG\, 3.Liga\, Gr.6\, Zw-Runde Gossau St.Gallen vs Horgen II (6)
UID:9f8b4cfc-0ca6-445b-b8f2-6aac9f0fa05a
STATUS:CONFIRMED
LAST-MODIFIED:20241122T153419Z
DESCRIPTION:Jugend\, 3. Liga\, Gruppe 6\, Zw-Runde\nBegegnungs-Nr: 6\nHeim: Gossau St.Gallen\nGast: Horgen II\n
LOCATION:
CATEGORIES:Saison 2024/25
END:VEVENT
BEGIN:VEVENT
DTSTAMP:20260424T082635Z
DTSTART;TZID=Europe/Berlin:20250329T160000
DTEND;TZID=Europe/Berlin:20250329T190000
SUMMARY:JUG\, 3.Liga\, Gr.6\, Final Gossau St.Gallen vs Zürich-Affoltern II (5)
UID:9e149c72-7e57-4788-97b3-06bce1638fce
STATUS:CONFIRMED
LAST-MODIFIED:20250404T085904Z
DESCRIPTION:Jugend\, 3. Liga\, Gruppe 6\, Final\nBegegnungs-Nr: 5\nHeim: Gossau St.Gallen\nGast: Zürich-Affoltern II\n\nAdresse: Falkenstrasse 21\, 9200 Gossau\n
LOCATION:Falkenstrasse 21\, 9200 Gossau
CATEGORIES:Saison 2024/25
END:VEVENT
BEGIN:VEVENT
DTSTAMP:20260424T082635Z
DTSTART;TZID=Europe/Berlin:20250329T130000
DTEND;TZID=Europe/Berlin:20250329T160000
SUMMARY:JUG\, 3.Liga\, Gr.6\, Final Gossau St.Gallen vs Bronschhofen (2)
UID:0c7aa4f9-2e1b-47ba-b7bf-c23648e89c07
STATUS:CONFIRMED
LAST-MODIFIED:20250408T155221Z
DESCRIPTION:Jugend\, 3. Liga\, Gruppe 6\, Final\nBegegnungs-Nr: 2\nHeim: Gossau St.Gallen\nGast: Bronschhofen\n\nAdresse: Falkenstrasse 21\, 9200 Gossau\n
LOCATION:Falkenstrasse 21\, 9200 Gossau
CATEGORIES:Saison 2024/25
END:VEVENT
BEGIN:VEVENT
DTSTAMP:20260424T082635Z
DTSTART;TZID=Europe/Berlin:20240831T143000
DTEND;TZID=Europe/Berlin:20240831T173000
SUMMARY:JUG\, 3.Liga\, Gr.7\, Vorrunde Romanshorn vs Gossau St.Gallen (3)
UID:ccc7e663-e64c-464b-9656-9c1b8ee86f72
STATUS:CONFIRMED
LAST-MODIFIED:20240904T133503Z
DESCRIPTION:Jugend\, 3. Liga\,Gruppe 7\, Vorrunde\nBegegnungs-Nr: 3\nHeim: Romanshorn\nGast: Gossau St.Gallen\n\nAdresse: Florastrasse\, 8590 Romanshorn\n
LOCATION:Florastrasse\, 8590 Romanshorn
CATEGORIES:Saison 2024/25
END:VEVENT
BEGIN:VEVENT
DTSTAMP:20260424T082635Z
DTSTART;TZID=Europe/Berlin:20240831T130000
DTEND;TZID=Europe/Berlin:20240831T160000
SUMMARY:JUG\, 3.Liga\, Gr.7\, Vorrunde St. Gallen IV vs Gossau St.Gallen (2)
UID:321c05a4-9e71-4c89-9d09-67f69ec0b94c
STATUS:CONFIRMED
LAST-MODIFIED:20240904T133454Z
DESCRIPTION:Jugend\, 3. Liga\,Gruppe 7\, Vorrunde\nBegegnungs-Nr: 2\nHeim: St. Gallen IV\nGast: Gossau St.Gallen\n\nAdresse: Zilstrasse 61\, 9016 St.Gallen\n
LOCATION:Zilstrasse 61\, 9016 St.Gallen
CATEGORIES:Saison 2024/25
END:VEVENT
BEGIN:VEVENT
DTSTAMP:20260424T082635Z
DTSTART;TZID=Europe/Berlin:20241116T143000
DTEND;TZID=Europe/Berlin:20241116T173000
SUMMARY:JUG\, 3.Liga\, Gr.6\, Zw-Runde Zürich-Affoltern II vs Gossau St.Gallen (3)
UID:dc99a8e3-09f4-446f-ac55-6ef4ab4f646e
STATUS:CONFIRMED
LAST-MODIFIED:20241126T095330Z
DESCRIPTION:Jugend\, 3. Liga\, Gruppe 6\, Zw-Runde\nBegegnungs-Nr: 3\nHeim: Zürich-Affoltern II\nGast: Gossau St.Gallen\n
LOCATION:
CATEGORIES:Saison 2024/25
END:VEVENT
BEGIN:VEVENT
DTSTAMP:20260424T082635Z
DTSTART;TZID=Europe/Berlin:20241116T130000
DTEND;TZID=Europe/Berlin:20241116T160000
SUMMARY:JUG\, 3.Liga\, Gr.6\, Zw-Runde TSV Zumikon vs Gossau St.Gallen (2)
UID:b07674ed-7d6d-42fc-a9e3-5591aa19f56a
STATUS:CONFIRMED
LAST-MODIFIED:20241122T153338Z
DESCRIPTION:Jugend\, 3. Liga\, Gruppe 6\, Zw-Runde\nBegegnungs-Nr: 2\nHeim: TSV Zumikon\nGast: Gossau St.Gallen\n
LOCATION:
CATEGORIES:Saison 2024/25
END:VEVENT
BEGIN:VEVENT
DTSTAMP:20260424T082635Z
DTSTART;TZID=Europe/Berlin:20250329T143000
DTEND;TZID=Europe/Berlin:20250329T173000
SUMMARY:JUG\, 3.Liga\, Gr.6\, Final Horgen III vs Gossau St.Gallen (4)
UID:1bb852c5-6b7c-4c57-a42d-a2568f8cc5fa
STATUS:CONFIRMED
LAST-MODIFIED:20250404T085855Z
DESCRIPTION:Jugend\, 3. Liga\, Gruppe 6\, Final\nBegegnungs-Nr: 4\nHeim: Horgen III\nGast: Gossau St.Gallen\n\nAdresse: Seestrasse 110\, 8810 Horgen\n
LOCATION:Seestrasse 110\, 8810 Horgen
CATEGORIES:Saison 2024/25
END:VEVENT
END:VCALENDAR
