BEGIN:VCALENDAR
PRODID:-//nuDatenautomaten//framework iCal4j //DE
VERSION:2.0
CALSCALE:GREGORIAN
BEGIN:VTIMEZONE
TZID:Europe/Berlin
LAST-MODIFIED:20260306T231828Z
TZURL:https://www.tzurl.org/zoneinfo/Europe/Berlin
X-LIC-LOCATION:Europe/Berlin
X-PROLEPTIC-TZNAME:LMT
BEGIN:STANDARD
TZNAME:CET
TZOFFSETFROM:+005328
TZOFFSETTO:+0100
DTSTART:18930401T000000
END:STANDARD
BEGIN:DAYLIGHT
TZNAME:CEST
TZOFFSETFROM:+0100
TZOFFSETTO:+0200
DTSTART:19160430T230000
RDATE:19400401T020000
RDATE:19430329T020000
RDATE:19460414T020000
RDATE:19470406T030000
RDATE:19480418T020000
RDATE:19490410T020000
RDATE:19800406T020000
END:DAYLIGHT
BEGIN:STANDARD
TZNAME:CET
TZOFFSETFROM:+0200
TZOFFSETTO:+0100
DTSTART:19161001T010000
RDATE:19421102T030000
RDATE:19431004T030000
RDATE:19441002T030000
RDATE:19451118T030000
RDATE:19461007T030000
END:STANDARD
BEGIN:DAYLIGHT
TZNAME:CEST
TZOFFSETFROM:+0100
TZOFFSETTO:+0200
DTSTART:19170416T020000
RRULE:FREQ=YEARLY;UNTIL=19180415T010000Z;BYMONTH=4;BYDAY=3MO
END:DAYLIGHT
BEGIN:STANDARD
TZNAME:CET
TZOFFSETFROM:+0200
TZOFFSETTO:+0100
DTSTART:19170917T030000
RRULE:FREQ=YEARLY;UNTIL=19180916T010000Z;BYMONTH=9;BYDAY=3MO
END:STANDARD
BEGIN:DAYLIGHT
TZNAME:CEST
TZOFFSETFROM:+0100
TZOFFSETTO:+0200
DTSTART:19440403T020000
RRULE:FREQ=YEARLY;UNTIL=19450402T010000Z;BYMONTH=4;BYDAY=1MO
END:DAYLIGHT
BEGIN:DAYLIGHT
TZNAME:CEMT
TZOFFSETFROM:+0200
TZOFFSETTO:+0300
DTSTART:19450524T020000
RDATE:19470511T030000
END:DAYLIGHT
BEGIN:DAYLIGHT
TZNAME:CEST
TZOFFSETFROM:+0300
TZOFFSETTO:+0200
DTSTART:19450924T030000
RDATE:19470629T030000
END:DAYLIGHT
BEGIN:STANDARD
TZNAME:CET
TZOFFSETFROM:+0100
TZOFFSETTO:+0100
DTSTART:19460101T000000
RDATE:19800101T000000
END:STANDARD
BEGIN:STANDARD
TZNAME:CET
TZOFFSETFROM:+0200
TZOFFSETTO:+0100
DTSTART:19471005T030000
RRULE:FREQ=YEARLY;UNTIL=19491002T010000Z;BYMONTH=10;BYDAY=1SU
END:STANDARD
BEGIN:STANDARD
TZNAME:CET
TZOFFSETFROM:+0200
TZOFFSETTO:+0100
DTSTART:19800928T030000
RRULE:FREQ=YEARLY;UNTIL=19950924T010000Z;BYMONTH=9;BYDAY=-1SU
END:STANDARD
BEGIN:DAYLIGHT
TZNAME:CEST
TZOFFSETFROM:+0100
TZOFFSETTO:+0200
DTSTART:19810329T020000
RRULE:FREQ=YEARLY;BYMONTH=3;BYDAY=-1SU
END:DAYLIGHT
BEGIN:STANDARD
TZNAME:CET
TZOFFSETFROM:+0200
TZOFFSETTO:+0100
DTSTART:19961027T030000
RRULE:FREQ=YEARLY;BYMONTH=10;BYDAY=-1SU
END:STANDARD
END:VTIMEZONE
BEGIN:VEVENT
DTSTAMP:20260424T022713Z
DTSTART;TZID=Europe/Berlin:20241204T194500
DTEND;TZID=Europe/Berlin:20241204T224500
SUMMARY:Ligue 3 Gr.2 Ph.A UGS-Chênois VII vs Bernex III (29)
UID:92480be1-38c4-456c-b95b-54621600918a
STATUS:CONFIRMED
LAST-MODIFIED:20241205T085829Z
DESCRIPTION:3ème ligue Hommes Gr.2 Phase A\nBegegnungs-Nr: 29\nHeim: UGS-Chênois VII\nGast: Bernex III\n
LOCATION:
CATEGORIES:Saison 2024/25
END:VEVENT
BEGIN:VEVENT
DTSTAMP:20260424T022713Z
DTSTART;TZID=Europe/Berlin:20241120T194500
DTEND;TZID=Europe/Berlin:20241120T224500
SUMMARY:Ligue 3 Gr.2 Ph.A UGS-Chênois VII vs Onex II (24)
UID:516a1c84-561b-41d8-b33f-42eb93fd8f49
STATUS:CONFIRMED
LAST-MODIFIED:20241121T111723Z
DESCRIPTION:3ème ligue Hommes Gr.2 Phase A\nBegegnungs-Nr: 24\nHeim: UGS-Chênois VII\nGast: Onex II\n
LOCATION:
CATEGORIES:Saison 2024/25
END:VEVENT
BEGIN:VEVENT
DTSTAMP:20260424T022713Z
DTSTART;TZID=Europe/Berlin:20241030T194500
DTEND;TZID=Europe/Berlin:20241030T224500
SUMMARY:Ligue 3 Gr.2 Ph.A UGS-Chênois VII vs Carouge IV (16)
UID:b8150987-35da-44d8-a2cd-ae317268ae8a
STATUS:CONFIRMED
LAST-MODIFIED:20241031T090047Z
DESCRIPTION:3ème ligue Hommes Gr.2 Phase A\nBegegnungs-Nr: 16\nHeim: UGS-Chênois VII\nGast: Carouge IV\n
LOCATION:
CATEGORIES:Saison 2024/25
END:VEVENT
BEGIN:VEVENT
DTSTAMP:20260424T022713Z
DTSTART;TZID=Europe/Berlin:20241009T194500
DTEND;TZID=Europe/Berlin:20241009T224500
SUMMARY:Ligue 3 Gr.2 Ph.A UGS-Chênois VII vs Veyrier (11)
UID:64d22318-a1f0-49ff-bcc4-0965f00b1b3a
STATUS:CONFIRMED
LAST-MODIFIED:20241010T075103Z
DESCRIPTION:3ème ligue Hommes Gr.2 Phase A\nBegegnungs-Nr: 11\nHeim: UGS-Chênois VII\nGast: Veyrier\n
LOCATION:
CATEGORIES:Saison 2024/25
END:VEVENT
BEGIN:VEVENT
DTSTAMP:20260424T022713Z
DTSTART;TZID=Europe/Berlin:20240918T194500
DTEND;TZID=Europe/Berlin:20240918T224500
SUMMARY:Ligue 3 Gr.2 Ph.A UGS-Chênois VII vs Meyrin IV (5)
UID:3eb5d6f9-4d45-4a93-bcca-1a4f4c17d2c2
STATUS:CONFIRMED
LAST-MODIFIED:20240919T091304Z
DESCRIPTION:3ème ligue Hommes Gr.2 Phase A\nBegegnungs-Nr: 5\nHeim: UGS-Chênois VII\nGast: Meyrin IV\n
LOCATION:
CATEGORIES:Saison 2024/25
END:VEVENT
BEGIN:VEVENT
DTSTAMP:20260424T022713Z
DTSTART;TZID=Europe/Berlin:20250416T194500
DTEND;TZID=Europe/Berlin:20250416T224500
SUMMARY:Ligue 3 Gr.3 Ph.B UGS-Chênois VII vs Carouge V (30)
UID:ccb2700e-6337-4d66-b881-68a4f87670c0
STATUS:CONFIRMED
LAST-MODIFIED:20250417T162738Z
DESCRIPTION:3ème ligue Hommes Gr.3 Phase B\nBegegnungs-Nr: 30\nHeim: UGS-Chênois VII\nGast: Carouge V\n
LOCATION:
CATEGORIES:Saison 2024/25
END:VEVENT
BEGIN:VEVENT
DTSTAMP:20260424T022713Z
DTSTART;TZID=Europe/Berlin:20250409T194500
DTEND;TZID=Europe/Berlin:20250409T224500
SUMMARY:Ligue 3 Gr.3 Ph.B UGS-Chênois VII vs Onex II (27)
UID:4d0757d7-0642-4b7d-ac96-e097df1f9d31
STATUS:CONFIRMED
LAST-MODIFIED:20250410T101428Z
DESCRIPTION:3ème ligue Hommes Gr.3 Phase B\nBegegnungs-Nr: 27\nHeim: UGS-Chênois VII\nGast: Onex II\n
LOCATION:
CATEGORIES:Saison 2024/25
END:VEVENT
BEGIN:VEVENT
DTSTAMP:20260424T022713Z
DTSTART;TZID=Europe/Berlin:20250312T194500
DTEND;TZID=Europe/Berlin:20250312T224500
SUMMARY:Ligue 3 Gr.3 Ph.B UGS-Chênois VII vs ZZ-Lancy VII (18)
UID:5e13a24f-9b26-4585-a6de-ad6e9f1dcc69
STATUS:CONFIRMED
LAST-MODIFIED:20250313T073216Z
DESCRIPTION:3ème ligue Hommes Gr.3 Phase B\nBegegnungs-Nr: 18\nHeim: UGS-Chênois VII\nGast: ZZ-Lancy VII\n
LOCATION:
CATEGORIES:Saison 2024/25
END:VEVENT
BEGIN:VEVENT
DTSTAMP:20260424T022713Z
DTSTART;TZID=Europe/Berlin:20250129T194500
DTEND;TZID=Europe/Berlin:20250129T224500
SUMMARY:Ligue 3 Gr.3 Ph.B UGS-Chênois VII vs Châtelaine V (9)
UID:d021d507-e63d-442b-97fc-05beba808504
STATUS:CONFIRMED
LAST-MODIFIED:20250130T091715Z
DESCRIPTION:3ème ligue Hommes Gr.3 Phase B\nBegegnungs-Nr: 9\nHeim: UGS-Chênois VII\nGast: Châtelaine V\n
LOCATION:
CATEGORIES:Saison 2024/25
END:VEVENT
BEGIN:VEVENT
DTSTAMP:20260424T022713Z
DTSTART;TZID=Europe/Berlin:20250122T194500
DTEND;TZID=Europe/Berlin:20250122T224500
SUMMARY:Ligue 3 Gr.3 Ph.B UGS-Chênois VII vs Rapid-Genève (6)
UID:636641a8-4f71-40b4-bef9-5fef214de05b
STATUS:CONFIRMED
LAST-MODIFIED:20250123T085616Z
DESCRIPTION:3ème ligue Hommes Gr.3 Phase B\nBegegnungs-Nr: 6\nHeim: UGS-Chênois VII\nGast: Rapid-Genève\n
LOCATION:
CATEGORIES:Saison 2024/25
END:VEVENT
BEGIN:VEVENT
DTSTAMP:20260424T022713Z
DTSTART;TZID=Europe/Berlin:20241127T194500
DTEND;TZID=Europe/Berlin:20241127T224500
SUMMARY:Ligue 3 Gr.2 Ph.A Veyrier vs UGS-Chênois VII (26)
UID:f8f3d5a7-6cf4-4981-9825-7b694a44e0e6
STATUS:CONFIRMED
LAST-MODIFIED:20241128T085716Z
DESCRIPTION:3ème ligue Hommes Gr.2 Phase A\nBegegnungs-Nr: 26\nHeim: Veyrier\nGast: UGS-Chênois VII\n
LOCATION:
CATEGORIES:Saison 2024/25
END:VEVENT
BEGIN:VEVENT
DTSTAMP:20260424T022713Z
DTSTART;TZID=Europe/Berlin:20241113T194500
DTEND;TZID=Europe/Berlin:20241113T224500
SUMMARY:Ligue 3 Gr.2 Ph.A Meyrin IV vs UGS-Chênois VII (20)
UID:e55b0032-c209-46c9-9683-fd732e810681
STATUS:CONFIRMED
LAST-MODIFIED:20241114T111937Z
DESCRIPTION:3ème ligue Hommes Gr.2 Phase A\nBegegnungs-Nr: 20\nHeim: Meyrin IV\nGast: UGS-Chênois VII\n
LOCATION:
CATEGORIES:Saison 2024/25
END:VEVENT
BEGIN:VEVENT
DTSTAMP:20260424T022713Z
DTSTART;TZID=Europe/Berlin:20241016T194500
DTEND;TZID=Europe/Berlin:20241016T224500
SUMMARY:Ligue 3 Gr.2 Ph.A Bernex III vs UGS-Chênois VII (14)
UID:47940b37-5a20-4531-9ad0-405486f211de
STATUS:CONFIRMED
LAST-MODIFIED:20241017T103432Z
DESCRIPTION:3ème ligue Hommes Gr.2 Phase A\nBegegnungs-Nr: 14\nHeim: Bernex III\nGast: UGS-Chênois VII\n
LOCATION:
CATEGORIES:Saison 2024/25
END:VEVENT
BEGIN:VEVENT
DTSTAMP:20260424T022713Z
DTSTART;TZID=Europe/Berlin:20240911T194500
DTEND;TZID=Europe/Berlin:20240911T224500
SUMMARY:Ligue 3 Gr.2 Ph.A Carouge IV vs UGS-Chênois VII (1)
UID:11c51ba4-9c2c-4661-9272-7c8013044d0e
STATUS:CONFIRMED
LAST-MODIFIED:20240912T083420Z
DESCRIPTION:3ème ligue Hommes Gr.2 Phase A\nBegegnungs-Nr: 1\nHeim: Carouge IV\nGast: UGS-Chênois VII\n
LOCATION:
CATEGORIES:Saison 2024/25
END:VEVENT
BEGIN:VEVENT
DTSTAMP:20260424T022713Z
DTSTART;TZID=Europe/Berlin:20240925T194500
DTEND;TZID=Europe/Berlin:20240925T224500
SUMMARY:Ligue 3 Gr.2 Ph.A Onex II vs UGS-Chênois VII (9)
UID:785a6f7a-f086-4504-ad7f-32db6946d1fe
STATUS:CONFIRMED
LAST-MODIFIED:20240926T050506Z
DESCRIPTION:3ème ligue Hommes Gr.2 Phase A\nBegegnungs-Nr: 9\nHeim: Onex II\nGast: UGS-Chênois VII\n
LOCATION:
CATEGORIES:Saison 2024/25
END:VEVENT
BEGIN:VEVENT
DTSTAMP:20260424T022713Z
DTSTART;TZID=Europe/Berlin:20250115T201500
DTEND;TZID=Europe/Berlin:20250115T231500
SUMMARY:Ligue 3 Gr.3 Ph.B ZZ-Lancy VII vs UGS-Chênois VII (3)
UID:544478b7-724c-472b-90ca-bfcd676b5405
STATUS:CONFIRMED
LAST-MODIFIED:20250116T091114Z
DESCRIPTION:3ème ligue Hommes Gr.3 Phase B\nBegegnungs-Nr: 3\nHeim: ZZ-Lancy VII\nGast: UGS-Chênois VII\n
LOCATION:
CATEGORIES:Saison 2024/25
END:VEVENT
BEGIN:VEVENT
DTSTAMP:20260424T022713Z
DTSTART;TZID=Europe/Berlin:20250402T194500
DTEND;TZID=Europe/Berlin:20250402T224500
SUMMARY:Ligue 3 Gr.3 Ph.B Châtelaine V vs UGS-Chênois VII (24)
UID:a821b7ad-3ae8-4c06-a4e5-99a0af2a22ef
STATUS:CONFIRMED
LAST-MODIFIED:20250403T080748Z
DESCRIPTION:3ème ligue Hommes Gr.3 Phase B\nBegegnungs-Nr: 24\nHeim: Châtelaine V\nGast: UGS-Chênois VII\n
LOCATION:
CATEGORIES:Saison 2024/25
END:VEVENT
BEGIN:VEVENT
DTSTAMP:20260424T022713Z
DTSTART;TZID=Europe/Berlin:20250319T194500
DTEND;TZID=Europe/Berlin:20250319T224500
SUMMARY:Ligue 3 Gr.3 Ph.B Rapid-Genève vs UGS-Chênois VII (21)
UID:5d13fa7a-1d35-4d81-b881-24b84b4cd7fa
STATUS:CONFIRMED
LAST-MODIFIED:20250320T112130Z
DESCRIPTION:3ème ligue Hommes Gr.3 Phase B\nBegegnungs-Nr: 21\nHeim: Rapid-Genève\nGast: UGS-Chênois VII\n
LOCATION:
CATEGORIES:Saison 2024/25
END:VEVENT
BEGIN:VEVENT
DTSTAMP:20260424T022713Z
DTSTART;TZID=Europe/Berlin:20250219T194500
DTEND;TZID=Europe/Berlin:20250219T224500
SUMMARY:Ligue 3 Gr.3 Ph.B Carouge V vs UGS-Chênois VII (15)
UID:5a59e5e4-ee5e-4b68-a7aa-643200fe1e6c
STATUS:CONFIRMED
LAST-MODIFIED:20250220T102617Z
DESCRIPTION:3ème ligue Hommes Gr.3 Phase B\nBegegnungs-Nr: 15\nHeim: Carouge V\nGast: UGS-Chênois VII\n
LOCATION:
CATEGORIES:Saison 2024/25
END:VEVENT
BEGIN:VEVENT
DTSTAMP:20260424T022713Z
DTSTART;TZID=Europe/Berlin:20250212T194500
DTEND;TZID=Europe/Berlin:20250212T224500
SUMMARY:Ligue 3 Gr.3 Ph.B Onex II vs UGS-Chênois VII (12)
UID:a23d2a27-2638-47f1-aa31-e26666ae5407
STATUS:CONFIRMED
LAST-MODIFIED:20250213T074509Z
DESCRIPTION:3ème ligue Hommes Gr.3 Phase B\nBegegnungs-Nr: 12\nHeim: Onex II\nGast: UGS-Chênois VII\n
LOCATION:
CATEGORIES:Saison 2024/25
END:VEVENT
END:VCALENDAR
