BEGIN:VCALENDAR
PRODID:-//nuDatenautomaten//framework iCal4j //DE
VERSION:2.0
CALSCALE:GREGORIAN
BEGIN:VTIMEZONE
TZID:Europe/Berlin
LAST-MODIFIED:20260306T231828Z
TZURL:https://www.tzurl.org/zoneinfo/Europe/Berlin
X-LIC-LOCATION:Europe/Berlin
X-PROLEPTIC-TZNAME:LMT
BEGIN:STANDARD
TZNAME:CET
TZOFFSETFROM:+005328
TZOFFSETTO:+0100
DTSTART:18930401T000000
END:STANDARD
BEGIN:DAYLIGHT
TZNAME:CEST
TZOFFSETFROM:+0100
TZOFFSETTO:+0200
DTSTART:19160430T230000
RDATE:19400401T020000
RDATE:19430329T020000
RDATE:19460414T020000
RDATE:19470406T030000
RDATE:19480418T020000
RDATE:19490410T020000
RDATE:19800406T020000
END:DAYLIGHT
BEGIN:STANDARD
TZNAME:CET
TZOFFSETFROM:+0200
TZOFFSETTO:+0100
DTSTART:19161001T010000
RDATE:19421102T030000
RDATE:19431004T030000
RDATE:19441002T030000
RDATE:19451118T030000
RDATE:19461007T030000
END:STANDARD
BEGIN:DAYLIGHT
TZNAME:CEST
TZOFFSETFROM:+0100
TZOFFSETTO:+0200
DTSTART:19170416T020000
RRULE:FREQ=YEARLY;UNTIL=19180415T010000Z;BYMONTH=4;BYDAY=3MO
END:DAYLIGHT
BEGIN:STANDARD
TZNAME:CET
TZOFFSETFROM:+0200
TZOFFSETTO:+0100
DTSTART:19170917T030000
RRULE:FREQ=YEARLY;UNTIL=19180916T010000Z;BYMONTH=9;BYDAY=3MO
END:STANDARD
BEGIN:DAYLIGHT
TZNAME:CEST
TZOFFSETFROM:+0100
TZOFFSETTO:+0200
DTSTART:19440403T020000
RRULE:FREQ=YEARLY;UNTIL=19450402T010000Z;BYMONTH=4;BYDAY=1MO
END:DAYLIGHT
BEGIN:DAYLIGHT
TZNAME:CEMT
TZOFFSETFROM:+0200
TZOFFSETTO:+0300
DTSTART:19450524T020000
RDATE:19470511T030000
END:DAYLIGHT
BEGIN:DAYLIGHT
TZNAME:CEST
TZOFFSETFROM:+0300
TZOFFSETTO:+0200
DTSTART:19450924T030000
RDATE:19470629T030000
END:DAYLIGHT
BEGIN:STANDARD
TZNAME:CET
TZOFFSETFROM:+0100
TZOFFSETTO:+0100
DTSTART:19460101T000000
RDATE:19800101T000000
END:STANDARD
BEGIN:STANDARD
TZNAME:CET
TZOFFSETFROM:+0200
TZOFFSETTO:+0100
DTSTART:19471005T030000
RRULE:FREQ=YEARLY;UNTIL=19491002T010000Z;BYMONTH=10;BYDAY=1SU
END:STANDARD
BEGIN:STANDARD
TZNAME:CET
TZOFFSETFROM:+0200
TZOFFSETTO:+0100
DTSTART:19800928T030000
RRULE:FREQ=YEARLY;UNTIL=19950924T010000Z;BYMONTH=9;BYDAY=-1SU
END:STANDARD
BEGIN:DAYLIGHT
TZNAME:CEST
TZOFFSETFROM:+0100
TZOFFSETTO:+0200
DTSTART:19810329T020000
RRULE:FREQ=YEARLY;BYMONTH=3;BYDAY=-1SU
END:DAYLIGHT
BEGIN:STANDARD
TZNAME:CET
TZOFFSETFROM:+0200
TZOFFSETTO:+0100
DTSTART:19961027T030000
RRULE:FREQ=YEARLY;BYMONTH=10;BYDAY=-1SU
END:STANDARD
END:VTIMEZONE
BEGIN:VEVENT
DTSTAMP:20260424T062029Z
DTSTART;TZID=Europe/Berlin:20241206T193000
DTEND;TZID=Europe/Berlin:20241206T223000
SUMMARY:ME L3 Gr 4\, Tours 1&2 Estavayer vs Lausanne IV (0)
UID:090c4ca7-f4e8-4b5a-9e0b-fb33b425ed84
STATUS:CONFIRMED
LAST-MODIFIED:20241215T005831Z
DESCRIPTION:3ème ligue Hommes Groupe 4\, Tours 1&2\nBegegnungs-Nr: 0\nHeim: Estavayer\nGast: Lausanne IV\n\nAdresse: Avenue de la Gare 111\, 1470 Estavayer-le-Lac\n
LOCATION:Avenue de la Gare 111\, 1470 Estavayer-le-Lac
CATEGORIES:Saison 2024/25
END:VEVENT
BEGIN:VEVENT
DTSTAMP:20260424T062029Z
DTSTART;TZID=Europe/Berlin:20241101T193000
DTEND;TZID=Europe/Berlin:20241101T223000
SUMMARY:ME L3 Gr 4\, Tours 1&2 Estavayer vs Yverdon III (0)
UID:c802698d-a3c7-4635-ab3c-0296d15ecd3c
STATUS:CONFIRMED
LAST-MODIFIED:20241102T213146Z
DESCRIPTION:3ème ligue Hommes Groupe 4\, Tours 1&2\nBegegnungs-Nr: 0\nHeim: Estavayer\nGast: Yverdon III\n\nAdresse: Avenue de la Gare 111\, 1470 Estavayer-le-Lac\n
LOCATION:Avenue de la Gare 111\, 1470 Estavayer-le-Lac
CATEGORIES:Saison 2024/25
END:VEVENT
BEGIN:VEVENT
DTSTAMP:20260424T062029Z
DTSTART;TZID=Europe/Berlin:20241004T193000
DTEND;TZID=Europe/Berlin:20241004T223000
SUMMARY:ME L3 Gr 4\, Tours 1&2 Estavayer vs Crissier III (0)
UID:1a1f698a-26d7-4164-bb06-ad3869b18f6b
STATUS:CONFIRMED
LAST-MODIFIED:20241008T173221Z
DESCRIPTION:3ème ligue Hommes Groupe 4\, Tours 1&2\nBegegnungs-Nr: 0\nHeim: Estavayer\nGast: Crissier III\n\nAdresse: Avenue de la Gare 111\, 1470 Estavayer-le-Lac\n
LOCATION:Avenue de la Gare 111\, 1470 Estavayer-le-Lac
CATEGORIES:Saison 2024/25
END:VEVENT
BEGIN:VEVENT
DTSTAMP:20260424T062029Z
DTSTART;TZID=Europe/Berlin:20241025T193000
DTEND;TZID=Europe/Berlin:20241025T223000
SUMMARY:ME L3 Gr 4\, Tours 1&2 Estavayer vs Forward-Morges IV (0)
UID:5ecbbc49-4457-41cc-ab40-fed0ab0f336b
STATUS:CONFIRMED
LAST-MODIFIED:20241027T110813Z
DESCRIPTION:3ème ligue Hommes Groupe 4\, Tours 1&2\nBegegnungs-Nr: 0\nHeim: Estavayer\nGast: Forward-Morges IV\n\nAdresse: Avenue de la Gare 111\, 1470 Estavayer-le-Lac\n
LOCATION:Avenue de la Gare 111\, 1470 Estavayer-le-Lac
CATEGORIES:Saison 2024/25
END:VEVENT
BEGIN:VEVENT
DTSTAMP:20260424T062029Z
DTSTART;TZID=Europe/Berlin:20241213T193000
DTEND;TZID=Europe/Berlin:20241213T223000
SUMMARY:ME L3 Gr 4\, Tours 1&2 Estavayer vs Mézières II (0)
UID:b4aa2308-01d5-47b9-889f-59b9b3570ce4
STATUS:CONFIRMED
LAST-MODIFIED:20241215T005818Z
DESCRIPTION:3ème ligue Hommes Groupe 4\, Tours 1&2\nBegegnungs-Nr: 0\nHeim: Estavayer\nGast: Mézières II\n\nAdresse: Avenue de la Gare 111\, 1470 Estavayer-le-Lac\n
LOCATION:Avenue de la Gare 111\, 1470 Estavayer-le-Lac
CATEGORIES:Saison 2024/25
END:VEVENT
BEGIN:VEVENT
DTSTAMP:20260424T062029Z
DTSTART;TZID=Europe/Berlin:20250307T193000
DTEND;TZID=Europe/Berlin:20250307T223000
SUMMARY:ME L4 Gr 3\, Tours 3&4 Estavayer vs Fribourg VIII (0)
UID:b8257052-5dc9-4005-8a51-cb21f6a799ff
STATUS:CONFIRMED
LAST-MODIFIED:20250312T155350Z
DESCRIPTION:4ème ligue Hommes Groupe 3\, Tours 3&4\nBegegnungs-Nr: 0\nHeim: Estavayer\nGast: Fribourg VIII\n\nAdresse: Avenue de la Gare 111\, 1470 Estavayer-le-Lac\n
LOCATION:Avenue de la Gare 111\, 1470 Estavayer-le-Lac
CATEGORIES:Saison 2024/25
END:VEVENT
BEGIN:VEVENT
DTSTAMP:20260424T062029Z
DTSTART;TZID=Europe/Berlin:20250131T193000
DTEND;TZID=Europe/Berlin:20250131T223000
SUMMARY:ME L4 Gr 3\, Tours 3&4 Estavayer vs Orbe (0)
UID:49ed4847-b7a4-438d-a14e-fcec7ffbb3b4
STATUS:CONFIRMED
LAST-MODIFIED:20250201T200607Z
DESCRIPTION:4ème ligue Hommes Groupe 3\, Tours 3&4\nBegegnungs-Nr: 0\nHeim: Estavayer\nGast: Orbe\n\nAdresse: Avenue de la Gare 111\, 1470 Estavayer-le-Lac\n
LOCATION:Avenue de la Gare 111\, 1470 Estavayer-le-Lac
CATEGORIES:Saison 2024/25
END:VEVENT
BEGIN:VEVENT
DTSTAMP:20260424T062029Z
DTSTART;TZID=Europe/Berlin:20250509T193000
DTEND;TZID=Europe/Berlin:20250509T223000
SUMMARY:ME L4 Gr 3\, Tours 3&4 Estavayer vs Fribourg VII (0)
UID:492e83e9-7880-469b-b492-b7f1ede6fbd4
STATUS:CONFIRMED
LAST-MODIFIED:20250510T115328Z
DESCRIPTION:4ème ligue Hommes Groupe 3\, Tours 3&4\nBegegnungs-Nr: 0\nHeim: Estavayer\nGast: Fribourg VII\n\nAdresse: Avenue de la Gare 111\, 1470 Estavayer-le-Lac\n
LOCATION:Avenue de la Gare 111\, 1470 Estavayer-le-Lac
CATEGORIES:Saison 2024/25
END:VEVENT
BEGIN:VEVENT
DTSTAMP:20260424T062029Z
DTSTART;TZID=Europe/Berlin:20250502T193000
DTEND;TZID=Europe/Berlin:20250502T223000
SUMMARY:ME L4 Gr 3\, Tours 3&4 Estavayer vs Romont-Villaz II (0)
UID:5e03ce98-95dd-4e9c-8c32-637df95d9894
STATUS:CONFIRMED
LAST-MODIFIED:20250504T233012Z
DESCRIPTION:4ème ligue Hommes Groupe 3\, Tours 3&4\nBegegnungs-Nr: 0\nHeim: Estavayer\nGast: Romont-Villaz II\n\nAdresse: Avenue de la Gare 111\, 1470 Estavayer-le-Lac\n
LOCATION:Avenue de la Gare 111\, 1470 Estavayer-le-Lac
CATEGORIES:Saison 2024/25
END:VEVENT
BEGIN:VEVENT
DTSTAMP:20260424T062029Z
DTSTART;TZID=Europe/Berlin:20250314T193000
DTEND;TZID=Europe/Berlin:20250314T223000
SUMMARY:ME L4 Gr 3\, Tours 3&4 Estavayer vs Cheyres (0)
UID:d2c8a904-2d7d-402f-b850-01dd5bd9ef78
STATUS:CONFIRMED
LAST-MODIFIED:20250317T113400Z
DESCRIPTION:4ème ligue Hommes Groupe 3\, Tours 3&4\nBegegnungs-Nr: 0\nHeim: Estavayer\nGast: Cheyres\n\nAdresse: Avenue de la Gare 111\, 1470 Estavayer-le-Lac\n
LOCATION:Avenue de la Gare 111\, 1470 Estavayer-le-Lac
CATEGORIES:Saison 2024/25
END:VEVENT
BEGIN:VEVENT
DTSTAMP:20260424T062029Z
DTSTART;TZID=Europe/Berlin:20241127T193000
DTEND;TZID=Europe/Berlin:20241127T223000
SUMMARY:ME L3 Gr 4\, Tours 1&2 Crissier III vs Estavayer (0)
UID:42908957-85ba-43cb-8b25-4ed4ba5a18e1
STATUS:CONFIRMED
LAST-MODIFIED:20241218T214452Z
DESCRIPTION:3ème ligue Hommes Groupe 4\, Tours 1&2\nBegegnungs-Nr: 0\nHeim: Crissier III\nGast: Estavayer\n\nAdresse: ch. des Oches du Mur\, 1023 Crissier\n
LOCATION:ch. des Oches du Mur\, 1023 Crissier
CATEGORIES:Saison 2024/25
END:VEVENT
BEGIN:VEVENT
DTSTAMP:20260424T062029Z
DTSTART;TZID=Europe/Berlin:20241113T194500
DTEND;TZID=Europe/Berlin:20241113T224500
SUMMARY:ME L3 Gr 4\, Tours 1&2 Forward-Morges IV vs Estavayer (0)
UID:a09f1dc3-dcae-4650-bb48-91f9abd054cc
STATUS:CONFIRMED
LAST-MODIFIED:20241116T192249Z
DESCRIPTION:3ème ligue Hommes Groupe 4\, Tours 1&2\nBegegnungs-Nr: 0\nHeim: Forward-Morges IV\nGast: Estavayer\n\nAdresse: Chemin de Tolochenaz\, 1110 Morges\n
LOCATION:Chemin de Tolochenaz\, 1110 Morges
CATEGORIES:Saison 2024/25
END:VEVENT
BEGIN:VEVENT
DTSTAMP:20260424T062029Z
DTSTART;TZID=Europe/Berlin:20241008T200000
DTEND;TZID=Europe/Berlin:20241008T230000
SUMMARY:ME L3 Gr 4\, Tours 1&2 Mézières II vs Estavayer (0)
UID:5fa90a9b-6ede-4bf9-9db2-c8f8665606ba
STATUS:CONFIRMED
LAST-MODIFIED:20241009T231112Z
DESCRIPTION:3ème ligue Hommes Groupe 4\, Tours 1&2\nBegegnungs-Nr: 0\nHeim: Mézières II\nGast: Estavayer\n\nAdresse: -\, 1083 Mézières\n
LOCATION:-\, 1083 Mézières
CATEGORIES:Saison 2024/25
END:VEVENT
BEGIN:VEVENT
DTSTAMP:20260424T062029Z
DTSTART;TZID=Europe/Berlin:20241023T200000
DTEND;TZID=Europe/Berlin:20241023T230000
SUMMARY:ME L3 Gr 4\, Tours 1&2 Lausanne IV vs Estavayer (0)
UID:6b9a2e91-3499-441a-8784-01a1350c6b0c
STATUS:CONFIRMED
LAST-MODIFIED:20241026T004620Z
DESCRIPTION:3ème ligue Hommes Groupe 4\, Tours 1&2\nBegegnungs-Nr: 0\nHeim: Lausanne IV\nGast: Estavayer\n\nAdresse: Vaudoise Aréna\, Ch. du Viaduc 14\, 1008 Prilly\n
LOCATION:Vaudoise Aréna\, Ch. du Viaduc 14\, 1008 Prilly
CATEGORIES:Saison 2024/25
END:VEVENT
BEGIN:VEVENT
DTSTAMP:20260424T062029Z
DTSTART;TZID=Europe/Berlin:20240905T201500
DTEND;TZID=Europe/Berlin:20240905T231500
SUMMARY:ME L3 Gr 4\, Tours 1&2 Yverdon III vs Estavayer (0)
UID:76dba55b-2122-425b-981f-1e056838ce4f
STATUS:CONFIRMED
LAST-MODIFIED:20240907T130617Z
DESCRIPTION:3ème ligue Hommes Groupe 4\, Tours 1&2\nBegegnungs-Nr: 0\nHeim: Yverdon III\nGast: Estavayer\n\nAdresse: Avenue des Quatre Marroniers 1\, 1400 Yverdon-les-Bains\n
LOCATION:Avenue des Quatre Marroniers 1\, 1400 Yverdon-les-Bains
CATEGORIES:Saison 2024/25
END:VEVENT
BEGIN:VEVENT
DTSTAMP:20260424T062029Z
DTSTART;TZID=Europe/Berlin:20250227T193000
DTEND;TZID=Europe/Berlin:20250227T223000
SUMMARY:ME L4 Gr 3\, Tours 3&4 Fribourg VII vs Estavayer (0)
UID:0f883c5b-597b-4dc3-b398-da6471faa919
STATUS:CONFIRMED
LAST-MODIFIED:20250228T164922Z
DESCRIPTION:4ème ligue Hommes Groupe 3\, Tours 3&4\nBegegnungs-Nr: 0\nHeim: Fribourg VII\nGast: Estavayer\n\nAdresse: Avenue Général Guisan 61\, 1700 Fribourg\n
LOCATION:Avenue Général Guisan 61\, 1700 Fribourg
CATEGORIES:Saison 2024/25
END:VEVENT
BEGIN:VEVENT
DTSTAMP:20260424T062029Z
DTSTART;TZID=Europe/Berlin:20250225T194500
DTEND;TZID=Europe/Berlin:20250225T224500
SUMMARY:ME L4 Gr 3\, Tours 3&4 Romont-Villaz II vs Estavayer (0)
UID:56e228fc-0462-46bc-9dfd-f53532226ce7
STATUS:CONFIRMED
LAST-MODIFIED:20250226T232023Z
DESCRIPTION:4ème ligue Hommes Groupe 3\, Tours 3&4\nBegegnungs-Nr: 0\nHeim: Romont-Villaz II\nGast: Estavayer\n\nAdresse: Route de la Gare 5\, 1690 Villaz-St-Pierre\n
LOCATION:Route de la Gare 5\, 1690 Villaz-St-Pierre
CATEGORIES:Saison 2024/25
END:VEVENT
BEGIN:VEVENT
DTSTAMP:20260424T062029Z
DTSTART;TZID=Europe/Berlin:20250120T194500
DTEND;TZID=Europe/Berlin:20250120T224500
SUMMARY:ME L4 Gr 3\, Tours 3&4 Cheyres vs Estavayer (0)
UID:858abb19-163e-48be-b373-5a77a2d08699
STATUS:CONFIRMED
LAST-MODIFIED:20250121T224726Z
DESCRIPTION:4ème ligue Hommes Groupe 3\, Tours 3&4\nBegegnungs-Nr: 0\nHeim: Cheyres\nGast: Estavayer\n\nAdresse: Rue de la Gare 10\, 1468 Cheyres\n
LOCATION:Rue de la Gare 10\, 1468 Cheyres
CATEGORIES:Saison 2024/25
END:VEVENT
BEGIN:VEVENT
DTSTAMP:20260424T062029Z
DTSTART;TZID=Europe/Berlin:20250410T193000
DTEND;TZID=Europe/Berlin:20250410T223000
SUMMARY:ME L4 Gr 3\, Tours 3&4 Fribourg VIII vs Estavayer (0)
UID:6f55ae86-6182-49cc-8bb9-f6227799c5d3
STATUS:CONFIRMED
LAST-MODIFIED:20250411T073958Z
DESCRIPTION:4ème ligue Hommes Groupe 3\, Tours 3&4\nBegegnungs-Nr: 0\nHeim: Fribourg VIII\nGast: Estavayer\n\nAdresse: Route du Centre sportif\, 1752 Villars-sur-Glâne\n
LOCATION:Route du Centre sportif\, 1752 Villars-sur-Glâne
CATEGORIES:Saison 2024/25
END:VEVENT
BEGIN:VEVENT
DTSTAMP:20260424T062029Z
DTSTART;TZID=Europe/Berlin:20250325T201500
DTEND;TZID=Europe/Berlin:20250325T231500
SUMMARY:ME L4 Gr 3\, Tours 3&4 Orbe vs Estavayer (0)
UID:05c05f27-654f-494e-a858-06d80f55ac8c
STATUS:CONFIRMED
LAST-MODIFIED:20250326T182625Z
DESCRIPTION:4ème ligue Hommes Groupe 3\, Tours 3&4\nBegegnungs-Nr: 0\nHeim: Orbe\nGast: Estavayer\n\nAdresse: Rue du Suchet\, 1350 Orbe\n
LOCATION:Rue du Suchet\, 1350 Orbe
CATEGORIES:Saison 2024/25
END:VEVENT
END:VCALENDAR
