BEGIN:VCALENDAR
PRODID:-//nuDatenautomaten//framework iCal4j //DE
VERSION:2.0
CALSCALE:GREGORIAN
BEGIN:VTIMEZONE
TZID:Europe/Berlin
LAST-MODIFIED:20260306T231828Z
TZURL:https://www.tzurl.org/zoneinfo/Europe/Berlin
X-LIC-LOCATION:Europe/Berlin
X-PROLEPTIC-TZNAME:LMT
BEGIN:STANDARD
TZNAME:CET
TZOFFSETFROM:+005328
TZOFFSETTO:+0100
DTSTART:18930401T000000
END:STANDARD
BEGIN:DAYLIGHT
TZNAME:CEST
TZOFFSETFROM:+0100
TZOFFSETTO:+0200
DTSTART:19160430T230000
RDATE:19400401T020000
RDATE:19430329T020000
RDATE:19460414T020000
RDATE:19470406T030000
RDATE:19480418T020000
RDATE:19490410T020000
RDATE:19800406T020000
END:DAYLIGHT
BEGIN:STANDARD
TZNAME:CET
TZOFFSETFROM:+0200
TZOFFSETTO:+0100
DTSTART:19161001T010000
RDATE:19421102T030000
RDATE:19431004T030000
RDATE:19441002T030000
RDATE:19451118T030000
RDATE:19461007T030000
END:STANDARD
BEGIN:DAYLIGHT
TZNAME:CEST
TZOFFSETFROM:+0100
TZOFFSETTO:+0200
DTSTART:19170416T020000
RRULE:FREQ=YEARLY;UNTIL=19180415T010000Z;BYMONTH=4;BYDAY=3MO
END:DAYLIGHT
BEGIN:STANDARD
TZNAME:CET
TZOFFSETFROM:+0200
TZOFFSETTO:+0100
DTSTART:19170917T030000
RRULE:FREQ=YEARLY;UNTIL=19180916T010000Z;BYMONTH=9;BYDAY=3MO
END:STANDARD
BEGIN:DAYLIGHT
TZNAME:CEST
TZOFFSETFROM:+0100
TZOFFSETTO:+0200
DTSTART:19440403T020000
RRULE:FREQ=YEARLY;UNTIL=19450402T010000Z;BYMONTH=4;BYDAY=1MO
END:DAYLIGHT
BEGIN:DAYLIGHT
TZNAME:CEMT
TZOFFSETFROM:+0200
TZOFFSETTO:+0300
DTSTART:19450524T020000
RDATE:19470511T030000
END:DAYLIGHT
BEGIN:DAYLIGHT
TZNAME:CEST
TZOFFSETFROM:+0300
TZOFFSETTO:+0200
DTSTART:19450924T030000
RDATE:19470629T030000
END:DAYLIGHT
BEGIN:STANDARD
TZNAME:CET
TZOFFSETFROM:+0100
TZOFFSETTO:+0100
DTSTART:19460101T000000
RDATE:19800101T000000
END:STANDARD
BEGIN:STANDARD
TZNAME:CET
TZOFFSETFROM:+0200
TZOFFSETTO:+0100
DTSTART:19471005T030000
RRULE:FREQ=YEARLY;UNTIL=19491002T010000Z;BYMONTH=10;BYDAY=1SU
END:STANDARD
BEGIN:STANDARD
TZNAME:CET
TZOFFSETFROM:+0200
TZOFFSETTO:+0100
DTSTART:19800928T030000
RRULE:FREQ=YEARLY;UNTIL=19950924T010000Z;BYMONTH=9;BYDAY=-1SU
END:STANDARD
BEGIN:DAYLIGHT
TZNAME:CEST
TZOFFSETFROM:+0100
TZOFFSETTO:+0200
DTSTART:19810329T020000
RRULE:FREQ=YEARLY;BYMONTH=3;BYDAY=-1SU
END:DAYLIGHT
BEGIN:STANDARD
TZNAME:CET
TZOFFSETFROM:+0200
TZOFFSETTO:+0100
DTSTART:19961027T030000
RRULE:FREQ=YEARLY;BYMONTH=10;BYDAY=-1SU
END:STANDARD
END:VTIMEZONE
BEGIN:VEVENT
DTSTAMP:20260424T022656Z
DTSTART;TZID=Europe/Berlin:20250605T193000
DTEND;TZID=Europe/Berlin:20250605T223000
SUMMARY:ME L5 Finales Vaudoise-Assurances vs Aigle (2)
UID:ce912605-7074-4845-b05f-05379a3d5800
STATUS:CONFIRMED
LAST-MODIFIED:20250523T072854Z
DESCRIPTION:5ème ligue Hommes Finales\nBegegnungs-Nr: 2\nHeim: Vaudoise-Assurances\nGast: Aigle\n\nAdresse: Ch de Bellerive 36\, 1007 Lausanne\n
LOCATION:Ch de Bellerive 36\, 1007 Lausanne
CATEGORIES:Saison 2024/25
END:VEVENT
BEGIN:VEVENT
DTSTAMP:20260424T022656Z
DTSTART;TZID=Europe/Berlin:20241121T193000
DTEND;TZID=Europe/Berlin:20241121T223000
SUMMARY:ME L5 Gr 5\, Tours 1&2 Vaudoise-Assurances vs Lausanne X (0)
UID:5c74752e-e73c-462a-937b-e6047dc38b2a
STATUS:CONFIRMED
LAST-MODIFIED:20241126T112748Z
DESCRIPTION:5ème ligue Hommes Groupe 5\, Tours 1&2\nBegegnungs-Nr: 0\nHeim: Vaudoise-Assurances\nGast: Lausanne X\n\nAdresse: Ch de Bellerive 36\, 1007 Lausanne\n
LOCATION:Ch de Bellerive 36\, 1007 Lausanne
CATEGORIES:Saison 2024/25
END:VEVENT
BEGIN:VEVENT
DTSTAMP:20260424T022656Z
DTSTART;TZID=Europe/Berlin:20241114T193000
DTEND;TZID=Europe/Berlin:20241114T223000
SUMMARY:ME L5 Gr 5\, Tours 1&2 Vaudoise-Assurances vs Bougy (0)
UID:e2efe04b-c537-4e11-b490-e6f51ec36c40
STATUS:CONFIRMED
LAST-MODIFIED:20241116T192353Z
DESCRIPTION:5ème ligue Hommes Groupe 5\, Tours 1&2\nBegegnungs-Nr: 0\nHeim: Vaudoise-Assurances\nGast: Bougy\n\nAdresse: Ch de Bellerive 36\, 1007 Lausanne\n
LOCATION:Ch de Bellerive 36\, 1007 Lausanne
CATEGORIES:Saison 2024/25
END:VEVENT
BEGIN:VEVENT
DTSTAMP:20260424T022656Z
DTSTART;TZID=Europe/Berlin:20241010T193000
DTEND;TZID=Europe/Berlin:20241010T223000
SUMMARY:ME L5 Gr 5\, Tours 1&2 Vaudoise-Assurances vs Gland III (0)
UID:ddd7d1cf-f2f6-4083-bd48-c9d826a50091
STATUS:CONFIRMED
LAST-MODIFIED:20241013T205934Z
DESCRIPTION:5ème ligue Hommes Groupe 5\, Tours 1&2\nBegegnungs-Nr: 0\nHeim: Vaudoise-Assurances\nGast: Gland III\n\nAdresse: Ch de Bellerive 36\, 1007 Lausanne\n
LOCATION:Ch de Bellerive 36\, 1007 Lausanne
CATEGORIES:Saison 2024/25
END:VEVENT
BEGIN:VEVENT
DTSTAMP:20260424T022656Z
DTSTART;TZID=Europe/Berlin:20241128T193000
DTEND;TZID=Europe/Berlin:20241128T223000
SUMMARY:ME L5 Gr 5\, Tours 1&2 Vaudoise-Assurances vs Rolle (0)
UID:6c304eaf-d6de-4ce9-bf98-cfeee1dca40e
STATUS:CONFIRMED
LAST-MODIFIED:20241129T154431Z
DESCRIPTION:5ème ligue Hommes Groupe 5\, Tours 1&2\nBegegnungs-Nr: 0\nHeim: Vaudoise-Assurances\nGast: Rolle\n\nAdresse: Ch de Bellerive 36\, 1007 Lausanne\n
LOCATION:Ch de Bellerive 36\, 1007 Lausanne
CATEGORIES:Saison 2024/25
END:VEVENT
BEGIN:VEVENT
DTSTAMP:20260424T022656Z
DTSTART;TZID=Europe/Berlin:20240919T193000
DTEND;TZID=Europe/Berlin:20240919T223000
SUMMARY:ME L5 Gr 5\, Tours 1&2 Vaudoise-Assurances vs Eysins III (0)
UID:94ff83d6-726c-46d3-99c5-d1b9445cd12b
STATUS:CONFIRMED
LAST-MODIFIED:20240922T140838Z
DESCRIPTION:5ème ligue Hommes Groupe 5\, Tours 1&2\nBegegnungs-Nr: 0\nHeim: Vaudoise-Assurances\nGast: Eysins III\n\nAdresse: Ch de Bellerive 36\, 1007 Lausanne\n
LOCATION:Ch de Bellerive 36\, 1007 Lausanne
CATEGORIES:Saison 2024/25
END:VEVENT
BEGIN:VEVENT
DTSTAMP:20260424T022656Z
DTSTART;TZID=Europe/Berlin:20250403T193000
DTEND;TZID=Europe/Berlin:20250403T223000
SUMMARY:ME L5 Gr 6\, Tours 3&4 Vaudoise-Assurances vs Cheyres II (0)
UID:e00597ac-42f0-4b94-b148-7fd681434b8b
STATUS:CONFIRMED
LAST-MODIFIED:20250406T161838Z
DESCRIPTION:5ème ligue Hommes Groupe 6\, Tours 3&4\nBegegnungs-Nr: 0\nHeim: Vaudoise-Assurances\nGast: Cheyres II\n\nAdresse: Ch de Bellerive 36\, 1007 Lausanne\n
LOCATION:Ch de Bellerive 36\, 1007 Lausanne
CATEGORIES:Saison 2024/25
END:VEVENT
BEGIN:VEVENT
DTSTAMP:20260424T022656Z
DTSTART;TZID=Europe/Berlin:20250320T193000
DTEND;TZID=Europe/Berlin:20250320T223000
SUMMARY:ME L5 Gr 6\, Tours 3&4 Vaudoise-Assurances vs Yverdon IV (0)
UID:c3812347-d6ea-4ff5-a9da-df4631f58497
STATUS:CONFIRMED
LAST-MODIFIED:20250322T123657Z
DESCRIPTION:5ème ligue Hommes Groupe 6\, Tours 3&4\nBegegnungs-Nr: 0\nHeim: Vaudoise-Assurances\nGast: Yverdon IV\n\nAdresse: Ch de Bellerive 36\, 1007 Lausanne\n
LOCATION:Ch de Bellerive 36\, 1007 Lausanne
CATEGORIES:Saison 2024/25
END:VEVENT
BEGIN:VEVENT
DTSTAMP:20260424T022656Z
DTSTART;TZID=Europe/Berlin:20250227T193000
DTEND;TZID=Europe/Berlin:20250227T223000
SUMMARY:ME L5 Gr 6\, Tours 3&4 Vaudoise-Assurances vs Yverdon V (0)
UID:ab656a7b-e1ba-4f63-b274-626ac25ffb4f
STATUS:CONFIRMED
LAST-MODIFIED:20250302T175542Z
DESCRIPTION:5ème ligue Hommes Groupe 6\, Tours 3&4\nBegegnungs-Nr: 0\nHeim: Vaudoise-Assurances\nGast: Yverdon V\n\nAdresse: Ch de Bellerive 36\, 1007 Lausanne\n
LOCATION:Ch de Bellerive 36\, 1007 Lausanne
CATEGORIES:Saison 2024/25
END:VEVENT
BEGIN:VEVENT
DTSTAMP:20260424T022656Z
DTSTART;TZID=Europe/Berlin:20250206T193000
DTEND;TZID=Europe/Berlin:20250206T223000
SUMMARY:ME L5 Gr 6\, Tours 3&4 Vaudoise-Assurances vs Orbe II (0)
UID:b0dd3e45-e4fd-486c-b5c1-65e23a65b414
STATUS:CONFIRMED
LAST-MODIFIED:20250210T162533Z
DESCRIPTION:5ème ligue Hommes Groupe 6\, Tours 3&4\nBegegnungs-Nr: 0\nHeim: Vaudoise-Assurances\nGast: Orbe II\n\nAdresse: Ch de Bellerive 36\, 1007 Lausanne\n
LOCATION:Ch de Bellerive 36\, 1007 Lausanne
CATEGORIES:Saison 2024/25
END:VEVENT
BEGIN:VEVENT
DTSTAMP:20260424T022656Z
DTSTART;TZID=Europe/Berlin:20250116T193000
DTEND;TZID=Europe/Berlin:20250116T223000
SUMMARY:ME L5 Gr 6\, Tours 3&4 Vaudoise-Assurances vs Sainte-Croix (0)
UID:11094c2a-d568-4ce1-b9b3-0d59a1167b28
STATUS:CONFIRMED
LAST-MODIFIED:20250119T142827Z
DESCRIPTION:5ème ligue Hommes Groupe 6\, Tours 3&4\nBegegnungs-Nr: 0\nHeim: Vaudoise-Assurances\nGast: Sainte-Croix\n\nAdresse: Ch de Bellerive 36\, 1007 Lausanne\n
LOCATION:Ch de Bellerive 36\, 1007 Lausanne
CATEGORIES:Saison 2024/25
END:VEVENT
BEGIN:VEVENT
DTSTAMP:20260424T022656Z
DTSTART;TZID=Europe/Berlin:20241213T193000
DTEND;TZID=Europe/Berlin:20241213T223000
SUMMARY:ME L5 Gr 5\, Tours 1&2 Gland III vs Vaudoise-Assurances (0)
UID:618197eb-19e6-41ed-be43-50de82eac61e
STATUS:CONFIRMED
LAST-MODIFIED:20241215T010138Z
DESCRIPTION:5ème ligue Hommes Groupe 5\, Tours 1&2\nBegegnungs-Nr: 0\nHeim: Gland III\nGast: Vaudoise-Assurances\n\nAdresse: Chemin de la Perroude 1\, 1196 Gland\n
LOCATION:Chemin de la Perroude 1\, 1196 Gland
CATEGORIES:Saison 2024/25
END:VEVENT
BEGIN:VEVENT
DTSTAMP:20260424T022656Z
DTSTART;TZID=Europe/Berlin:20241002T200000
DTEND;TZID=Europe/Berlin:20241002T230000
SUMMARY:ME L5 Gr 5\, Tours 1&2 Rolle vs Vaudoise-Assurances (0)
UID:5d42d0c2-a8cb-45ba-a4ee-de27c3b7bd61
STATUS:CONFIRMED
LAST-MODIFIED:20241007T064953Z
DESCRIPTION:5ème ligue Hommes Groupe 5\, Tours 1&2\nBegegnungs-Nr: 0\nHeim: Rolle\nGast: Vaudoise-Assurances\n\nAdresse: Route des Quatre-Communes 7\, 1180 Rolle\n
LOCATION:Route des Quatre-Communes 7\, 1180 Rolle
CATEGORIES:Saison 2024/25
END:VEVENT
BEGIN:VEVENT
DTSTAMP:20260424T022656Z
DTSTART;TZID=Europe/Berlin:20241030T200000
DTEND;TZID=Europe/Berlin:20241030T230000
SUMMARY:ME L5 Gr 5\, Tours 1&2 Eysins III vs Vaudoise-Assurances (0)
UID:7bbbfaa3-9c7f-4187-b084-d6e6461199d8
STATUS:CONFIRMED
LAST-MODIFIED:20241101T000033Z
DESCRIPTION:5ème ligue Hommes Groupe 5\, Tours 1&2\nBegegnungs-Nr: 0\nHeim: Eysins III\nGast: Vaudoise-Assurances\n\nAdresse: En Bellossiez 1\, 1262 Eysins\n
LOCATION:En Bellossiez 1\, 1262 Eysins
CATEGORIES:Saison 2024/25
END:VEVENT
BEGIN:VEVENT
DTSTAMP:20260424T022656Z
DTSTART;TZID=Europe/Berlin:20241028T200000
DTEND;TZID=Europe/Berlin:20241028T230000
SUMMARY:ME L5 Gr 5\, Tours 1&2 Lausanne X vs Vaudoise-Assurances (0)
UID:abaa40c6-e37e-49a3-a575-ce9ba9128d11
STATUS:CONFIRMED
LAST-MODIFIED:20241101T000021Z
DESCRIPTION:5ème ligue Hommes Groupe 5\, Tours 1&2\nBegegnungs-Nr: 0\nHeim: Lausanne X\nGast: Vaudoise-Assurances\n\nAdresse: Vaudoise Aréna\, Ch. du Viaduc 14\, 1008 Prilly\n
LOCATION:Vaudoise Aréna\, Ch. du Viaduc 14\, 1008 Prilly
CATEGORIES:Saison 2024/25
END:VEVENT
BEGIN:VEVENT
DTSTAMP:20260424T022656Z
DTSTART;TZID=Europe/Berlin:20240911T193000
DTEND;TZID=Europe/Berlin:20240911T223000
SUMMARY:ME L5 Gr 5\, Tours 1&2 Bougy vs Vaudoise-Assurances (0)
UID:0259bf41-1946-41a8-ae75-f02e0450d273
STATUS:CONFIRMED
LAST-MODIFIED:20240913T172657Z
DESCRIPTION:5ème ligue Hommes Groupe 5\, Tours 1&2\nBegegnungs-Nr: 0\nHeim: Bougy\nGast: Vaudoise-Assurances\n\nAdresse: Grand-Rue 11\, 1172 Bougy-Villars\n
LOCATION:Grand-Rue 11\, 1172 Bougy-Villars
CATEGORIES:Saison 2024/25
END:VEVENT
BEGIN:VEVENT
DTSTAMP:20260424T022656Z
DTSTART;TZID=Europe/Berlin:20250507T201500
DTEND;TZID=Europe/Berlin:20250507T231500
SUMMARY:ME L5 Gr 6\, Tours 3&4 Yverdon V vs Vaudoise-Assurances (0)
UID:34ba20cc-a972-47c1-b85c-6985c4e034fa
STATUS:CONFIRMED
LAST-MODIFIED:20250508T231452Z
DESCRIPTION:5ème ligue Hommes Groupe 6\, Tours 3&4\nBegegnungs-Nr: 0\nHeim: Yverdon V\nGast: Vaudoise-Assurances\n\nAdresse: Avenue des Quatre Marroniers 1\, 1400 Yverdon-les-Bains\n
LOCATION:Avenue des Quatre Marroniers 1\, 1400 Yverdon-les-Bains
CATEGORIES:Saison 2024/25
END:VEVENT
BEGIN:VEVENT
DTSTAMP:20260424T022656Z
DTSTART;TZID=Europe/Berlin:20250429T201500
DTEND;TZID=Europe/Berlin:20250429T231500
SUMMARY:ME L5 Gr 6\, Tours 3&4 Orbe II vs Vaudoise-Assurances (0)
UID:7f7b06ca-17ab-4a1b-927e-4094d5653a0e
STATUS:CONFIRMED
LAST-MODIFIED:20250430T210559Z
DESCRIPTION:5ème ligue Hommes Groupe 6\, Tours 3&4\nBegegnungs-Nr: 0\nHeim: Orbe II\nGast: Vaudoise-Assurances\n\nAdresse: Rue du Suchet\, 1350 Orbe\n
LOCATION:Rue du Suchet\, 1350 Orbe
CATEGORIES:Saison 2024/25
END:VEVENT
BEGIN:VEVENT
DTSTAMP:20260424T022656Z
DTSTART;TZID=Europe/Berlin:20250310T194500
DTEND;TZID=Europe/Berlin:20250310T224500
SUMMARY:ME L5 Gr 6\, Tours 3&4 Sainte-Croix vs Vaudoise-Assurances (0)
UID:4cc82f30-b3f8-4161-94fc-537b87fd9793
STATUS:CONFIRMED
LAST-MODIFIED:20250311T092215Z
DESCRIPTION:5ème ligue Hommes Groupe 6\, Tours 3&4\nBegegnungs-Nr: 0\nHeim: Sainte-Croix\nGast: Vaudoise-Assurances\n\nAdresse: Av. de la Gare 23\, 1450 Sainte-Croix\n
LOCATION:Av. de la Gare 23\, 1450 Sainte-Croix
CATEGORIES:Saison 2024/25
END:VEVENT
BEGIN:VEVENT
DTSTAMP:20260424T022656Z
DTSTART;TZID=Europe/Berlin:20250213T194500
DTEND;TZID=Europe/Berlin:20250213T224500
SUMMARY:ME L5 Gr 6\, Tours 3&4 Cheyres II vs Vaudoise-Assurances (0)
UID:cba09ac7-b156-4c3b-983d-0d12ba856049
STATUS:CONFIRMED
LAST-MODIFIED:20250214T134636Z
DESCRIPTION:5ème ligue Hommes Groupe 6\, Tours 3&4\nBegegnungs-Nr: 0\nHeim: Cheyres II\nGast: Vaudoise-Assurances\n\nAdresse: Rue de la Gare 10\, 1468 Cheyres\n
LOCATION:Rue de la Gare 10\, 1468 Cheyres
CATEGORIES:Saison 2024/25
END:VEVENT
BEGIN:VEVENT
DTSTAMP:20260424T022656Z
DTSTART;TZID=Europe/Berlin:20250303T201500
DTEND;TZID=Europe/Berlin:20250303T231500
SUMMARY:ME L5 Gr 6\, Tours 3&4 Yverdon IV vs Vaudoise-Assurances (0)
UID:43c4fb6d-942a-4798-87c0-143f13de7056
STATUS:CONFIRMED
LAST-MODIFIED:20250304T120559Z
DESCRIPTION:5ème ligue Hommes Groupe 6\, Tours 3&4\nBegegnungs-Nr: 0\nHeim: Yverdon IV\nGast: Vaudoise-Assurances\n\nAdresse: Avenue des Quatre Marroniers 1\, 1400 Yverdon-les-Bains\n
LOCATION:Avenue des Quatre Marroniers 1\, 1400 Yverdon-les-Bains
CATEGORIES:Saison 2024/25
END:VEVENT
END:VCALENDAR
