BEGIN:VCALENDAR
PRODID:-//nuDatenautomaten//framework iCal4j //DE
VERSION:2.0
CALSCALE:GREGORIAN
BEGIN:VTIMEZONE
TZID:Europe/Berlin
LAST-MODIFIED:20260306T231828Z
TZURL:https://www.tzurl.org/zoneinfo/Europe/Berlin
X-LIC-LOCATION:Europe/Berlin
X-PROLEPTIC-TZNAME:LMT
BEGIN:STANDARD
TZNAME:CET
TZOFFSETFROM:+005328
TZOFFSETTO:+0100
DTSTART:18930401T000000
END:STANDARD
BEGIN:DAYLIGHT
TZNAME:CEST
TZOFFSETFROM:+0100
TZOFFSETTO:+0200
DTSTART:19160430T230000
RDATE:19400401T020000
RDATE:19430329T020000
RDATE:19460414T020000
RDATE:19470406T030000
RDATE:19480418T020000
RDATE:19490410T020000
RDATE:19800406T020000
END:DAYLIGHT
BEGIN:STANDARD
TZNAME:CET
TZOFFSETFROM:+0200
TZOFFSETTO:+0100
DTSTART:19161001T010000
RDATE:19421102T030000
RDATE:19431004T030000
RDATE:19441002T030000
RDATE:19451118T030000
RDATE:19461007T030000
END:STANDARD
BEGIN:DAYLIGHT
TZNAME:CEST
TZOFFSETFROM:+0100
TZOFFSETTO:+0200
DTSTART:19170416T020000
RRULE:FREQ=YEARLY;UNTIL=19180415T010000Z;BYMONTH=4;BYDAY=3MO
END:DAYLIGHT
BEGIN:STANDARD
TZNAME:CET
TZOFFSETFROM:+0200
TZOFFSETTO:+0100
DTSTART:19170917T030000
RRULE:FREQ=YEARLY;UNTIL=19180916T010000Z;BYMONTH=9;BYDAY=3MO
END:STANDARD
BEGIN:DAYLIGHT
TZNAME:CEST
TZOFFSETFROM:+0100
TZOFFSETTO:+0200
DTSTART:19440403T020000
RRULE:FREQ=YEARLY;UNTIL=19450402T010000Z;BYMONTH=4;BYDAY=1MO
END:DAYLIGHT
BEGIN:DAYLIGHT
TZNAME:CEMT
TZOFFSETFROM:+0200
TZOFFSETTO:+0300
DTSTART:19450524T020000
RDATE:19470511T030000
END:DAYLIGHT
BEGIN:DAYLIGHT
TZNAME:CEST
TZOFFSETFROM:+0300
TZOFFSETTO:+0200
DTSTART:19450924T030000
RDATE:19470629T030000
END:DAYLIGHT
BEGIN:STANDARD
TZNAME:CET
TZOFFSETFROM:+0100
TZOFFSETTO:+0100
DTSTART:19460101T000000
RDATE:19800101T000000
END:STANDARD
BEGIN:STANDARD
TZNAME:CET
TZOFFSETFROM:+0200
TZOFFSETTO:+0100
DTSTART:19471005T030000
RRULE:FREQ=YEARLY;UNTIL=19491002T010000Z;BYMONTH=10;BYDAY=1SU
END:STANDARD
BEGIN:STANDARD
TZNAME:CET
TZOFFSETFROM:+0200
TZOFFSETTO:+0100
DTSTART:19800928T030000
RRULE:FREQ=YEARLY;UNTIL=19950924T010000Z;BYMONTH=9;BYDAY=-1SU
END:STANDARD
BEGIN:DAYLIGHT
TZNAME:CEST
TZOFFSETFROM:+0100
TZOFFSETTO:+0200
DTSTART:19810329T020000
RRULE:FREQ=YEARLY;BYMONTH=3;BYDAY=-1SU
END:DAYLIGHT
BEGIN:STANDARD
TZNAME:CET
TZOFFSETFROM:+0200
TZOFFSETTO:+0100
DTSTART:19961027T030000
RRULE:FREQ=YEARLY;BYMONTH=10;BYDAY=-1SU
END:STANDARD
END:VTIMEZONE
BEGIN:VEVENT
DTSTAMP:20260424T043557Z
DTSTART;TZID=Europe/Berlin:20241118T194500
DTEND;TZID=Europe/Berlin:20241118T224500
SUMMARY:Ligue 1 Ph.A Carouge III vs Versoix (36)
UID:4905393e-24d0-452a-bbbb-f4a7fd0d4fcc
STATUS:CONFIRMED
LAST-MODIFIED:20241119T100240Z
DESCRIPTION:1ère ligue Homme Gr. unique Phase A\nBegegnungs-Nr: 36\nHeim: Carouge III\nGast: Versoix\n
LOCATION:
CATEGORIES:Saison 2024/25
END:VEVENT
BEGIN:VEVENT
DTSTAMP:20260424T043557Z
DTSTART;TZID=Europe/Berlin:20240923T194500
DTEND;TZID=Europe/Berlin:20240923T224500
SUMMARY:Ligue 1 Ph.A Carouge III vs UGS-Chênois IV (28)
UID:9ce6f1b3-f86f-4249-aa1a-eba3bd6fa17b
STATUS:CONFIRMED
LAST-MODIFIED:20240924T072535Z
DESCRIPTION:1ère ligue Homme Gr. unique Phase A\nBegegnungs-Nr: 28\nHeim: Carouge III\nGast: UGS-Chênois IV\n\nAdresse: Route de Veyrier 44\, 1227 Carouge GE\n
LOCATION:Route de Veyrier 44\, 1227 Carouge GE
CATEGORIES:Saison 2024/25
END:VEVENT
BEGIN:VEVENT
DTSTAMP:20260424T043557Z
DTSTART;TZID=Europe/Berlin:20241014T194500
DTEND;TZID=Europe/Berlin:20241014T224500
SUMMARY:Ligue 1 Ph.A Carouge III vs Mandement II (23)
UID:5d29e0f1-a707-4088-8e5b-ee9779f008fb
STATUS:CONFIRMED
LAST-MODIFIED:20241015T082434Z
DESCRIPTION:1ère ligue Homme Gr. unique Phase A\nBegegnungs-Nr: 23\nHeim: Carouge III\nGast: Mandement II\n
LOCATION:
CATEGORIES:Saison 2024/25
END:VEVENT
BEGIN:VEVENT
DTSTAMP:20260424T043557Z
DTSTART;TZID=Europe/Berlin:20241028T194500
DTEND;TZID=Europe/Berlin:20241028T224500
SUMMARY:Ligue 1 Ph.A Carouge III vs Châtelaine III (13)
UID:8335299d-9ca4-4322-8782-8fc9855e4ec4
STATUS:CONFIRMED
LAST-MODIFIED:20241029T180043Z
DESCRIPTION:1ère ligue Homme Gr. unique Phase A\nBegegnungs-Nr: 13\nHeim: Carouge III\nGast: Châtelaine III\n
LOCATION:
CATEGORIES:Saison 2024/25
END:VEVENT
BEGIN:VEVENT
DTSTAMP:20260424T043557Z
DTSTART;TZID=Europe/Berlin:20240909T194500
DTEND;TZID=Europe/Berlin:20240909T224500
SUMMARY:Ligue 1 Ph.A Carouge III vs Silver Star II (3)
UID:855faaf3-d16f-44c4-a3e8-e918b300cfbf
STATUS:CONFIRMED
LAST-MODIFIED:20240910T071943Z
DESCRIPTION:1ère ligue Homme Gr. unique Phase A\nBegegnungs-Nr: 3\nHeim: Carouge III\nGast: Silver Star II\n
LOCATION:
CATEGORIES:Saison 2024/25
END:VEVENT
BEGIN:VEVENT
DTSTAMP:20260424T043557Z
DTSTART;TZID=Europe/Berlin:20250407T200000
DTEND;TZID=Europe/Berlin:20250407T230000
SUMMARY:Ligue 1 Ph.B Carouge III vs UGS-Chênois IV (42)
UID:f078a7f5-68ae-4dd8-b852-33c000d645c6
STATUS:CONFIRMED
LAST-MODIFIED:20250408T071614Z
DESCRIPTION:1ère ligue Homme Gr. unique Phase B\nBegegnungs-Nr: 42\nHeim: Carouge III\nGast: UGS-Chênois IV\n
LOCATION:
CATEGORIES:Saison 2024/25
END:VEVENT
BEGIN:VEVENT
DTSTAMP:20260424T043557Z
DTSTART;TZID=Europe/Berlin:20250331T200000
DTEND;TZID=Europe/Berlin:20250331T230000
SUMMARY:Ligue 1 Ph.B Carouge III vs Châtelaine (36)
UID:824d80c9-6d0c-47bc-bcab-d34ab52fb30b
STATUS:CONFIRMED
LAST-MODIFIED:20250401T072633Z
DESCRIPTION:1ère ligue Homme Gr. unique Phase B\nBegegnungs-Nr: 36\nHeim: Carouge III\nGast: Châtelaine\n
LOCATION:
CATEGORIES:Saison 2024/25
END:VEVENT
BEGIN:VEVENT
DTSTAMP:20260424T043557Z
DTSTART;TZID=Europe/Berlin:20250310T194500
DTEND;TZID=Europe/Berlin:20250310T224500
SUMMARY:Ligue 1 Ph.B Carouge III vs UGS-Chênois III (28)
UID:b6dad057-e3cb-425d-b589-9c17003f2a31
STATUS:CONFIRMED
LAST-MODIFIED:20250311T082659Z
DESCRIPTION:1ère ligue Homme Gr. unique Phase B\nBegegnungs-Nr: 28\nHeim: Carouge III\nGast: UGS-Chênois III\n\nAdresse: Route de Veyrier 44\, 1227 Carouge GE\n
LOCATION:Route de Veyrier 44\, 1227 Carouge GE
CATEGORIES:Saison 2024/25
END:VEVENT
BEGIN:VEVENT
DTSTAMP:20260424T043557Z
DTSTART;TZID=Europe/Berlin:20250217T200000
DTEND;TZID=Europe/Berlin:20250217T230000
SUMMARY:Ligue 1 Ph.B Carouge III vs Silver Star II (23)
UID:06c31e39-92bd-4d37-8f9c-fe0c23107d35
STATUS:CONFIRMED
LAST-MODIFIED:20250218T090602Z
DESCRIPTION:1ère ligue Homme Gr. unique Phase B\nBegegnungs-Nr: 23\nHeim: Carouge III\nGast: Silver Star II\n
LOCATION:
CATEGORIES:Saison 2024/25
END:VEVENT
BEGIN:VEVENT
DTSTAMP:20260424T043557Z
DTSTART;TZID=Europe/Berlin:20250127T200000
DTEND;TZID=Europe/Berlin:20250127T230000
SUMMARY:Ligue 1 Ph.B Carouge III vs Bernex II (13)
UID:76736f37-a0ea-4b43-83e2-cf5db89d8330
STATUS:CONFIRMED
LAST-MODIFIED:20250128T092504Z
DESCRIPTION:1ère ligue Homme Gr. unique Phase B\nBegegnungs-Nr: 13\nHeim: Carouge III\nGast: Bernex II\n
LOCATION:
CATEGORIES:Saison 2024/25
END:VEVENT
BEGIN:VEVENT
DTSTAMP:20260424T043557Z
DTSTART;TZID=Europe/Berlin:20241125T194500
DTEND;TZID=Europe/Berlin:20241125T224500
SUMMARY:Ligue 1 Ph.A UGS-Chênois III vs Carouge III (42)
UID:b0fc26da-cc5b-4bfc-9924-a2b623552ffe
STATUS:CONFIRMED
LAST-MODIFIED:20241126T181109Z
DESCRIPTION:1ère ligue Homme Gr. unique Phase A\nBegegnungs-Nr: 42\nHeim: UGS-Chênois III\nGast: Carouge III\n\nAdresse: Route de Frontenex 68\, 1208 Genève\n
LOCATION:Route de Frontenex 68\, 1208 Genève
CATEGORIES:Saison 2024/25
END:VEVENT
BEGIN:VEVENT
DTSTAMP:20260424T043557Z
DTSTART;TZID=Europe/Berlin:20241111T200000
DTEND;TZID=Europe/Berlin:20241111T230000
SUMMARY:Ligue 1 Ph.A Châtelaine vs Carouge III (32)
UID:017821f9-82a7-4e64-99d1-9f7a1e6ed28c
STATUS:CONFIRMED
LAST-MODIFIED:20241113T103342Z
DESCRIPTION:1ère ligue Homme Gr. unique Phase A\nBegegnungs-Nr: 32\nHeim: Châtelaine\nGast: Carouge III\n
LOCATION:
CATEGORIES:Saison 2024/25
END:VEVENT
BEGIN:VEVENT
DTSTAMP:20260424T043557Z
DTSTART;TZID=Europe/Berlin:20241007T194500
DTEND;TZID=Europe/Berlin:20241007T224500
SUMMARY:Ligue 1 Ph.A ZZ-Lancy IV vs Carouge III (18)
UID:7a7410b5-3e97-4680-9448-e8557ed1a552
STATUS:CONFIRMED
LAST-MODIFIED:20241008T070501Z
DESCRIPTION:1ère ligue Homme Gr. unique Phase A\nBegegnungs-Nr: 18\nHeim: ZZ-Lancy IV\nGast: Carouge III\n
LOCATION:
CATEGORIES:Saison 2024/25
END:VEVENT
BEGIN:VEVENT
DTSTAMP:20260424T043557Z
DTSTART;TZID=Europe/Berlin:20240916T200000
DTEND;TZID=Europe/Berlin:20240916T230000
SUMMARY:Ligue 1 Ph.A Châtelaine II vs Carouge III (8)
UID:6ca6054a-cecd-4599-9e7c-16d756c2a8d6
STATUS:CONFIRMED
LAST-MODIFIED:20240917T192724Z
DESCRIPTION:1ère ligue Homme Gr. unique Phase A\nBegegnungs-Nr: 8\nHeim: Châtelaine II\nGast: Carouge III\n
LOCATION:
CATEGORIES:Saison 2024/25
END:VEVENT
BEGIN:VEVENT
DTSTAMP:20260424T043557Z
DTSTART;TZID=Europe/Berlin:20250120T194500
DTEND;TZID=Europe/Berlin:20250120T224500
SUMMARY:Ligue 1 Ph.B Mandement III vs Carouge III (8)
UID:a4ff0f15-150f-49c5-ad7f-0b95fd258d79
STATUS:CONFIRMED
LAST-MODIFIED:20250121T080636Z
DESCRIPTION:1ère ligue Homme Gr. unique Phase B\nBegegnungs-Nr: 8\nHeim: Mandement III\nGast: Carouge III\n\nAdresse: Route de la Gare de Satigny 27A\, 1242 Satigny\n
LOCATION:Route de la Gare de Satigny 27A\, 1242 Satigny
CATEGORIES:Saison 2024/25
END:VEVENT
BEGIN:VEVENT
DTSTAMP:20260424T043557Z
DTSTART;TZID=Europe/Berlin:20250113T200000
DTEND;TZID=Europe/Berlin:20250113T230000
SUMMARY:Ligue 1 Ph.B Versoix vs Carouge III (3)
UID:d4b56911-a210-42b5-b073-4e85a26835c9
STATUS:CONFIRMED
LAST-MODIFIED:20250114T102932Z
DESCRIPTION:1ère ligue Homme Gr. unique Phase B\nBegegnungs-Nr: 3\nHeim: Versoix\nGast: Carouge III\n
LOCATION:
CATEGORIES:Saison 2024/25
END:VEVENT
BEGIN:VEVENT
DTSTAMP:20260424T043557Z
DTSTART;TZID=Europe/Berlin:20250317T194500
DTEND;TZID=Europe/Berlin:20250317T224500
SUMMARY:Ligue 1 Ph.B Mandement II vs Carouge III (32)
UID:44e5181f-926a-44bc-b653-892e116cf2a2
STATUS:CONFIRMED
LAST-MODIFIED:20250318T071410Z
DESCRIPTION:1ère ligue Homme Gr. unique Phase B\nBegegnungs-Nr: 32\nHeim: Mandement II\nGast: Carouge III\n\nAdresse: Route de la Gare de Satigny 27A\, 1242 Satigny\n
LOCATION:Route de la Gare de Satigny 27A\, 1242 Satigny
CATEGORIES:Saison 2024/25
END:VEVENT
BEGIN:VEVENT
DTSTAMP:20260424T043557Z
DTSTART;TZID=Europe/Berlin:20250210T194500
DTEND;TZID=Europe/Berlin:20250210T224500
SUMMARY:Ligue 1 Ph.B ZZ-Lancy IV vs Carouge III (18)
UID:e06bf44e-8791-4b10-a8b2-b20cb49bc758
STATUS:CONFIRMED
LAST-MODIFIED:20250211T085055Z
DESCRIPTION:1ère ligue Homme Gr. unique Phase B\nBegegnungs-Nr: 18\nHeim: ZZ-Lancy IV\nGast: Carouge III\n
LOCATION:
CATEGORIES:Saison 2024/25
END:VEVENT
END:VCALENDAR
