BEGIN:VCALENDAR
PRODID:-//nuDatenautomaten//framework iCal4j //DE
VERSION:2.0
CALSCALE:GREGORIAN
BEGIN:VTIMEZONE
TZID:Europe/Berlin
LAST-MODIFIED:20260306T231828Z
TZURL:https://www.tzurl.org/zoneinfo/Europe/Berlin
X-LIC-LOCATION:Europe/Berlin
X-PROLEPTIC-TZNAME:LMT
BEGIN:STANDARD
TZNAME:CET
TZOFFSETFROM:+005328
TZOFFSETTO:+0100
DTSTART:18930401T000000
END:STANDARD
BEGIN:DAYLIGHT
TZNAME:CEST
TZOFFSETFROM:+0100
TZOFFSETTO:+0200
DTSTART:19160430T230000
RDATE:19400401T020000
RDATE:19430329T020000
RDATE:19460414T020000
RDATE:19470406T030000
RDATE:19480418T020000
RDATE:19490410T020000
RDATE:19800406T020000
END:DAYLIGHT
BEGIN:STANDARD
TZNAME:CET
TZOFFSETFROM:+0200
TZOFFSETTO:+0100
DTSTART:19161001T010000
RDATE:19421102T030000
RDATE:19431004T030000
RDATE:19441002T030000
RDATE:19451118T030000
RDATE:19461007T030000
END:STANDARD
BEGIN:DAYLIGHT
TZNAME:CEST
TZOFFSETFROM:+0100
TZOFFSETTO:+0200
DTSTART:19170416T020000
RRULE:FREQ=YEARLY;UNTIL=19180415T010000Z;BYMONTH=4;BYDAY=3MO
END:DAYLIGHT
BEGIN:STANDARD
TZNAME:CET
TZOFFSETFROM:+0200
TZOFFSETTO:+0100
DTSTART:19170917T030000
RRULE:FREQ=YEARLY;UNTIL=19180916T010000Z;BYMONTH=9;BYDAY=3MO
END:STANDARD
BEGIN:DAYLIGHT
TZNAME:CEST
TZOFFSETFROM:+0100
TZOFFSETTO:+0200
DTSTART:19440403T020000
RRULE:FREQ=YEARLY;UNTIL=19450402T010000Z;BYMONTH=4;BYDAY=1MO
END:DAYLIGHT
BEGIN:DAYLIGHT
TZNAME:CEMT
TZOFFSETFROM:+0200
TZOFFSETTO:+0300
DTSTART:19450524T020000
RDATE:19470511T030000
END:DAYLIGHT
BEGIN:DAYLIGHT
TZNAME:CEST
TZOFFSETFROM:+0300
TZOFFSETTO:+0200
DTSTART:19450924T030000
RDATE:19470629T030000
END:DAYLIGHT
BEGIN:STANDARD
TZNAME:CET
TZOFFSETFROM:+0100
TZOFFSETTO:+0100
DTSTART:19460101T000000
RDATE:19800101T000000
END:STANDARD
BEGIN:STANDARD
TZNAME:CET
TZOFFSETFROM:+0200
TZOFFSETTO:+0100
DTSTART:19471005T030000
RRULE:FREQ=YEARLY;UNTIL=19491002T010000Z;BYMONTH=10;BYDAY=1SU
END:STANDARD
BEGIN:STANDARD
TZNAME:CET
TZOFFSETFROM:+0200
TZOFFSETTO:+0100
DTSTART:19800928T030000
RRULE:FREQ=YEARLY;UNTIL=19950924T010000Z;BYMONTH=9;BYDAY=-1SU
END:STANDARD
BEGIN:DAYLIGHT
TZNAME:CEST
TZOFFSETFROM:+0100
TZOFFSETTO:+0200
DTSTART:19810329T020000
RRULE:FREQ=YEARLY;BYMONTH=3;BYDAY=-1SU
END:DAYLIGHT
BEGIN:STANDARD
TZNAME:CET
TZOFFSETFROM:+0200
TZOFFSETTO:+0100
DTSTART:19961027T030000
RRULE:FREQ=YEARLY;BYMONTH=10;BYDAY=-1SU
END:STANDARD
END:VTIMEZONE
BEGIN:VEVENT
DTSTAMP:20260424T043558Z
DTSTART;TZID=Europe/Berlin:20250403T194500
DTEND;TZID=Europe/Berlin:20250403T224500
SUMMARY:Ligue 4 Gr.2 Ph.B Grand-Saconnex II vs Rapid-Genève V (23)
UID:e6bebba4-7027-4807-bbf1-6ef93a707fcf
STATUS:CONFIRMED
LAST-MODIFIED:20250404T164446Z
DESCRIPTION:4ème ligue Hommes Gr.2 Phase B\nBegegnungs-Nr: 23\nHeim: Grand-Saconnex II\nGast: Rapid-Genève V\n
LOCATION:
CATEGORIES:Saison 2024/25
END:VEVENT
BEGIN:VEVENT
DTSTAMP:20260424T043558Z
DTSTART;TZID=Europe/Berlin:20250320T194500
DTEND;TZID=Europe/Berlin:20250320T224500
SUMMARY:Ligue 4 Gr.2 Ph.B Grand-Saconnex II vs Silver Star VI (19)
UID:21eb30c3-5264-449d-a39a-e8558c50e5e8
STATUS:CONFIRMED
LAST-MODIFIED:20250321T093629Z
DESCRIPTION:4ème ligue Hommes Gr.2 Phase B\nBegegnungs-Nr: 19\nHeim: Grand-Saconnex II\nGast: Silver Star VI\n
LOCATION:
CATEGORIES:Saison 2024/25
END:VEVENT
BEGIN:VEVENT
DTSTAMP:20260424T043558Z
DTSTART;TZID=Europe/Berlin:20250220T194500
DTEND;TZID=Europe/Berlin:20250220T224500
SUMMARY:Ligue 4 Gr.2 Ph.B Grand-Saconnex II vs Carouge VI (14)
UID:d60b534f-622e-4a79-a48c-ac86fa825e20
STATUS:CONFIRMED
LAST-MODIFIED:20250221T083707Z
DESCRIPTION:4ème ligue Hommes Gr.2 Phase B\nBegegnungs-Nr: 14\nHeim: Grand-Saconnex II\nGast: Carouge VI\n
LOCATION:
CATEGORIES:Saison 2024/25
END:VEVENT
BEGIN:VEVENT
DTSTAMP:20260424T043558Z
DTSTART;TZID=Europe/Berlin:20250213T194500
DTEND;TZID=Europe/Berlin:20250213T224500
SUMMARY:Ligue 4 Gr.2 Ph.B Grand-Saconnex II vs Veyrier (10)
UID:86cd6391-97db-489c-a633-26eacb5fb6f4
STATUS:CONFIRMED
LAST-MODIFIED:20250215T133132Z
DESCRIPTION:4ème ligue Hommes Gr.2 Phase B\nBegegnungs-Nr: 10\nHeim: Grand-Saconnex II\nGast: Veyrier\n
LOCATION:
CATEGORIES:Saison 2024/25
END:VEVENT
BEGIN:VEVENT
DTSTAMP:20260424T043558Z
DTSTART;TZID=Europe/Berlin:20250116T194500
DTEND;TZID=Europe/Berlin:20250116T224500
SUMMARY:Ligue 4 Gr.2 Ph.B Grand-Saconnex II vs Collex-Bossy (3)
UID:654e961e-7f97-4c4b-a0b5-82ea0ab6a546
STATUS:CONFIRMED
LAST-MODIFIED:20250117T082712Z
DESCRIPTION:4ème ligue Hommes Gr.2 Phase B\nBegegnungs-Nr: 3\nHeim: Grand-Saconnex II\nGast: Collex-Bossy\n
LOCATION:
CATEGORIES:Saison 2024/25
END:VEVENT
BEGIN:VEVENT
DTSTAMP:20260424T043558Z
DTSTART;TZID=Europe/Berlin:20241205T194500
DTEND;TZID=Europe/Berlin:20241205T224500
SUMMARY:Ligue 4 Gr.2 Ph.A Grand-Saconnex II vs Versoix IV (29)
UID:ff6f4efd-0de2-4ea3-ac26-c9cc9fdd796b
STATUS:CONFIRMED
LAST-MODIFIED:20241206T082445Z
DESCRIPTION:4ème ligue Hommes Gr.2 Phase A\nBegegnungs-Nr: 29\nHeim: Grand-Saconnex II\nGast: Versoix IV\n
LOCATION:
CATEGORIES:Saison 2024/25
END:VEVENT
BEGIN:VEVENT
DTSTAMP:20260424T043558Z
DTSTART;TZID=Europe/Berlin:20241121T194500
DTEND;TZID=Europe/Berlin:20241121T224500
SUMMARY:Ligue 4 Gr.2 Ph.A Grand-Saconnex II vs Puplinge II (24)
UID:46b9b520-ff03-4bbc-be17-f2a97984b3b5
STATUS:CONFIRMED
LAST-MODIFIED:20241122T171403Z
DESCRIPTION:4ème ligue Hommes Gr.2 Phase A\nBegegnungs-Nr: 24\nHeim: Grand-Saconnex II\nGast: Puplinge II\n
LOCATION:
CATEGORIES:Saison 2024/25
END:VEVENT
BEGIN:VEVENT
DTSTAMP:20260424T043558Z
DTSTART;TZID=Europe/Berlin:20241031T194500
DTEND;TZID=Europe/Berlin:20241031T224500
SUMMARY:Ligue 4 Gr.2 Ph.A Grand-Saconnex II vs ZZ-Lancy VIII (16)
UID:e2c4b980-e1b0-4738-b18f-a549127c6d7c
STATUS:CONFIRMED
LAST-MODIFIED:20241101T131246Z
DESCRIPTION:4ème ligue Hommes Gr.2 Phase A\nBegegnungs-Nr: 16\nHeim: Grand-Saconnex II\nGast: ZZ-Lancy VIII\n
LOCATION:
CATEGORIES:Saison 2024/25
END:VEVENT
BEGIN:VEVENT
DTSTAMP:20260424T043558Z
DTSTART;TZID=Europe/Berlin:20241010T194500
DTEND;TZID=Europe/Berlin:20241010T224500
SUMMARY:Ligue 4 Gr.2 Ph.A Grand-Saconnex II vs Rapid-Genève IV (11)
UID:3c897805-9d12-4397-a01d-9729f8d0e6ad
STATUS:CONFIRMED
LAST-MODIFIED:20241011T071623Z
DESCRIPTION:4ème ligue Hommes Gr.2 Phase A\nBegegnungs-Nr: 11\nHeim: Grand-Saconnex II\nGast: Rapid-Genève IV\n
LOCATION:
CATEGORIES:Saison 2024/25
END:VEVENT
BEGIN:VEVENT
DTSTAMP:20260424T043558Z
DTSTART;TZID=Europe/Berlin:20240919T194500
DTEND;TZID=Europe/Berlin:20240919T224500
SUMMARY:Ligue 4 Gr.2 Ph.A Grand-Saconnex II vs Silver Star VII (5)
UID:be89ef4f-0ccf-4205-87eb-c0d7943c7946
STATUS:CONFIRMED
LAST-MODIFIED:20240920T083306Z
DESCRIPTION:4ème ligue Hommes Gr.2 Phase A\nBegegnungs-Nr: 5\nHeim: Grand-Saconnex II\nGast: Silver Star VII\n
LOCATION:
CATEGORIES:Saison 2024/25
END:VEVENT
BEGIN:VEVENT
DTSTAMP:20260424T043558Z
DTSTART;TZID=Europe/Berlin:20250417T200000
DTEND;TZID=Europe/Berlin:20250417T230000
SUMMARY:Ligue 4 Gr.2 Ph.B Carouge VI vs Grand-Saconnex II (29)
UID:1513a616-4bb7-472d-bd21-8e7f24821ff9
STATUS:CONFIRMED
LAST-MODIFIED:20250418T193014Z
DESCRIPTION:4ème ligue Hommes Gr.2 Phase B\nBegegnungs-Nr: 29\nHeim: Carouge VI\nGast: Grand-Saconnex II\n
LOCATION:
CATEGORIES:Saison 2024/25
END:VEVENT
BEGIN:VEVENT
DTSTAMP:20260424T043558Z
DTSTART;TZID=Europe/Berlin:20250407T194500
DTEND;TZID=Europe/Berlin:20250407T224500
SUMMARY:Ligue 4 Gr.2 Ph.B Veyrier vs Grand-Saconnex II (25)
UID:1a706c3b-513c-4514-9873-08e56afb654b
STATUS:CONFIRMED
LAST-MODIFIED:20250408T071730Z
DESCRIPTION:4ème ligue Hommes Gr.2 Phase B\nBegegnungs-Nr: 25\nHeim: Veyrier\nGast: Grand-Saconnex II\n
LOCATION:
CATEGORIES:Saison 2024/25
END:VEVENT
BEGIN:VEVENT
DTSTAMP:20260424T043558Z
DTSTART;TZID=Europe/Berlin:20250310T194500
DTEND;TZID=Europe/Berlin:20250310T224500
SUMMARY:Ligue 4 Gr.2 Ph.B Collex-Bossy vs Grand-Saconnex II (18)
UID:d39066e3-22f4-4233-85f0-d5247cb171d0
STATUS:CONFIRMED
LAST-MODIFIED:20250311T171009Z
DESCRIPTION:4ème ligue Hommes Gr.2 Phase B\nBegegnungs-Nr: 18\nHeim: Collex-Bossy\nGast: Grand-Saconnex II\n
LOCATION:
CATEGORIES:Saison 2024/25
END:VEVENT
BEGIN:VEVENT
DTSTAMP:20260424T043558Z
DTSTART;TZID=Europe/Berlin:20250130T194500
DTEND;TZID=Europe/Berlin:20250130T224500
SUMMARY:Ligue 4 Gr.2 Ph.B Rapid-Genève V vs Grand-Saconnex II (8)
UID:3cf02bab-73e3-41b5-96e9-cafbf84e7072
STATUS:CONFIRMED
LAST-MODIFIED:20250131T080745Z
DESCRIPTION:4ème ligue Hommes Gr.2 Phase B\nBegegnungs-Nr: 8\nHeim: Rapid-Genève V\nGast: Grand-Saconnex II\n
LOCATION:
CATEGORIES:Saison 2024/25
END:VEVENT
BEGIN:VEVENT
DTSTAMP:20260424T043558Z
DTSTART;TZID=Europe/Berlin:20250123T194500
DTEND;TZID=Europe/Berlin:20250123T224500
SUMMARY:Ligue 4 Gr.2 Ph.B Silver Star VI vs Grand-Saconnex II (4)
UID:6f932d94-c7ff-4fde-af4b-0addbd724d55
STATUS:CONFIRMED
LAST-MODIFIED:20250125T134512Z
DESCRIPTION:4ème ligue Hommes Gr.2 Phase B\nBegegnungs-Nr: 4\nHeim: Silver Star VI\nGast: Grand-Saconnex II\n
LOCATION:
CATEGORIES:Saison 2024/25
END:VEVENT
BEGIN:VEVENT
DTSTAMP:20260424T043558Z
DTSTART;TZID=Europe/Berlin:20241128T194500
DTEND;TZID=Europe/Berlin:20241128T224500
SUMMARY:Ligue 4 Gr.2 Ph.A Rapid-Genève IV vs Grand-Saconnex II (26)
UID:bb629223-d0f1-4f94-84de-ef1e32cc4c69
STATUS:CONFIRMED
LAST-MODIFIED:20241129T072247Z
DESCRIPTION:4ème ligue Hommes Gr.2 Phase A\nBegegnungs-Nr: 26\nHeim: Rapid-Genève IV\nGast: Grand-Saconnex II\n
LOCATION:
CATEGORIES:Saison 2024/25
END:VEVENT
BEGIN:VEVENT
DTSTAMP:20260424T043558Z
DTSTART;TZID=Europe/Berlin:20241114T194500
DTEND;TZID=Europe/Berlin:20241114T224500
SUMMARY:Ligue 4 Gr.2 Ph.A Silver Star VII vs Grand-Saconnex II (20)
UID:c608be94-71d7-4b36-b7bb-d1cace84d4cb
STATUS:CONFIRMED
LAST-MODIFIED:20241115T102527Z
DESCRIPTION:4ème ligue Hommes Gr.2 Phase A\nBegegnungs-Nr: 20\nHeim: Silver Star VII\nGast: Grand-Saconnex II\n
LOCATION:
CATEGORIES:Saison 2024/25
END:VEVENT
BEGIN:VEVENT
DTSTAMP:20260424T043558Z
DTSTART;TZID=Europe/Berlin:20240912T194500
DTEND;TZID=Europe/Berlin:20240912T224500
SUMMARY:Ligue 4 Gr.2 Ph.A ZZ-Lancy VIII vs Grand-Saconnex II (1)
UID:e30a90f7-e2af-4497-a698-f3529f2e5479
STATUS:CONFIRMED
LAST-MODIFIED:20240913T091813Z
DESCRIPTION:4ème ligue Hommes Gr.2 Phase A\nBegegnungs-Nr: 1\nHeim: ZZ-Lancy VIII\nGast: Grand-Saconnex II\n
LOCATION:
CATEGORIES:Saison 2024/25
END:VEVENT
BEGIN:VEVENT
DTSTAMP:20260424T043558Z
DTSTART;TZID=Europe/Berlin:20241017T194500
DTEND;TZID=Europe/Berlin:20241017T224500
SUMMARY:Ligue 4 Gr.2 Ph.A Versoix IV vs Grand-Saconnex II (14)
UID:a845e6f1-6dd0-4bf0-a49a-da4175264778
STATUS:CONFIRMED
LAST-MODIFIED:20241018T100311Z
DESCRIPTION:4ème ligue Hommes Gr.2 Phase A\nBegegnungs-Nr: 14\nHeim: Versoix IV\nGast: Grand-Saconnex II\n
LOCATION:
CATEGORIES:Saison 2024/25
END:VEVENT
BEGIN:VEVENT
DTSTAMP:20260424T043558Z
DTSTART;TZID=Europe/Berlin:20240926T201500
DTEND;TZID=Europe/Berlin:20240926T231500
SUMMARY:Ligue 4 Gr.2 Ph.A Puplinge II vs Grand-Saconnex II (9)
UID:172a8111-c45f-4a9e-8928-abf9bb21fed9
STATUS:CONFIRMED
LAST-MODIFIED:20240927T080657Z
DESCRIPTION:4ème ligue Hommes Gr.2 Phase A\nBegegnungs-Nr: 9\nHeim: Puplinge II\nGast: Grand-Saconnex II\n\nAdresse: Chemin de la Brenaz\,  15\, 1241 Puplinge\n
LOCATION:Chemin de la Brenaz\,  15\, 1241 Puplinge
CATEGORIES:Saison 2024/25
END:VEVENT
END:VCALENDAR
