BEGIN:VCALENDAR
PRODID:-//nuDatenautomaten//framework iCal4j //DE
VERSION:2.0
CALSCALE:GREGORIAN
BEGIN:VTIMEZONE
TZID:Europe/Berlin
LAST-MODIFIED:20260306T231828Z
TZURL:https://www.tzurl.org/zoneinfo/Europe/Berlin
X-LIC-LOCATION:Europe/Berlin
X-PROLEPTIC-TZNAME:LMT
BEGIN:STANDARD
TZNAME:CET
TZOFFSETFROM:+005328
TZOFFSETTO:+0100
DTSTART:18930401T000000
END:STANDARD
BEGIN:DAYLIGHT
TZNAME:CEST
TZOFFSETFROM:+0100
TZOFFSETTO:+0200
DTSTART:19160430T230000
RDATE:19400401T020000
RDATE:19430329T020000
RDATE:19460414T020000
RDATE:19470406T030000
RDATE:19480418T020000
RDATE:19490410T020000
RDATE:19800406T020000
END:DAYLIGHT
BEGIN:STANDARD
TZNAME:CET
TZOFFSETFROM:+0200
TZOFFSETTO:+0100
DTSTART:19161001T010000
RDATE:19421102T030000
RDATE:19431004T030000
RDATE:19441002T030000
RDATE:19451118T030000
RDATE:19461007T030000
END:STANDARD
BEGIN:DAYLIGHT
TZNAME:CEST
TZOFFSETFROM:+0100
TZOFFSETTO:+0200
DTSTART:19170416T020000
RRULE:FREQ=YEARLY;UNTIL=19180415T010000Z;BYMONTH=4;BYDAY=3MO
END:DAYLIGHT
BEGIN:STANDARD
TZNAME:CET
TZOFFSETFROM:+0200
TZOFFSETTO:+0100
DTSTART:19170917T030000
RRULE:FREQ=YEARLY;UNTIL=19180916T010000Z;BYMONTH=9;BYDAY=3MO
END:STANDARD
BEGIN:DAYLIGHT
TZNAME:CEST
TZOFFSETFROM:+0100
TZOFFSETTO:+0200
DTSTART:19440403T020000
RRULE:FREQ=YEARLY;UNTIL=19450402T010000Z;BYMONTH=4;BYDAY=1MO
END:DAYLIGHT
BEGIN:DAYLIGHT
TZNAME:CEMT
TZOFFSETFROM:+0200
TZOFFSETTO:+0300
DTSTART:19450524T020000
RDATE:19470511T030000
END:DAYLIGHT
BEGIN:DAYLIGHT
TZNAME:CEST
TZOFFSETFROM:+0300
TZOFFSETTO:+0200
DTSTART:19450924T030000
RDATE:19470629T030000
END:DAYLIGHT
BEGIN:STANDARD
TZNAME:CET
TZOFFSETFROM:+0100
TZOFFSETTO:+0100
DTSTART:19460101T000000
RDATE:19800101T000000
END:STANDARD
BEGIN:STANDARD
TZNAME:CET
TZOFFSETFROM:+0200
TZOFFSETTO:+0100
DTSTART:19471005T030000
RRULE:FREQ=YEARLY;UNTIL=19491002T010000Z;BYMONTH=10;BYDAY=1SU
END:STANDARD
BEGIN:STANDARD
TZNAME:CET
TZOFFSETFROM:+0200
TZOFFSETTO:+0100
DTSTART:19800928T030000
RRULE:FREQ=YEARLY;UNTIL=19950924T010000Z;BYMONTH=9;BYDAY=-1SU
END:STANDARD
BEGIN:DAYLIGHT
TZNAME:CEST
TZOFFSETFROM:+0100
TZOFFSETTO:+0200
DTSTART:19810329T020000
RRULE:FREQ=YEARLY;BYMONTH=3;BYDAY=-1SU
END:DAYLIGHT
BEGIN:STANDARD
TZNAME:CET
TZOFFSETFROM:+0200
TZOFFSETTO:+0100
DTSTART:19961027T030000
RRULE:FREQ=YEARLY;BYMONTH=10;BYDAY=-1SU
END:STANDARD
END:VTIMEZONE
BEGIN:VEVENT
DTSTAMP:20260423T224751Z
DTSTART;TZID=Europe/Berlin:20250201T140000
DTEND;TZID=Europe/Berlin:20250201T170000
SUMMARY:HE NLB Gr. 2 Rapperswil-Jona II vs St. Gallen (6)
UID:9c870348-35df-4968-a368-a5fe2aaee961
STATUS:CONFIRMED
LAST-MODIFIED:20250203T092304Z
DESCRIPTION:Herren Nationalliga B Gruppe 2\nBegegnungs-Nr: 6\nHeim: Rapperswil-Jona II\nGast: St. Gallen\n\nAdresse: Kreuzstrasse 43\, 8640 Rapperswil\n
LOCATION:Kreuzstrasse 43\, 8640 Rapperswil
CATEGORIES:Saison 2024/25
END:VEVENT
BEGIN:VEVENT
DTSTAMP:20260423T224751Z
DTSTART;TZID=Europe/Berlin:20250208T140000
DTEND;TZID=Europe/Berlin:20250208T170000
SUMMARY:HE NLB Gr. 2 Rapperswil-Jona II vs Young Stars ZH II (10)
UID:6e35e736-018e-4fac-9bfe-6fe09a80347d
STATUS:CONFIRMED
LAST-MODIFIED:20250210T074343Z
DESCRIPTION:Herren Nationalliga B Gruppe 2\nBegegnungs-Nr: 10\nHeim: Rapperswil-Jona II\nGast: Young Stars ZH II\n\nAdresse: Kreuzstrasse 43\, 8640 Rapperswil\n
LOCATION:Kreuzstrasse 43\, 8640 Rapperswil
CATEGORIES:Saison 2024/25
END:VEVENT
BEGIN:VEVENT
DTSTAMP:20260423T224751Z
DTSTART;TZID=Europe/Berlin:20250302T123000
DTEND;TZID=Europe/Berlin:20250302T153000
SUMMARY:HE NLB Gr. 2 Rapperswil-Jona II vs Fribourg (17)
UID:988b5748-0363-4c3a-8d17-036ed44f9622
STATUS:CONFIRMED
LAST-MODIFIED:20250304T100553Z
DESCRIPTION:Herren Nationalliga B Gruppe 2\nBegegnungs-Nr: 17\nHeim: Rapperswil-Jona II\nGast: Fribourg\n\nAdresse: Kreuzstrasse 43\, 8640 Rapperswil\n
LOCATION:Kreuzstrasse 43\, 8640 Rapperswil
CATEGORIES:Saison 2024/25
END:VEVENT
BEGIN:VEVENT
DTSTAMP:20260423T224751Z
DTSTART;TZID=Europe/Berlin:20250301T123000
DTEND;TZID=Europe/Berlin:20250301T153000
SUMMARY:HE NLB Gr. 2 Rapperswil-Jona II vs Rapid Luzern (15)
UID:6ff14cef-6a6e-49ca-a310-0f38937aac92
STATUS:CONFIRMED
LAST-MODIFIED:20250312T171326Z
DESCRIPTION:Herren Nationalliga B Gruppe 2\nBegegnungs-Nr: 15\nHeim: Rapperswil-Jona II\nGast: Rapid Luzern\n\nAdresse: Kreuzstrasse 43\, 8640 Rapperswil\n
LOCATION:Kreuzstrasse 43\, 8640 Rapperswil
CATEGORIES:Saison 2024/25
END:VEVENT
BEGIN:VEVENT
DTSTAMP:20260423T224751Z
DTSTART;TZID=Europe/Berlin:20241208T140000
DTEND;TZID=Europe/Berlin:20241208T170000
SUMMARY:HE NLB Gr. 2 Rapperswil-Jona II vs Rio-Star Muttenz II (26)
UID:ddf3ff0b-6e63-4757-aa12-d7a1b0fb82fe
STATUS:CONFIRMED
LAST-MODIFIED:20241211T124739Z
DESCRIPTION:Herren Nationalliga B Gruppe 2\nBegegnungs-Nr: 26\nHeim: Rapperswil-Jona II\nGast: Rio-Star Muttenz II\n\nAdresse: Kreuzstrasse 43\, 8640 Rapperswil\n
LOCATION:Kreuzstrasse 43\, 8640 Rapperswil
CATEGORIES:Saison 2024/25
END:VEVENT
BEGIN:VEVENT
DTSTAMP:20260423T224751Z
DTSTART;TZID=Europe/Berlin:20241026T140000
DTEND;TZID=Europe/Berlin:20241026T170000
SUMMARY:HE NLB Gr. 2 Rapperswil-Jona II vs Bremgarten (11)
UID:bbd44edf-1787-4423-94df-18b1158fb38b
STATUS:CONFIRMED
LAST-MODIFIED:20241031T083256Z
DESCRIPTION:Herren Nationalliga B Gruppe 2\nBegegnungs-Nr: 11\nHeim: Rapperswil-Jona II\nGast: Bremgarten\n\nAdresse: Kreuzstrasse 43\, 8640 Rapperswil\n
LOCATION:Kreuzstrasse 43\, 8640 Rapperswil
CATEGORIES:Saison 2024/25
END:VEVENT
BEGIN:VEVENT
DTSTAMP:20260423T224751Z
DTSTART;TZID=Europe/Berlin:20241207T140000
DTEND;TZID=Europe/Berlin:20241207T170000
SUMMARY:HE NLB Gr. 2 Rapperswil-Jona II vs ABTT (24)
UID:d1c4077f-eb60-440f-9781-bb85ce10d07a
STATUS:CONFIRMED
LAST-MODIFIED:20241211T124645Z
DESCRIPTION:Herren Nationalliga B Gruppe 2\nBegegnungs-Nr: 24\nHeim: Rapperswil-Jona II\nGast: ABTT\n\nAdresse: Kreuzstrasse 43\, 8640 Rapperswil\n
LOCATION:Kreuzstrasse 43\, 8640 Rapperswil
CATEGORIES:Saison 2024/25
END:VEVENT
BEGIN:VEVENT
DTSTAMP:20260423T224751Z
DTSTART;TZID=Europe/Berlin:20250406T140000
DTEND;TZID=Europe/Berlin:20250406T170000
SUMMARY:HE NLB Gr. 2 Rio-Star Muttenz II vs Rapperswil-Jona II (26)
UID:2d701132-8aea-42a3-9a07-3cf6ba1bb92b
STATUS:CONFIRMED
LAST-MODIFIED:20250408T101954Z
DESCRIPTION:Herren Nationalliga B Gruppe 2\nBegegnungs-Nr: 26\nHeim: Rio-Star Muttenz II\nGast: Rapperswil-Jona II\n\nAdresse: Gründenstrasse 32\, 4132 Muttenz\n
LOCATION:Gründenstrasse 32\, 4132 Muttenz
CATEGORIES:Saison 2024/25
END:VEVENT
BEGIN:VEVENT
DTSTAMP:20260423T224751Z
DTSTART;TZID=Europe/Berlin:20250405T140000
DTEND;TZID=Europe/Berlin:20250405T170000
SUMMARY:HE NLB Gr. 2 ABTT vs Rapperswil-Jona II (24)
UID:93b4d827-4d28-408f-a59e-4f55e293b6a4
STATUS:CONFIRMED
LAST-MODIFIED:20250408T101918Z
DESCRIPTION:Herren Nationalliga B Gruppe 2\nBegegnungs-Nr: 24\nHeim: ABTT\nGast: Rapperswil-Jona II\n\nAdresse: Francesco Chiesa 2a\, 6500 Bellinzona\n
LOCATION:Francesco Chiesa 2a\, 6500 Bellinzona
CATEGORIES:Saison 2024/25
END:VEVENT
BEGIN:VEVENT
DTSTAMP:20260423T224751Z
DTSTART;TZID=Europe/Berlin:20250111T143000
DTEND;TZID=Europe/Berlin:20250111T173000
SUMMARY:HE NLB Gr. 2 Bremgarten vs Rapperswil-Jona II (3)
UID:ac48a348-b49a-4eaa-931d-781cf44c6fa9
STATUS:CONFIRMED
LAST-MODIFIED:20250113T085754Z
DESCRIPTION:Herren Nationalliga B Gruppe 2\nBegegnungs-Nr: 3\nHeim: Bremgarten\nGast: Rapperswil-Jona II\n\nAdresse: Badstrasse 3\, 5620 Bremgarten\n
LOCATION:Badstrasse 3\, 5620 Bremgarten
CATEGORIES:Saison 2024/25
END:VEVENT
BEGIN:VEVENT
DTSTAMP:20260423T224751Z
DTSTART;TZID=Europe/Berlin:20240921T163000
DTEND;TZID=Europe/Berlin:20240921T193000
SUMMARY:HE NLB Gr. 2 Rapid Luzern vs Rapperswil-Jona II (7)
UID:05e94855-4bc0-4e07-ab82-09db8ddc9a4d
STATUS:CONFIRMED
LAST-MODIFIED:20240926T072437Z
DESCRIPTION:Herren Nationalliga B Gruppe 2\nBegegnungs-Nr: 7\nHeim: Rapid Luzern\nGast: Rapperswil-Jona II\n\nAdresse: Kreuzbuchstr. 60\, 6006 Luzern\n
LOCATION:Kreuzbuchstr. 60\, 6006 Luzern
CATEGORIES:Saison 2024/25
END:VEVENT
BEGIN:VEVENT
DTSTAMP:20260423T224751Z
DTSTART;TZID=Europe/Berlin:20240907T150000
DTEND;TZID=Europe/Berlin:20240907T180000
SUMMARY:HE NLB Gr. 2 St. Gallen vs Rapperswil-Jona II (2)
UID:55ad5910-e918-4baf-8d28-20506f9f6599
STATUS:CONFIRMED
LAST-MODIFIED:20240910T075421Z
DESCRIPTION:Herren Nationalliga B Gruppe 2\nBegegnungs-Nr: 2\nHeim: St. Gallen\nGast: Rapperswil-Jona II\n\nAdresse: Zilstrasse 61\, 9016 St.Gallen\n
LOCATION:Zilstrasse 61\, 9016 St.Gallen
CATEGORIES:Saison 2024/25
END:VEVENT
BEGIN:VEVENT
DTSTAMP:20260423T224751Z
DTSTART;TZID=Europe/Berlin:20241116T160000
DTEND;TZID=Europe/Berlin:20241116T190000
SUMMARY:HE NLB Gr. 2 Fribourg vs Rapperswil-Jona II (17)
UID:8d7244e2-ebf0-43fa-a48b-9ffd4140fdc4
STATUS:CONFIRMED
LAST-MODIFIED:20241118T111751Z
DESCRIPTION:Herren Nationalliga B Gruppe 2\nBegegnungs-Nr: 17\nHeim: Fribourg\nGast: Rapperswil-Jona II\n\nAdresse: Avenue Général Guisan 61\, 1700 Fribourg\n
LOCATION:Avenue Général Guisan 61\, 1700 Fribourg
CATEGORIES:Saison 2024/25
END:VEVENT
BEGIN:VEVENT
DTSTAMP:20260423T224751Z
DTSTART;TZID=Europe/Berlin:20241103T140000
DTEND;TZID=Europe/Berlin:20241103T170000
SUMMARY:HE NLB Gr. 2 Young Stars ZH II vs Rapperswil-Jona II (14)
UID:a11f0aa0-7c5b-4170-aeea-9fc658335c8d
STATUS:CONFIRMED
LAST-MODIFIED:20241105T085242Z
DESCRIPTION:Herren Nationalliga B Gruppe 2\nBegegnungs-Nr: 14\nHeim: Young Stars ZH II\nGast: Rapperswil-Jona II\n\nAdresse: Seefeldstrasse 93\, 8008 Zürich\n
LOCATION:Seefeldstrasse 93\, 8008 Zürich
CATEGORIES:Saison 2024/25
END:VEVENT
END:VCALENDAR
