BEGIN:VCALENDAR
PRODID:-//nuDatenautomaten//framework iCal4j //DE
VERSION:2.0
CALSCALE:GREGORIAN
BEGIN:VTIMEZONE
TZID:Europe/Berlin
LAST-MODIFIED:20260306T231828Z
TZURL:https://www.tzurl.org/zoneinfo/Europe/Berlin
X-LIC-LOCATION:Europe/Berlin
X-PROLEPTIC-TZNAME:LMT
BEGIN:STANDARD
TZNAME:CET
TZOFFSETFROM:+005328
TZOFFSETTO:+0100
DTSTART:18930401T000000
END:STANDARD
BEGIN:DAYLIGHT
TZNAME:CEST
TZOFFSETFROM:+0100
TZOFFSETTO:+0200
DTSTART:19160430T230000
RDATE:19400401T020000
RDATE:19430329T020000
RDATE:19460414T020000
RDATE:19470406T030000
RDATE:19480418T020000
RDATE:19490410T020000
RDATE:19800406T020000
END:DAYLIGHT
BEGIN:STANDARD
TZNAME:CET
TZOFFSETFROM:+0200
TZOFFSETTO:+0100
DTSTART:19161001T010000
RDATE:19421102T030000
RDATE:19431004T030000
RDATE:19441002T030000
RDATE:19451118T030000
RDATE:19461007T030000
END:STANDARD
BEGIN:DAYLIGHT
TZNAME:CEST
TZOFFSETFROM:+0100
TZOFFSETTO:+0200
DTSTART:19170416T020000
RRULE:FREQ=YEARLY;UNTIL=19180415T010000Z;BYMONTH=4;BYDAY=3MO
END:DAYLIGHT
BEGIN:STANDARD
TZNAME:CET
TZOFFSETFROM:+0200
TZOFFSETTO:+0100
DTSTART:19170917T030000
RRULE:FREQ=YEARLY;UNTIL=19180916T010000Z;BYMONTH=9;BYDAY=3MO
END:STANDARD
BEGIN:DAYLIGHT
TZNAME:CEST
TZOFFSETFROM:+0100
TZOFFSETTO:+0200
DTSTART:19440403T020000
RRULE:FREQ=YEARLY;UNTIL=19450402T010000Z;BYMONTH=4;BYDAY=1MO
END:DAYLIGHT
BEGIN:DAYLIGHT
TZNAME:CEMT
TZOFFSETFROM:+0200
TZOFFSETTO:+0300
DTSTART:19450524T020000
RDATE:19470511T030000
END:DAYLIGHT
BEGIN:DAYLIGHT
TZNAME:CEST
TZOFFSETFROM:+0300
TZOFFSETTO:+0200
DTSTART:19450924T030000
RDATE:19470629T030000
END:DAYLIGHT
BEGIN:STANDARD
TZNAME:CET
TZOFFSETFROM:+0100
TZOFFSETTO:+0100
DTSTART:19460101T000000
RDATE:19800101T000000
END:STANDARD
BEGIN:STANDARD
TZNAME:CET
TZOFFSETFROM:+0200
TZOFFSETTO:+0100
DTSTART:19471005T030000
RRULE:FREQ=YEARLY;UNTIL=19491002T010000Z;BYMONTH=10;BYDAY=1SU
END:STANDARD
BEGIN:STANDARD
TZNAME:CET
TZOFFSETFROM:+0200
TZOFFSETTO:+0100
DTSTART:19800928T030000
RRULE:FREQ=YEARLY;UNTIL=19950924T010000Z;BYMONTH=9;BYDAY=-1SU
END:STANDARD
BEGIN:DAYLIGHT
TZNAME:CEST
TZOFFSETFROM:+0100
TZOFFSETTO:+0200
DTSTART:19810329T020000
RRULE:FREQ=YEARLY;BYMONTH=3;BYDAY=-1SU
END:DAYLIGHT
BEGIN:STANDARD
TZNAME:CET
TZOFFSETFROM:+0200
TZOFFSETTO:+0100
DTSTART:19961027T030000
RRULE:FREQ=YEARLY;BYMONTH=10;BYDAY=-1SU
END:STANDARD
END:VTIMEZONE
BEGIN:VEVENT
DTSTAMP:20260424T022604Z
DTSTART;TZID=Europe/Berlin:20250403T194500
DTEND;TZID=Europe/Berlin:20250403T224500
SUMMARY:Ligue 4 Gr.4 Ph.B Meyrin V vs Châtelaine VII (24)
UID:3a86be30-48dd-4390-b80d-f24b8aab66f8
STATUS:CONFIRMED
LAST-MODIFIED:20250404T064406Z
DESCRIPTION:4ème ligue Hommes Gr.4 Phase B\nBegegnungs-Nr: 24\nHeim: Meyrin V\nGast: Châtelaine VII\n
LOCATION:
CATEGORIES:Saison 2024/25
END:VEVENT
BEGIN:VEVENT
DTSTAMP:20260424T022604Z
DTSTART;TZID=Europe/Berlin:20250123T194500
DTEND;TZID=Europe/Berlin:20250123T224500
SUMMARY:Ligue 4 Gr.4 Ph.B Meyrin V vs Silver Star IX (5)
UID:2b404504-6000-492e-8e86-1e01751c02bc
STATUS:CONFIRMED
LAST-MODIFIED:20250124T121807Z
DESCRIPTION:4ème ligue Hommes Gr.4 Phase B\nBegegnungs-Nr: 5\nHeim: Meyrin V\nGast: Silver Star IX\n
LOCATION:
CATEGORIES:Saison 2024/25
END:VEVENT
BEGIN:VEVENT
DTSTAMP:20260424T022604Z
DTSTART;TZID=Europe/Berlin:20250313T194500
DTEND;TZID=Europe/Berlin:20250313T224500
SUMMARY:Ligue 4 Gr.4 Ph.B Meyrin V vs Grand-Saconnex (16)
UID:325fe46b-5831-4c2a-85e0-b1008a376cba
STATUS:CONFIRMED
LAST-MODIFIED:20250314T170545Z
DESCRIPTION:4ème ligue Hommes Gr.4 Phase B\nBegegnungs-Nr: 16\nHeim: Meyrin V\nGast: Grand-Saconnex\n
LOCATION:
CATEGORIES:Saison 2024/25
END:VEVENT
BEGIN:VEVENT
DTSTAMP:20260424T022604Z
DTSTART;TZID=Europe/Berlin:20250213T194500
DTEND;TZID=Europe/Berlin:20250213T224500
SUMMARY:Ligue 4 Gr.4 Ph.B Meyrin V vs Rapid-Genève II (11)
UID:2f207993-b943-47e3-a6ab-0c552ed0de56
STATUS:CONFIRMED
LAST-MODIFIED:20250214T093816Z
DESCRIPTION:4ème ligue Hommes Gr.4 Phase B\nBegegnungs-Nr: 11\nHeim: Meyrin V\nGast: Rapid-Genève II\n
LOCATION:
CATEGORIES:Saison 2024/25
END:VEVENT
BEGIN:VEVENT
DTSTAMP:20260424T022604Z
DTSTART;TZID=Europe/Berlin:20250417T194500
DTEND;TZID=Europe/Berlin:20250417T224500
SUMMARY:Ligue 4 Gr.4 Ph.B Meyrin V vs Puplinge II (29)
UID:653e6259-2e4b-4b1d-96b2-47bc7e6e2fb3
STATUS:CONFIRMED
LAST-MODIFIED:20250418T070211Z
DESCRIPTION:4ème ligue Hommes Gr.4 Phase B\nBegegnungs-Nr: 29\nHeim: Meyrin V\nGast: Puplinge II\n
LOCATION:
CATEGORIES:Saison 2024/25
END:VEVENT
BEGIN:VEVENT
DTSTAMP:20260424T022604Z
DTSTART;TZID=Europe/Berlin:20240912T194500
DTEND;TZID=Europe/Berlin:20240912T224500
SUMMARY:Ligue 4 Gr.4 Ph.A Meyrin V vs UGS-Chênois IX (3)
UID:a65e0ad5-645c-477a-8170-8d5fada6ee59
STATUS:CONFIRMED
LAST-MODIFIED:20240913T064409Z
DESCRIPTION:4ème ligue Hommes Gr.4 Phase A\nBegegnungs-Nr: 3\nHeim: Meyrin V\nGast: UGS-Chênois IX\n
LOCATION:
CATEGORIES:Saison 2024/25
END:VEVENT
BEGIN:VEVENT
DTSTAMP:20260424T022604Z
DTSTART;TZID=Europe/Berlin:20241121T194500
DTEND;TZID=Europe/Berlin:20241121T224500
SUMMARY:Ligue 4 Gr.4 Ph.A Meyrin V vs Châtelaine V (23)
UID:165acf73-572f-4e20-836d-fb5cbb5ca8aa
STATUS:CONFIRMED
LAST-MODIFIED:20241122T103837Z
DESCRIPTION:4ème ligue Hommes Gr.4 Phase A\nBegegnungs-Nr: 23\nHeim: Meyrin V\nGast: Châtelaine V\n
LOCATION:
CATEGORIES:Saison 2024/25
END:VEVENT
BEGIN:VEVENT
DTSTAMP:20260424T022604Z
DTSTART;TZID=Europe/Berlin:20241114T194500
DTEND;TZID=Europe/Berlin:20241114T224500
SUMMARY:Ligue 4 Gr.4 Ph.A Meyrin V vs Rapid-Genève III (19)
UID:023d2e19-b735-42f6-84fc-e0b1dc733816
STATUS:CONFIRMED
LAST-MODIFIED:20241115T103006Z
DESCRIPTION:4ème ligue Hommes Gr.4 Phase A\nBegegnungs-Nr: 19\nHeim: Meyrin V\nGast: Rapid-Genève III\n
LOCATION:
CATEGORIES:Saison 2024/25
END:VEVENT
BEGIN:VEVENT
DTSTAMP:20260424T022604Z
DTSTART;TZID=Europe/Berlin:20241017T194500
DTEND;TZID=Europe/Berlin:20241017T224500
SUMMARY:Ligue 4 Gr.4 Ph.A Meyrin V vs ZZ-Lancy IX (14)
UID:fcb6fe25-0ea7-4420-a95c-2e903bbcf556
STATUS:CONFIRMED
LAST-MODIFIED:20241018T191015Z
DESCRIPTION:4ème ligue Hommes Gr.4 Phase A\nBegegnungs-Nr: 14\nHeim: Meyrin V\nGast: ZZ-Lancy IX\n
LOCATION:
CATEGORIES:Saison 2024/25
END:VEVENT
BEGIN:VEVENT
DTSTAMP:20260424T022604Z
DTSTART;TZID=Europe/Berlin:20241010T194500
DTEND;TZID=Europe/Berlin:20241010T224500
SUMMARY:Ligue 4 Gr.4 Ph.A Meyrin V vs Carouge VI (10)
UID:3ba91fe0-ed6a-4780-a322-8d12cb35dc19
STATUS:CONFIRMED
LAST-MODIFIED:20241011T072203Z
DESCRIPTION:4ème ligue Hommes Gr.4 Phase A\nBegegnungs-Nr: 10\nHeim: Meyrin V\nGast: Carouge VI\n
LOCATION:
CATEGORIES:Saison 2024/25
END:VEVENT
BEGIN:VEVENT
DTSTAMP:20260424T022604Z
DTSTART;TZID=Europe/Berlin:20250115T194500
DTEND;TZID=Europe/Berlin:20250115T224500
SUMMARY:Ligue 4 Gr.4 Ph.B Grand-Saconnex vs Meyrin V (1)
UID:c5551a28-1487-49a2-bd9f-5309a09cac56
STATUS:CONFIRMED
LAST-MODIFIED:20250116T090631Z
DESCRIPTION:4ème ligue Hommes Gr.4 Phase B\nBegegnungs-Nr: 1\nHeim: Grand-Saconnex\nGast: Meyrin V\n
LOCATION:
CATEGORIES:Saison 2024/25
END:VEVENT
BEGIN:VEVENT
DTSTAMP:20260424T022604Z
DTSTART;TZID=Europe/Berlin:20250320T194500
DTEND;TZID=Europe/Berlin:20250320T224500
SUMMARY:Ligue 4 Gr.4 Ph.B Silver Star IX vs Meyrin V (20)
UID:63635beb-c3a3-4940-9ac8-8106dfb82b92
STATUS:CONFIRMED
LAST-MODIFIED:20250323T142502Z
DESCRIPTION:4ème ligue Hommes Gr.4 Phase B\nBegegnungs-Nr: 20\nHeim: Silver Star IX\nGast: Meyrin V\n
LOCATION:
CATEGORIES:Saison 2024/25
END:VEVENT
BEGIN:VEVENT
DTSTAMP:20260424T022604Z
DTSTART;TZID=Europe/Berlin:20250130T200000
DTEND;TZID=Europe/Berlin:20250130T230000
SUMMARY:Ligue 4 Gr.4 Ph.B Châtelaine VII vs Meyrin V (9)
UID:2b8399f7-ecdd-4d78-8981-3139a932b8e3
STATUS:CONFIRMED
LAST-MODIFIED:20250131T080924Z
DESCRIPTION:4ème ligue Hommes Gr.4 Phase B\nBegegnungs-Nr: 9\nHeim: Châtelaine VII\nGast: Meyrin V\n
LOCATION:
CATEGORIES:Saison 2024/25
END:VEVENT
BEGIN:VEVENT
DTSTAMP:20260424T022604Z
DTSTART;TZID=Europe/Berlin:20250220T201500
DTEND;TZID=Europe/Berlin:20250220T231500
SUMMARY:Ligue 4 Gr.4 Ph.B Puplinge II vs Meyrin V (14)
UID:303e1085-144f-4e97-9ca6-d2e2cb03fb48
STATUS:CONFIRMED
LAST-MODIFIED:20250221T084225Z
DESCRIPTION:4ème ligue Hommes Gr.4 Phase B\nBegegnungs-Nr: 14\nHeim: Puplinge II\nGast: Meyrin V\n\nAdresse: Chemin de la Brenaz\,  15\, 1241 Puplinge\n
LOCATION:Chemin de la Brenaz\,  15\, 1241 Puplinge
CATEGORIES:Saison 2024/25
END:VEVENT
BEGIN:VEVENT
DTSTAMP:20260424T022604Z
DTSTART;TZID=Europe/Berlin:20250410T194500
DTEND;TZID=Europe/Berlin:20250410T224500
SUMMARY:Ligue 4 Gr.4 Ph.B Rapid-Genève II vs Meyrin V (26)
UID:7300c99c-6f4a-4824-a74b-144751bc90b6
STATUS:CONFIRMED
LAST-MODIFIED:20250411T083644Z
DESCRIPTION:4ème ligue Hommes Gr.4 Phase B\nBegegnungs-Nr: 26\nHeim: Rapid-Genève II\nGast: Meyrin V\n
LOCATION:
CATEGORIES:Saison 2024/25
END:VEVENT
BEGIN:VEVENT
DTSTAMP:20260424T022604Z
DTSTART;TZID=Europe/Berlin:20240919T194500
DTEND;TZID=Europe/Berlin:20240919T224500
SUMMARY:Ligue 4 Gr.4 Ph.A Rapid-Genève III vs Meyrin V (4)
UID:accae551-485c-4b68-b0a0-36615d03ccf3
STATUS:CONFIRMED
LAST-MODIFIED:20240920T083558Z
DESCRIPTION:4ème ligue Hommes Gr.4 Phase A\nBegegnungs-Nr: 4\nHeim: Rapid-Genève III\nGast: Meyrin V\n
LOCATION:
CATEGORIES:Saison 2024/25
END:VEVENT
BEGIN:VEVENT
DTSTAMP:20260424T022604Z
DTSTART;TZID=Europe/Berlin:20241205T200000
DTEND;TZID=Europe/Berlin:20241205T230000
SUMMARY:Ligue 4 Gr.4 Ph.A ZZ-Lancy IX vs Meyrin V (29)
UID:ab336eb1-4dbc-4a6c-98c8-2a37ae898435
STATUS:CONFIRMED
LAST-MODIFIED:20241206T082811Z
DESCRIPTION:4ème ligue Hommes Gr.4 Phase A\nBegegnungs-Nr: 29\nHeim: ZZ-Lancy IX\nGast: Meyrin V\n
LOCATION:
CATEGORIES:Saison 2024/25
END:VEVENT
BEGIN:VEVENT
DTSTAMP:20260424T022604Z
DTSTART;TZID=Europe/Berlin:20241128T194500
DTEND;TZID=Europe/Berlin:20241128T224500
SUMMARY:Ligue 4 Gr.4 Ph.A Carouge VI vs Meyrin V (25)
UID:4749f362-6d29-4c33-b607-099114f289af
STATUS:CONFIRMED
LAST-MODIFIED:20241129T123647Z
DESCRIPTION:4ème ligue Hommes Gr.4 Phase A\nBegegnungs-Nr: 25\nHeim: Carouge VI\nGast: Meyrin V\n
LOCATION:
CATEGORIES:Saison 2024/25
END:VEVENT
BEGIN:VEVENT
DTSTAMP:20260424T022604Z
DTSTART;TZID=Europe/Berlin:20241031T194500
DTEND;TZID=Europe/Berlin:20241031T224500
SUMMARY:Ligue 4 Gr.4 Ph.A UGS-Chênois IX vs Meyrin V (18)
UID:bce256fa-062a-46f8-846e-21e61818e104
STATUS:CONFIRMED
LAST-MODIFIED:20241104T151230Z
DESCRIPTION:4ème ligue Hommes Gr.4 Phase A\nBegegnungs-Nr: 18\nHeim: UGS-Chênois IX\nGast: Meyrin V\n
LOCATION:
CATEGORIES:Saison 2024/25
END:VEVENT
BEGIN:VEVENT
DTSTAMP:20260424T022604Z
DTSTART;TZID=Europe/Berlin:20240926T200000
DTEND;TZID=Europe/Berlin:20240926T230000
SUMMARY:Ligue 4 Gr.4 Ph.A Châtelaine V vs Meyrin V (8)
UID:4f6a5f54-2c85-4e48-9b42-2be8be48331f
STATUS:CONFIRMED
LAST-MODIFIED:20240927T080952Z
DESCRIPTION:4ème ligue Hommes Gr.4 Phase A\nBegegnungs-Nr: 8\nHeim: Châtelaine V\nGast: Meyrin V\n
LOCATION:
CATEGORIES:Saison 2024/25
END:VEVENT
END:VCALENDAR
