BEGIN:VCALENDAR
PRODID:-//nuDatenautomaten//framework iCal4j //DE
VERSION:2.0
CALSCALE:GREGORIAN
BEGIN:VTIMEZONE
TZID:Europe/Berlin
LAST-MODIFIED:20260306T231828Z
TZURL:https://www.tzurl.org/zoneinfo/Europe/Berlin
X-LIC-LOCATION:Europe/Berlin
X-PROLEPTIC-TZNAME:LMT
BEGIN:STANDARD
TZNAME:CET
TZOFFSETFROM:+005328
TZOFFSETTO:+0100
DTSTART:18930401T000000
END:STANDARD
BEGIN:DAYLIGHT
TZNAME:CEST
TZOFFSETFROM:+0100
TZOFFSETTO:+0200
DTSTART:19160430T230000
RDATE:19400401T020000
RDATE:19430329T020000
RDATE:19460414T020000
RDATE:19470406T030000
RDATE:19480418T020000
RDATE:19490410T020000
RDATE:19800406T020000
END:DAYLIGHT
BEGIN:STANDARD
TZNAME:CET
TZOFFSETFROM:+0200
TZOFFSETTO:+0100
DTSTART:19161001T010000
RDATE:19421102T030000
RDATE:19431004T030000
RDATE:19441002T030000
RDATE:19451118T030000
RDATE:19461007T030000
END:STANDARD
BEGIN:DAYLIGHT
TZNAME:CEST
TZOFFSETFROM:+0100
TZOFFSETTO:+0200
DTSTART:19170416T020000
RRULE:FREQ=YEARLY;UNTIL=19180415T010000Z;BYMONTH=4;BYDAY=3MO
END:DAYLIGHT
BEGIN:STANDARD
TZNAME:CET
TZOFFSETFROM:+0200
TZOFFSETTO:+0100
DTSTART:19170917T030000
RRULE:FREQ=YEARLY;UNTIL=19180916T010000Z;BYMONTH=9;BYDAY=3MO
END:STANDARD
BEGIN:DAYLIGHT
TZNAME:CEST
TZOFFSETFROM:+0100
TZOFFSETTO:+0200
DTSTART:19440403T020000
RRULE:FREQ=YEARLY;UNTIL=19450402T010000Z;BYMONTH=4;BYDAY=1MO
END:DAYLIGHT
BEGIN:DAYLIGHT
TZNAME:CEMT
TZOFFSETFROM:+0200
TZOFFSETTO:+0300
DTSTART:19450524T020000
RDATE:19470511T030000
END:DAYLIGHT
BEGIN:DAYLIGHT
TZNAME:CEST
TZOFFSETFROM:+0300
TZOFFSETTO:+0200
DTSTART:19450924T030000
RDATE:19470629T030000
END:DAYLIGHT
BEGIN:STANDARD
TZNAME:CET
TZOFFSETFROM:+0100
TZOFFSETTO:+0100
DTSTART:19460101T000000
RDATE:19800101T000000
END:STANDARD
BEGIN:STANDARD
TZNAME:CET
TZOFFSETFROM:+0200
TZOFFSETTO:+0100
DTSTART:19471005T030000
RRULE:FREQ=YEARLY;UNTIL=19491002T010000Z;BYMONTH=10;BYDAY=1SU
END:STANDARD
BEGIN:STANDARD
TZNAME:CET
TZOFFSETFROM:+0200
TZOFFSETTO:+0100
DTSTART:19800928T030000
RRULE:FREQ=YEARLY;UNTIL=19950924T010000Z;BYMONTH=9;BYDAY=-1SU
END:STANDARD
BEGIN:DAYLIGHT
TZNAME:CEST
TZOFFSETFROM:+0100
TZOFFSETTO:+0200
DTSTART:19810329T020000
RRULE:FREQ=YEARLY;BYMONTH=3;BYDAY=-1SU
END:DAYLIGHT
BEGIN:STANDARD
TZNAME:CET
TZOFFSETFROM:+0200
TZOFFSETTO:+0100
DTSTART:19961027T030000
RRULE:FREQ=YEARLY;BYMONTH=10;BYDAY=-1SU
END:STANDARD
END:VTIMEZONE
BEGIN:VEVENT
DTSTAMP:20260424T062127Z
DTSTART;TZID=Europe/Berlin:20241211T200000
DTEND;TZID=Europe/Berlin:20241211T230000
SUMMARY:ME L3 Gr 3\, Tours 1&2 Lausanne V vs Crissier IV (0)
UID:64d38811-1405-437c-ad11-ac2724dcf598
STATUS:CONFIRMED
LAST-MODIFIED:20241215T005808Z
DESCRIPTION:3ème ligue Hommes Groupe 3\, Tours 1&2\nBegegnungs-Nr: 0\nHeim: Lausanne V\nGast: Crissier IV\n\nAdresse: Vaudoise Aréna\, Ch. du Viaduc 14\, 1008 Prilly\n
LOCATION:Vaudoise Aréna\, Ch. du Viaduc 14\, 1008 Prilly
CATEGORIES:Saison 2024/25
END:VEVENT
BEGIN:VEVENT
DTSTAMP:20260424T062127Z
DTSTART;TZID=Europe/Berlin:20241127T200000
DTEND;TZID=Europe/Berlin:20241127T230000
SUMMARY:ME L3 Gr 3\, Tours 1&2 Lausanne V vs Montriond-Ouchy  II (0)
UID:9e186146-916f-40fe-ab1a-8861899276d3
STATUS:CONFIRMED
LAST-MODIFIED:20241130T173019Z
DESCRIPTION:3ème ligue Hommes Groupe 3\, Tours 1&2\nBegegnungs-Nr: 0\nHeim: Lausanne V\nGast: Montriond-Ouchy  II\n\nAdresse: Vaudoise Aréna\, Ch. du Viaduc 14\, 1008 Prilly\n
LOCATION:Vaudoise Aréna\, Ch. du Viaduc 14\, 1008 Prilly
CATEGORIES:Saison 2024/25
END:VEVENT
BEGIN:VEVENT
DTSTAMP:20260424T062127Z
DTSTART;TZID=Europe/Berlin:20241106T200000
DTEND;TZID=Europe/Berlin:20241106T230000
SUMMARY:ME L3 Gr 3\, Tours 1&2 Lausanne V vs Romanel III (0)
UID:1a41d7f9-165b-41aa-9b97-0a90049c838a
STATUS:CONFIRMED
LAST-MODIFIED:20241110T153738Z
DESCRIPTION:3ème ligue Hommes Groupe 3\, Tours 1&2\nBegegnungs-Nr: 0\nHeim: Lausanne V\nGast: Romanel III\n\nAdresse: Vaudoise Aréna\, Ch. du Viaduc 14\, 1008 Prilly\n
LOCATION:Vaudoise Aréna\, Ch. du Viaduc 14\, 1008 Prilly
CATEGORIES:Saison 2024/25
END:VEVENT
BEGIN:VEVENT
DTSTAMP:20260424T062127Z
DTSTART;TZID=Europe/Berlin:20240918T200000
DTEND;TZID=Europe/Berlin:20240918T230000
SUMMARY:ME L3 Gr 3\, Tours 1&2 Lausanne V vs Pully (0)
UID:52e5ee97-3e3d-426a-b16d-944119677268
STATUS:CONFIRMED
LAST-MODIFIED:20241008T181627Z
DESCRIPTION:3ème ligue Hommes Groupe 3\, Tours 1&2\nBegegnungs-Nr: 0\nHeim: Lausanne V\nGast: Pully\n\nAdresse: Vaudoise Aréna\, Ch. du Viaduc 14\, 1008 Prilly\n
LOCATION:Vaudoise Aréna\, Ch. du Viaduc 14\, 1008 Prilly
CATEGORIES:Saison 2024/25
END:VEVENT
BEGIN:VEVENT
DTSTAMP:20260424T062127Z
DTSTART;TZID=Europe/Berlin:20240904T200000
DTEND;TZID=Europe/Berlin:20240904T230000
SUMMARY:ME L3 Gr 3\, Tours 1&2 Lausanne V vs Gland II (0)
UID:eaf1c57e-fdb4-4d7c-9787-32ed1d301d45
STATUS:CONFIRMED
LAST-MODIFIED:20240909T223708Z
DESCRIPTION:3ème ligue Hommes Groupe 3\, Tours 1&2\nBegegnungs-Nr: 0\nHeim: Lausanne V\nGast: Gland II\n\nAdresse: Vaudoise Aréna\, Ch. du Viaduc 14\, 1008 Prilly\n
LOCATION:Vaudoise Aréna\, Ch. du Viaduc 14\, 1008 Prilly
CATEGORIES:Saison 2024/25
END:VEVENT
BEGIN:VEVENT
DTSTAMP:20260424T062127Z
DTSTART;TZID=Europe/Berlin:20250506T200000
DTEND;TZID=Europe/Berlin:20250506T230000
SUMMARY:ME L2 Gr 2\, Tours 3&4 Lausanne V vs Fribourg III (0)
UID:c7331dda-76e2-41ea-aac0-42c14bce9e9d
STATUS:CONFIRMED
LAST-MODIFIED:20250509T150144Z
DESCRIPTION:2ème ligue Hommes Groupe 2\, Tours 3&4\nBegegnungs-Nr: 0\nHeim: Lausanne V\nGast: Fribourg III\n\nAdresse: Vaudoise Aréna\, Ch. du Viaduc 14\, 1008 Prilly\n
LOCATION:Vaudoise Aréna\, Ch. du Viaduc 14\, 1008 Prilly
CATEGORIES:Saison 2024/25
END:VEVENT
BEGIN:VEVENT
DTSTAMP:20260424T062127Z
DTSTART;TZID=Europe/Berlin:20250304T200000
DTEND;TZID=Europe/Berlin:20250304T230000
SUMMARY:ME L2 Gr 2\, Tours 3&4 Lausanne V vs Lausanne III (0)
UID:1ea41ca4-2a7a-41cd-8757-59c3b045c812
STATUS:CONFIRMED
LAST-MODIFIED:20250304T220917Z
DESCRIPTION:2ème ligue Hommes Groupe 2\, Tours 3&4\nBegegnungs-Nr: 0\nHeim: Lausanne V\nGast: Lausanne III\n\nAdresse: Vaudoise Aréna\, Ch. du Viaduc 14\, 1008 Prilly\n
LOCATION:Vaudoise Aréna\, Ch. du Viaduc 14\, 1008 Prilly
CATEGORIES:Saison 2024/25
END:VEVENT
BEGIN:VEVENT
DTSTAMP:20260424T062127Z
DTSTART;TZID=Europe/Berlin:20250225T200000
DTEND;TZID=Europe/Berlin:20250225T230000
SUMMARY:ME L2 Gr 2\, Tours 3&4 Lausanne V vs Rossens III (0)
UID:1bb0cc8b-2465-451a-8ce3-1e3406f728ba
STATUS:CONFIRMED
LAST-MODIFIED:20250228T164826Z
DESCRIPTION:2ème ligue Hommes Groupe 2\, Tours 3&4\nBegegnungs-Nr: 0\nHeim: Lausanne V\nGast: Rossens III\n\nAdresse: Vaudoise Aréna\, Ch. du Viaduc 14\, 1008 Prilly\n
LOCATION:Vaudoise Aréna\, Ch. du Viaduc 14\, 1008 Prilly
CATEGORIES:Saison 2024/25
END:VEVENT
BEGIN:VEVENT
DTSTAMP:20260424T062127Z
DTSTART;TZID=Europe/Berlin:20250306T200000
DTEND;TZID=Europe/Berlin:20250306T230000
SUMMARY:ME L2 Gr 2\, Tours 3&4 Lausanne V vs Mézières (0)
UID:f94018a9-41d7-4fdb-b305-f26b983eb18a
STATUS:CONFIRMED
LAST-MODIFIED:20250309T202605Z
DESCRIPTION:2ème ligue Hommes Groupe 2\, Tours 3&4\nBegegnungs-Nr: 0\nHeim: Lausanne V\nGast: Mézières\n\nAdresse: Vaudoise Aréna\, Ch. du Viaduc 14\, 1008 Prilly\n
LOCATION:Vaudoise Aréna\, Ch. du Viaduc 14\, 1008 Prilly
CATEGORIES:Saison 2024/25
END:VEVENT
BEGIN:VEVENT
DTSTAMP:20260424T062127Z
DTSTART;TZID=Europe/Berlin:20250121T200000
DTEND;TZID=Europe/Berlin:20250121T230000
SUMMARY:ME L2 Gr 2\, Tours 3&4 Lausanne V vs Fribourg IV (0)
UID:e1390fd0-ff69-4828-88fb-1979c0108690
STATUS:CONFIRMED
LAST-MODIFIED:20250127T011626Z
DESCRIPTION:2ème ligue Hommes Groupe 2\, Tours 3&4\nBegegnungs-Nr: 0\nHeim: Lausanne V\nGast: Fribourg IV\n\nAdresse: Vaudoise Aréna\, Ch. du Viaduc 14\, 1008 Prilly\n
LOCATION:Vaudoise Aréna\, Ch. du Viaduc 14\, 1008 Prilly
CATEGORIES:Saison 2024/25
END:VEVENT
BEGIN:VEVENT
DTSTAMP:20260424T062127Z
DTSTART;TZID=Europe/Berlin:20241121T193000
DTEND;TZID=Europe/Berlin:20241121T223000
SUMMARY:ME L3 Gr 3\, Tours 1&2 Pully vs Lausanne V (0)
UID:3c3eaee6-d143-41d5-8e89-ffd4ec4100bf
STATUS:CONFIRMED
LAST-MODIFIED:20241126T112036Z
DESCRIPTION:3ème ligue Hommes Groupe 3\, Tours 1&2\nBegegnungs-Nr: 0\nHeim: Pully\nGast: Lausanne V\n\nAdresse: Av. de Belmont 4\, 1009 Pully\n
LOCATION:Av. de Belmont 4\, 1009 Pully
CATEGORIES:Saison 2024/25
END:VEVENT
BEGIN:VEVENT
DTSTAMP:20260424T062127Z
DTSTART;TZID=Europe/Berlin:20241025T193000
DTEND;TZID=Europe/Berlin:20241025T223000
SUMMARY:ME L3 Gr 3\, Tours 1&2 Gland II vs Lausanne V (0)
UID:ead02c56-314e-4d23-9bdc-7313fc83548c
STATUS:CONFIRMED
LAST-MODIFIED:20241027T110759Z
DESCRIPTION:3ème ligue Hommes Groupe 3\, Tours 1&2\nBegegnungs-Nr: 0\nHeim: Gland II\nGast: Lausanne V\n\nAdresse: Chemin de la Perroude 1\, 1196 Gland\n
LOCATION:Chemin de la Perroude 1\, 1196 Gland
CATEGORIES:Saison 2024/25
END:VEVENT
BEGIN:VEVENT
DTSTAMP:20260424T062127Z
DTSTART;TZID=Europe/Berlin:20241011T193000
DTEND;TZID=Europe/Berlin:20241011T223000
SUMMARY:ME L3 Gr 3\, Tours 1&2 Crissier IV vs Lausanne V (0)
UID:3b6c072a-c745-4321-961c-0c20fe9108e1
STATUS:CONFIRMED
LAST-MODIFIED:20241016T185044Z
DESCRIPTION:3ème ligue Hommes Groupe 3\, Tours 1&2\nBegegnungs-Nr: 0\nHeim: Crissier IV\nGast: Lausanne V\n\nAdresse: ch. des Oches du Mur\, 1023 Crissier\n
LOCATION:ch. des Oches du Mur\, 1023 Crissier
CATEGORIES:Saison 2024/25
END:VEVENT
BEGIN:VEVENT
DTSTAMP:20260424T062127Z
DTSTART;TZID=Europe/Berlin:20241003T193000
DTEND;TZID=Europe/Berlin:20241003T223000
SUMMARY:ME L3 Gr 3\, Tours 1&2 Montriond-Ouchy  II vs Lausanne V (0)
UID:0f7641a1-97ca-47c4-927b-7c8a23b35b01
STATUS:CONFIRMED
LAST-MODIFIED:20241007T063610Z
DESCRIPTION:3ème ligue Hommes Groupe 3\, Tours 1&2\nBegegnungs-Nr: 0\nHeim: Montriond-Ouchy  II\nGast: Lausanne V\n\nAdresse: Avenue d'Ouchy 45\, 1006 Lausanne\n
LOCATION:Avenue d'Ouchy 45\, 1006 Lausanne
CATEGORIES:Saison 2024/25
END:VEVENT
BEGIN:VEVENT
DTSTAMP:20260424T062127Z
DTSTART;TZID=Europe/Berlin:20240924T194500
DTEND;TZID=Europe/Berlin:20240924T224500
SUMMARY:ME L3 Gr 3\, Tours 1&2 Romanel III vs Lausanne V (0)
UID:d99463d1-fd6b-4fac-a059-92e111baaf30
STATUS:CONFIRMED
LAST-MODIFIED:20240928T191443Z
DESCRIPTION:3ème ligue Hommes Groupe 3\, Tours 1&2\nBegegnungs-Nr: 0\nHeim: Romanel III\nGast: Lausanne V\n\nAdresse: Ch des Epinettes 1\, 1032 Romanel-sur-Lausanne\n
LOCATION:Ch des Epinettes 1\, 1032 Romanel-sur-Lausanne
CATEGORIES:Saison 2024/25
END:VEVENT
BEGIN:VEVENT
DTSTAMP:20260424T062127Z
DTSTART;TZID=Europe/Berlin:20250510T150000
DTEND;TZID=Europe/Berlin:20250510T180000
SUMMARY:ME L2 Gr 2\, Tours 3&4 Rossens III vs Lausanne V (0)
UID:f7a25f22-123c-4aae-93f7-2bf91c199996
STATUS:CONFIRMED
LAST-MODIFIED:20250510T174955Z
DESCRIPTION:2ème ligue Hommes Groupe 2\, Tours 3&4\nBegegnungs-Nr: 0\nHeim: Rossens III\nGast: Lausanne V\n\nAdresse: Route du Jordil 14\, 1728 Rossens\n
LOCATION:Route du Jordil 14\, 1728 Rossens
CATEGORIES:Saison 2024/25
END:VEVENT
BEGIN:VEVENT
DTSTAMP:20260424T062127Z
DTSTART;TZID=Europe/Berlin:20250409T200000
DTEND;TZID=Europe/Berlin:20250409T230000
SUMMARY:ME L2 Gr 2\, Tours 3&4 Mézières vs Lausanne V (0)
UID:dffc45b4-732b-4b69-be20-f222c62190fb
STATUS:CONFIRMED
LAST-MODIFIED:20250410T084109Z
DESCRIPTION:2ème ligue Hommes Groupe 2\, Tours 3&4\nBegegnungs-Nr: 0\nHeim: Mézières\nGast: Lausanne V\n\nAdresse: -\, 1083 Mézières\n
LOCATION:-\, 1083 Mézières
CATEGORIES:Saison 2024/25
END:VEVENT
BEGIN:VEVENT
DTSTAMP:20260424T062127Z
DTSTART;TZID=Europe/Berlin:20250320T193000
DTEND;TZID=Europe/Berlin:20250320T223000
SUMMARY:ME L2 Gr 2\, Tours 3&4 Fribourg IV vs Lausanne V (0)
UID:189b655c-24e3-4d7f-9039-d68923c6ff0d
STATUS:CONFIRMED
LAST-MODIFIED:20250320T223410Z
DESCRIPTION:2ème ligue Hommes Groupe 2\, Tours 3&4\nBegegnungs-Nr: 0\nHeim: Fribourg IV\nGast: Lausanne V\n\nAdresse: Avenue Général Guisan 61\, 1700 Fribourg\n
LOCATION:Avenue Général Guisan 61\, 1700 Fribourg
CATEGORIES:Saison 2024/25
END:VEVENT
BEGIN:VEVENT
DTSTAMP:20260424T062127Z
DTSTART;TZID=Europe/Berlin:20250220T193000
DTEND;TZID=Europe/Berlin:20250220T223000
SUMMARY:ME L2 Gr 2\, Tours 3&4 Fribourg III vs Lausanne V (0)
UID:6b199b4e-93e6-4f65-80ea-3c76b7586d3b
STATUS:CONFIRMED
LAST-MODIFIED:20250222T175819Z
DESCRIPTION:2ème ligue Hommes Groupe 2\, Tours 3&4\nBegegnungs-Nr: 0\nHeim: Fribourg III\nGast: Lausanne V\n\nAdresse: Route du Centre sportif\, 1752 Villars-sur-Glâne\n
LOCATION:Route du Centre sportif\, 1752 Villars-sur-Glâne
CATEGORIES:Saison 2024/25
END:VEVENT
BEGIN:VEVENT
DTSTAMP:20260424T062127Z
DTSTART;TZID=Europe/Berlin:20250117T200000
DTEND;TZID=Europe/Berlin:20250117T230000
SUMMARY:ME L2 Gr 2\, Tours 3&4 Lausanne III vs Lausanne V (0)
UID:b7fc30fd-1000-46b8-b360-892b9ced61ef
STATUS:CONFIRMED
LAST-MODIFIED:20250120T123426Z
DESCRIPTION:2ème ligue Hommes Groupe 2\, Tours 3&4\nBegegnungs-Nr: 0\nHeim: Lausanne III\nGast: Lausanne V\n\nAdresse: Vaudoise Aréna\, Ch. du Viaduc 14\, 1008 Prilly\n
LOCATION:Vaudoise Aréna\, Ch. du Viaduc 14\, 1008 Prilly
CATEGORIES:Saison 2024/25
END:VEVENT
END:VCALENDAR
