BEGIN:VCALENDAR
PRODID:-//nuDatenautomaten//framework iCal4j //DE
VERSION:2.0
CALSCALE:GREGORIAN
BEGIN:VTIMEZONE
TZID:Europe/Berlin
LAST-MODIFIED:20260306T231828Z
TZURL:https://www.tzurl.org/zoneinfo/Europe/Berlin
X-LIC-LOCATION:Europe/Berlin
X-PROLEPTIC-TZNAME:LMT
BEGIN:STANDARD
TZNAME:CET
TZOFFSETFROM:+005328
TZOFFSETTO:+0100
DTSTART:18930401T000000
END:STANDARD
BEGIN:DAYLIGHT
TZNAME:CEST
TZOFFSETFROM:+0100
TZOFFSETTO:+0200
DTSTART:19160430T230000
RDATE:19400401T020000
RDATE:19430329T020000
RDATE:19460414T020000
RDATE:19470406T030000
RDATE:19480418T020000
RDATE:19490410T020000
RDATE:19800406T020000
END:DAYLIGHT
BEGIN:STANDARD
TZNAME:CET
TZOFFSETFROM:+0200
TZOFFSETTO:+0100
DTSTART:19161001T010000
RDATE:19421102T030000
RDATE:19431004T030000
RDATE:19441002T030000
RDATE:19451118T030000
RDATE:19461007T030000
END:STANDARD
BEGIN:DAYLIGHT
TZNAME:CEST
TZOFFSETFROM:+0100
TZOFFSETTO:+0200
DTSTART:19170416T020000
RRULE:FREQ=YEARLY;UNTIL=19180415T010000Z;BYMONTH=4;BYDAY=3MO
END:DAYLIGHT
BEGIN:STANDARD
TZNAME:CET
TZOFFSETFROM:+0200
TZOFFSETTO:+0100
DTSTART:19170917T030000
RRULE:FREQ=YEARLY;UNTIL=19180916T010000Z;BYMONTH=9;BYDAY=3MO
END:STANDARD
BEGIN:DAYLIGHT
TZNAME:CEST
TZOFFSETFROM:+0100
TZOFFSETTO:+0200
DTSTART:19440403T020000
RRULE:FREQ=YEARLY;UNTIL=19450402T010000Z;BYMONTH=4;BYDAY=1MO
END:DAYLIGHT
BEGIN:DAYLIGHT
TZNAME:CEMT
TZOFFSETFROM:+0200
TZOFFSETTO:+0300
DTSTART:19450524T020000
RDATE:19470511T030000
END:DAYLIGHT
BEGIN:DAYLIGHT
TZNAME:CEST
TZOFFSETFROM:+0300
TZOFFSETTO:+0200
DTSTART:19450924T030000
RDATE:19470629T030000
END:DAYLIGHT
BEGIN:STANDARD
TZNAME:CET
TZOFFSETFROM:+0100
TZOFFSETTO:+0100
DTSTART:19460101T000000
RDATE:19800101T000000
END:STANDARD
BEGIN:STANDARD
TZNAME:CET
TZOFFSETFROM:+0200
TZOFFSETTO:+0100
DTSTART:19471005T030000
RRULE:FREQ=YEARLY;UNTIL=19491002T010000Z;BYMONTH=10;BYDAY=1SU
END:STANDARD
BEGIN:STANDARD
TZNAME:CET
TZOFFSETFROM:+0200
TZOFFSETTO:+0100
DTSTART:19800928T030000
RRULE:FREQ=YEARLY;UNTIL=19950924T010000Z;BYMONTH=9;BYDAY=-1SU
END:STANDARD
BEGIN:DAYLIGHT
TZNAME:CEST
TZOFFSETFROM:+0100
TZOFFSETTO:+0200
DTSTART:19810329T020000
RRULE:FREQ=YEARLY;BYMONTH=3;BYDAY=-1SU
END:DAYLIGHT
BEGIN:STANDARD
TZNAME:CET
TZOFFSETFROM:+0200
TZOFFSETTO:+0100
DTSTART:19961027T030000
RRULE:FREQ=YEARLY;BYMONTH=10;BYDAY=-1SU
END:STANDARD
END:VTIMEZONE
BEGIN:VEVENT
DTSTAMP:20260423T175534Z
DTSTART;TZID=Europe/Berlin:20240906T201500
DTEND;TZID=Europe/Berlin:20240906T231500
SUMMARY:He 3. Liga Gr. 2 Schenkon IV vs Zug IV (0)
UID:6b397c0d-b055-4627-b311-66f90bee22ec
STATUS:CONFIRMED
LAST-MODIFIED:20240923T140403Z
DESCRIPTION:3. Liga Herren Gruppe 2\nBegegnungs-Nr: 0\nHeim: Schenkon IV\nGast: Zug IV\n6214 Schenkon\n
LOCATION:6214 Schenkon
CATEGORIES:Saison 2024/25
END:VEVENT
BEGIN:VEVENT
DTSTAMP:20260423T175534Z
DTSTART;TZID=Europe/Berlin:20241122T201500
DTEND;TZID=Europe/Berlin:20241122T231500
SUMMARY:He 3. Liga Gr. 2 Schenkon IV vs Reussbühl IV (0)
UID:966b1802-05fa-4531-9c57-56b649782b99
STATUS:CONFIRMED
LAST-MODIFIED:20241129T103758Z
DESCRIPTION:3. Liga Herren Gruppe 2\nBegegnungs-Nr: 0\nHeim: Schenkon IV\nGast: Reussbühl IV\n6214 Schenkon\n
LOCATION:6214 Schenkon
CATEGORIES:Saison 2024/25
END:VEVENT
BEGIN:VEVENT
DTSTAMP:20260423T175534Z
DTSTART;TZID=Europe/Berlin:20241220T201500
DTEND;TZID=Europe/Berlin:20241220T231500
SUMMARY:He 3. Liga Gr. 2 Schenkon IV vs Goldau V (0)
UID:c286a875-1a5f-4699-92b3-90694b94f691
STATUS:CONFIRMED
LAST-MODIFIED:20241223T171451Z
DESCRIPTION:3. Liga Herren Gruppe 2\nBegegnungs-Nr: 0\nHeim: Schenkon IV\nGast: Goldau V\n6214 Schenkon\n
LOCATION:6214 Schenkon
CATEGORIES:Saison 2024/25
END:VEVENT
BEGIN:VEVENT
DTSTAMP:20260423T175534Z
DTSTART;TZID=Europe/Berlin:20250117T201500
DTEND;TZID=Europe/Berlin:20250117T231500
SUMMARY:He 3. Liga Gr. 2 Schenkon IV vs Emmen II (0)
UID:6a424e8d-f334-45f3-b01d-756dd5fa150d
STATUS:CONFIRMED
LAST-MODIFIED:20250123T145504Z
DESCRIPTION:3. Liga Herren Gruppe 2\nBegegnungs-Nr: 0\nHeim: Schenkon IV\nGast: Emmen II\n6214 Schenkon\n
LOCATION:6214 Schenkon
CATEGORIES:Saison 2024/25
END:VEVENT
BEGIN:VEVENT
DTSTAMP:20260423T175534Z
DTSTART;TZID=Europe/Berlin:20250124T201500
DTEND;TZID=Europe/Berlin:20250124T231500
SUMMARY:He 3. Liga Gr. 2 Schenkon IV vs Rothenburg (0)
UID:82704159-2198-46e4-ab23-6573f937ec03
STATUS:CONFIRMED
LAST-MODIFIED:20250204T204840Z
DESCRIPTION:3. Liga Herren Gruppe 2\nBegegnungs-Nr: 0\nHeim: Schenkon IV\nGast: Rothenburg\n6214 Schenkon\n
LOCATION:6214 Schenkon
CATEGORIES:Saison 2024/25
END:VEVENT
BEGIN:VEVENT
DTSTAMP:20260423T175534Z
DTSTART;TZID=Europe/Berlin:20250318T200000
DTEND;TZID=Europe/Berlin:20250318T230000
SUMMARY:He 3. Liga Gr. 2 Schenkon IV vs Dierikon-Ebikon II (0)
UID:49a4bdc0-69cb-4802-89b7-c114a9fed704
STATUS:CONFIRMED
LAST-MODIFIED:20250320T183621Z
DESCRIPTION:3. Liga Herren Gruppe 2\nBegegnungs-Nr: 0\nHeim: Schenkon IV\nGast: Dierikon-Ebikon II\n6214 Schenkon\n
LOCATION:6214 Schenkon
CATEGORIES:Saison 2024/25
END:VEVENT
BEGIN:VEVENT
DTSTAMP:20260423T175534Z
DTSTART;TZID=Europe/Berlin:20240917T200000
DTEND;TZID=Europe/Berlin:20240917T230000
SUMMARY:He 3. Liga Gr. 2 Goldau V vs Schenkon IV (0)
UID:6ffccad1-5b86-495a-87f7-b3013ccc7722
STATUS:CONFIRMED
LAST-MODIFIED:20240918T130435Z
DESCRIPTION:3. Liga Herren Gruppe 2\nBegegnungs-Nr: 0\nHeim: Goldau V\nGast: Schenkon IV\n\nAdresse: Zaystrasse\, 6410 Goldau\n
LOCATION:Zaystrasse\, 6410 Goldau
CATEGORIES:Saison 2024/25
END:VEVENT
BEGIN:VEVENT
DTSTAMP:20260423T175534Z
DTSTART;TZID=Europe/Berlin:20240827T194500
DTEND;TZID=Europe/Berlin:20240827T224500
SUMMARY:He 3. Liga Gr. 2 Emmen II vs Schenkon IV (0)
UID:3c654beb-2c46-43d0-ae8a-3897abb26f20
STATUS:CONFIRMED
LAST-MODIFIED:20240902T181821Z
DESCRIPTION:3. Liga Herren Gruppe 2\nBegegnungs-Nr: 0\nHeim: Emmen II\nGast: Schenkon IV\n\nAdresse: Rüeggisingerstrasse 26\, 6020 Emmenbrücke\n
LOCATION:Rüeggisingerstrasse 26\, 6020 Emmenbrücke
CATEGORIES:Saison 2024/25
END:VEVENT
BEGIN:VEVENT
DTSTAMP:20260423T175534Z
DTSTART;TZID=Europe/Berlin:20241111T200000
DTEND;TZID=Europe/Berlin:20241111T230000
SUMMARY:He 3. Liga Gr. 2 Rothenburg vs Schenkon IV (0)
UID:178d8704-916a-4395-b5c3-c05293de7998
STATUS:CONFIRMED
LAST-MODIFIED:20241113T144812Z
DESCRIPTION:3. Liga Herren Gruppe 2\nBegegnungs-Nr: 0\nHeim: Rothenburg\nGast: Schenkon IV\n\nAdresse: Schulhausstrasse 6a\, 6023 Rothenburg\n
LOCATION:Schulhausstrasse 6a\, 6023 Rothenburg
CATEGORIES:Saison 2024/25
END:VEVENT
BEGIN:VEVENT
DTSTAMP:20260423T175534Z
DTSTART;TZID=Europe/Berlin:20241206T200000
DTEND;TZID=Europe/Berlin:20241206T230000
SUMMARY:He 3. Liga Gr. 2 Zug IV vs Schenkon IV (0)
UID:67878fe5-cb3b-4d61-933b-4e12b7802def
STATUS:CONFIRMED
LAST-MODIFIED:20241210T110105Z
DESCRIPTION:3. Liga Herren Gruppe 2\nBegegnungs-Nr: 0\nHeim: Zug IV\nGast: Schenkon IV\n\nAdresse: Lüssiweg 24\, 6300 Zug\n
LOCATION:Lüssiweg 24\, 6300 Zug
CATEGORIES:Saison 2024/25
END:VEVENT
BEGIN:VEVENT
DTSTAMP:20260423T175534Z
DTSTART;TZID=Europe/Berlin:20250213T200000
DTEND;TZID=Europe/Berlin:20250213T230000
SUMMARY:He 3. Liga Gr. 2 Reussbühl IV vs Schenkon IV (0)
UID:5d73d3ee-71a2-4887-8e53-96f625afb66c
STATUS:CONFIRMED
LAST-MODIFIED:20250219T080839Z
DESCRIPTION:3. Liga Herren Gruppe 2\nBegegnungs-Nr: 0\nHeim: Reussbühl IV\nGast: Schenkon IV\n\nAdresse: Obermättlistrasse 44\, 6015 Luzern\n
LOCATION:Obermättlistrasse 44\, 6015 Luzern
CATEGORIES:Saison 2024/25
END:VEVENT
BEGIN:VEVENT
DTSTAMP:20260423T175534Z
DTSTART;TZID=Europe/Berlin:20241129T201500
DTEND;TZID=Europe/Berlin:20241129T231500
SUMMARY:He 3. Liga Gr. 2 Dierikon-Ebikon II vs Schenkon IV (0)
UID:24df0f35-7f2d-49ee-9984-ee9b50896875
STATUS:CONFIRMED
LAST-MODIFIED:20241204T154405Z
DESCRIPTION:3. Liga Herren Gruppe 2\nBegegnungs-Nr: 0\nHeim: Dierikon-Ebikon II\nGast: Schenkon IV\n\nAdresse: Rigistrasse 14\, 6036 Dierikon\n
LOCATION:Rigistrasse 14\, 6036 Dierikon
CATEGORIES:Saison 2024/25
END:VEVENT
END:VCALENDAR
