BEGIN:VCALENDAR
PRODID:-//nuDatenautomaten//framework iCal4j //DE
VERSION:2.0
CALSCALE:GREGORIAN
BEGIN:VTIMEZONE
TZID:Europe/Berlin
LAST-MODIFIED:20260306T231828Z
TZURL:https://www.tzurl.org/zoneinfo/Europe/Berlin
X-LIC-LOCATION:Europe/Berlin
X-PROLEPTIC-TZNAME:LMT
BEGIN:STANDARD
TZNAME:CET
TZOFFSETFROM:+005328
TZOFFSETTO:+0100
DTSTART:18930401T000000
END:STANDARD
BEGIN:DAYLIGHT
TZNAME:CEST
TZOFFSETFROM:+0100
TZOFFSETTO:+0200
DTSTART:19160430T230000
RDATE:19400401T020000
RDATE:19430329T020000
RDATE:19460414T020000
RDATE:19470406T030000
RDATE:19480418T020000
RDATE:19490410T020000
RDATE:19800406T020000
END:DAYLIGHT
BEGIN:STANDARD
TZNAME:CET
TZOFFSETFROM:+0200
TZOFFSETTO:+0100
DTSTART:19161001T010000
RDATE:19421102T030000
RDATE:19431004T030000
RDATE:19441002T030000
RDATE:19451118T030000
RDATE:19461007T030000
END:STANDARD
BEGIN:DAYLIGHT
TZNAME:CEST
TZOFFSETFROM:+0100
TZOFFSETTO:+0200
DTSTART:19170416T020000
RRULE:FREQ=YEARLY;UNTIL=19180415T010000Z;BYMONTH=4;BYDAY=3MO
END:DAYLIGHT
BEGIN:STANDARD
TZNAME:CET
TZOFFSETFROM:+0200
TZOFFSETTO:+0100
DTSTART:19170917T030000
RRULE:FREQ=YEARLY;UNTIL=19180916T010000Z;BYMONTH=9;BYDAY=3MO
END:STANDARD
BEGIN:DAYLIGHT
TZNAME:CEST
TZOFFSETFROM:+0100
TZOFFSETTO:+0200
DTSTART:19440403T020000
RRULE:FREQ=YEARLY;UNTIL=19450402T010000Z;BYMONTH=4;BYDAY=1MO
END:DAYLIGHT
BEGIN:DAYLIGHT
TZNAME:CEMT
TZOFFSETFROM:+0200
TZOFFSETTO:+0300
DTSTART:19450524T020000
RDATE:19470511T030000
END:DAYLIGHT
BEGIN:DAYLIGHT
TZNAME:CEST
TZOFFSETFROM:+0300
TZOFFSETTO:+0200
DTSTART:19450924T030000
RDATE:19470629T030000
END:DAYLIGHT
BEGIN:STANDARD
TZNAME:CET
TZOFFSETFROM:+0100
TZOFFSETTO:+0100
DTSTART:19460101T000000
RDATE:19800101T000000
END:STANDARD
BEGIN:STANDARD
TZNAME:CET
TZOFFSETFROM:+0200
TZOFFSETTO:+0100
DTSTART:19471005T030000
RRULE:FREQ=YEARLY;UNTIL=19491002T010000Z;BYMONTH=10;BYDAY=1SU
END:STANDARD
BEGIN:STANDARD
TZNAME:CET
TZOFFSETFROM:+0200
TZOFFSETTO:+0100
DTSTART:19800928T030000
RRULE:FREQ=YEARLY;UNTIL=19950924T010000Z;BYMONTH=9;BYDAY=-1SU
END:STANDARD
BEGIN:DAYLIGHT
TZNAME:CEST
TZOFFSETFROM:+0100
TZOFFSETTO:+0200
DTSTART:19810329T020000
RRULE:FREQ=YEARLY;BYMONTH=3;BYDAY=-1SU
END:DAYLIGHT
BEGIN:STANDARD
TZNAME:CET
TZOFFSETFROM:+0200
TZOFFSETTO:+0100
DTSTART:19961027T030000
RRULE:FREQ=YEARLY;BYMONTH=10;BYDAY=-1SU
END:STANDARD
END:VTIMEZONE
BEGIN:VEVENT
DTSTAMP:20260423T203555Z
DTSTART;TZID=Europe/Berlin:20250315T130000
DTEND;TZID=Europe/Berlin:20250315T160000
SUMMARY:U15 R3 D1 Sarnen vs Baar (2)
UID:89af9de7-4160-4c83-bf11-dd56bddc7563
STATUS:CONFIRMED
LAST-MODIFIED:20250316T195509Z
DESCRIPTION:U15\, 3. Runde\, 1. Division\nBegegnungs-Nr: 2\nHeim: Sarnen\nGast: Baar\n\nAdresse: Rütistrasse 3\, 6060 Sarnen\n
LOCATION:Rütistrasse 3\, 6060 Sarnen
CATEGORIES:Saison 2024/25
END:VEVENT
BEGIN:VEVENT
DTSTAMP:20260423T203555Z
DTSTART;TZID=Europe/Berlin:20240831T160000
DTEND;TZID=Europe/Berlin:20240831T190000
SUMMARY:U15 R1 GA Sarnen vs Schenkon (6)
UID:4fd210ce-ea09-44d1-8f40-2c07d59acaca
STATUS:CONFIRMED
LAST-MODIFIED:20240901T174559Z
DESCRIPTION:U15\, 1. Runde\, Gruppe A\nBegegnungs-Nr: 6\nHeim: Sarnen\nGast: Schenkon\n\nAdresse: Rütistrasse 3\, 6060 Sarnen\n
LOCATION:Rütistrasse 3\, 6060 Sarnen
CATEGORIES:Saison 2024/25
END:VEVENT
BEGIN:VEVENT
DTSTAMP:20260423T203555Z
DTSTART;TZID=Europe/Berlin:20241214T160000
DTEND;TZID=Europe/Berlin:20241214T190000
SUMMARY:U15 R2 GA Sarnen vs Kriens II (5)
UID:89024eb4-0edf-4508-9c67-b56a8f83913c
STATUS:CONFIRMED
LAST-MODIFIED:20250108T151803Z
DESCRIPTION:U15\, 2. Runde\, Gruppe A\nBegegnungs-Nr: 5\nHeim: Sarnen\nGast: Kriens II\n\nAdresse: Rütistrasse 3\, 6060 Sarnen\n
LOCATION:Rütistrasse 3\, 6060 Sarnen
CATEGORIES:Saison 2024/25
END:VEVENT
BEGIN:VEVENT
DTSTAMP:20260423T203555Z
DTSTART;TZID=Europe/Berlin:20241214T130000
DTEND;TZID=Europe/Berlin:20241214T160000
SUMMARY:U15 R2 GA Sarnen vs Rotkreuz (2)
UID:4a103dcd-c111-47a7-a291-3d52dce335f5
STATUS:CONFIRMED
LAST-MODIFIED:20250108T151332Z
DESCRIPTION:U15\, 2. Runde\, Gruppe A\nBegegnungs-Nr: 2\nHeim: Sarnen\nGast: Rotkreuz\n\nAdresse: Rütistrasse 3\, 6060 Sarnen\n
LOCATION:Rütistrasse 3\, 6060 Sarnen
CATEGORIES:Saison 2024/25
END:VEVENT
BEGIN:VEVENT
DTSTAMP:20260423T203555Z
DTSTART;TZID=Europe/Berlin:20250315T143000
DTEND;TZID=Europe/Berlin:20250315T173000
SUMMARY:U15 R3 D1 Rapid Luzern vs Sarnen (4)
UID:67a5f11b-3793-435c-8f38-c9e5f51de327
STATUS:CONFIRMED
LAST-MODIFIED:20250316T195732Z
DESCRIPTION:U15\, 3. Runde\, 1. Division\nBegegnungs-Nr: 4\nHeim: Rapid Luzern\nGast: Sarnen\n\nAdresse: Kreuzbuchstr. 60\, 6006 Luzern\n
LOCATION:Kreuzbuchstr. 60\, 6006 Luzern
CATEGORIES:Saison 2024/25
END:VEVENT
BEGIN:VEVENT
DTSTAMP:20260423T203555Z
DTSTART;TZID=Europe/Berlin:20240831T130000
DTEND;TZID=Europe/Berlin:20240831T160000
SUMMARY:U15 R1 GA Rapid Luzern II vs Sarnen (2)
UID:75cf3f2a-cf8a-4039-ae11-045f458f25db
STATUS:CONFIRMED
LAST-MODIFIED:20240901T174333Z
DESCRIPTION:U15\, 1. Runde\, Gruppe A\nBegegnungs-Nr: 2\nHeim: Rapid Luzern II\nGast: Sarnen\n\nAdresse: Kreuzbuchstr. 60\, 6006 Luzern\n
LOCATION:Kreuzbuchstr. 60\, 6006 Luzern
CATEGORIES:Saison 2024/25
END:VEVENT
BEGIN:VEVENT
DTSTAMP:20260423T203555Z
DTSTART;TZID=Europe/Berlin:20241214T143000
DTEND;TZID=Europe/Berlin:20241214T173000
SUMMARY:U15 R2 GA Kriens vs Sarnen (4)
UID:25ea4cc2-831e-40bf-b31d-4b5dadf7bfc9
STATUS:CONFIRMED
LAST-MODIFIED:20250108T151532Z
DESCRIPTION:U15\, 2. Runde\, Gruppe A\nBegegnungs-Nr: 4\nHeim: Kriens\nGast: Sarnen\n
LOCATION:
CATEGORIES:Saison 2024/25
END:VEVENT
END:VCALENDAR
