BEGIN:VCALENDAR
PRODID:-//nuDatenautomaten//framework iCal4j //DE
VERSION:2.0
CALSCALE:GREGORIAN
BEGIN:VTIMEZONE
TZID:Europe/Berlin
LAST-MODIFIED:20260306T231828Z
TZURL:https://www.tzurl.org/zoneinfo/Europe/Berlin
X-LIC-LOCATION:Europe/Berlin
X-PROLEPTIC-TZNAME:LMT
BEGIN:STANDARD
TZNAME:CET
TZOFFSETFROM:+005328
TZOFFSETTO:+0100
DTSTART:18930401T000000
END:STANDARD
BEGIN:DAYLIGHT
TZNAME:CEST
TZOFFSETFROM:+0100
TZOFFSETTO:+0200
DTSTART:19160430T230000
RDATE:19400401T020000
RDATE:19430329T020000
RDATE:19460414T020000
RDATE:19470406T030000
RDATE:19480418T020000
RDATE:19490410T020000
RDATE:19800406T020000
END:DAYLIGHT
BEGIN:STANDARD
TZNAME:CET
TZOFFSETFROM:+0200
TZOFFSETTO:+0100
DTSTART:19161001T010000
RDATE:19421102T030000
RDATE:19431004T030000
RDATE:19441002T030000
RDATE:19451118T030000
RDATE:19461007T030000
END:STANDARD
BEGIN:DAYLIGHT
TZNAME:CEST
TZOFFSETFROM:+0100
TZOFFSETTO:+0200
DTSTART:19170416T020000
RRULE:FREQ=YEARLY;UNTIL=19180415T010000Z;BYMONTH=4;BYDAY=3MO
END:DAYLIGHT
BEGIN:STANDARD
TZNAME:CET
TZOFFSETFROM:+0200
TZOFFSETTO:+0100
DTSTART:19170917T030000
RRULE:FREQ=YEARLY;UNTIL=19180916T010000Z;BYMONTH=9;BYDAY=3MO
END:STANDARD
BEGIN:DAYLIGHT
TZNAME:CEST
TZOFFSETFROM:+0100
TZOFFSETTO:+0200
DTSTART:19440403T020000
RRULE:FREQ=YEARLY;UNTIL=19450402T010000Z;BYMONTH=4;BYDAY=1MO
END:DAYLIGHT
BEGIN:DAYLIGHT
TZNAME:CEMT
TZOFFSETFROM:+0200
TZOFFSETTO:+0300
DTSTART:19450524T020000
RDATE:19470511T030000
END:DAYLIGHT
BEGIN:DAYLIGHT
TZNAME:CEST
TZOFFSETFROM:+0300
TZOFFSETTO:+0200
DTSTART:19450924T030000
RDATE:19470629T030000
END:DAYLIGHT
BEGIN:STANDARD
TZNAME:CET
TZOFFSETFROM:+0100
TZOFFSETTO:+0100
DTSTART:19460101T000000
RDATE:19800101T000000
END:STANDARD
BEGIN:STANDARD
TZNAME:CET
TZOFFSETFROM:+0200
TZOFFSETTO:+0100
DTSTART:19471005T030000
RRULE:FREQ=YEARLY;UNTIL=19491002T010000Z;BYMONTH=10;BYDAY=1SU
END:STANDARD
BEGIN:STANDARD
TZNAME:CET
TZOFFSETFROM:+0200
TZOFFSETTO:+0100
DTSTART:19800928T030000
RRULE:FREQ=YEARLY;UNTIL=19950924T010000Z;BYMONTH=9;BYDAY=-1SU
END:STANDARD
BEGIN:DAYLIGHT
TZNAME:CEST
TZOFFSETFROM:+0100
TZOFFSETTO:+0200
DTSTART:19810329T020000
RRULE:FREQ=YEARLY;BYMONTH=3;BYDAY=-1SU
END:DAYLIGHT
BEGIN:STANDARD
TZNAME:CET
TZOFFSETFROM:+0200
TZOFFSETTO:+0100
DTSTART:19961027T030000
RRULE:FREQ=YEARLY;BYMONTH=10;BYDAY=-1SU
END:STANDARD
END:VTIMEZONE
BEGIN:VEVENT
DTSTAMP:20260424T045345Z
DTSTART;TZID=Europe/Berlin:20240831T160000
DTEND;TZID=Europe/Berlin:20240831T190000
SUMMARY:JUG\, 3.Liga\, Gr.1\, Vorrunde Zürich-Affoltern II vs Urdorf (5)
UID:d72980c2-78fb-4756-a562-a93c0d86f99c
STATUS:CONFIRMED
LAST-MODIFIED:20240904T131005Z
DESCRIPTION:Jugend\, 3. Liga\,Gruppe 1\, Vorrunde\nBegegnungs-Nr: 5\nHeim: Zürich-Affoltern II\nGast: Urdorf\n
LOCATION:
CATEGORIES:Saison 2024/25
END:VEVENT
BEGIN:VEVENT
DTSTAMP:20260424T045345Z
DTSTART;TZID=Europe/Berlin:20240831T130000
DTEND;TZID=Europe/Berlin:20240831T160000
SUMMARY:JUG\, 3.Liga\, Gr.1\, Vorrunde Zürich-Affoltern II vs Affoltern A/A III (2)
UID:708bf877-a420-4ea5-96f5-ae7ee3a55df0
STATUS:CONFIRMED
LAST-MODIFIED:20240904T130917Z
DESCRIPTION:Jugend\, 3. Liga\,Gruppe 1\, Vorrunde\nBegegnungs-Nr: 2\nHeim: Zürich-Affoltern II\nGast: Affoltern A/A III\n
LOCATION:
CATEGORIES:Saison 2024/25
END:VEVENT
BEGIN:VEVENT
DTSTAMP:20260424T045345Z
DTSTART;TZID=Europe/Berlin:20241116T143000
DTEND;TZID=Europe/Berlin:20241116T173000
SUMMARY:JUG\, 3.Liga\, Gr.6\, Zw-Runde Zürich-Affoltern II vs Gossau St.Gallen (3)
UID:dc99a8e3-09f4-446f-ac55-6ef4ab4f646e
STATUS:CONFIRMED
LAST-MODIFIED:20241126T095330Z
DESCRIPTION:Jugend\, 3. Liga\, Gruppe 6\, Zw-Runde\nBegegnungs-Nr: 3\nHeim: Zürich-Affoltern II\nGast: Gossau St.Gallen\n
LOCATION:
CATEGORIES:Saison 2024/25
END:VEVENT
BEGIN:VEVENT
DTSTAMP:20260424T045345Z
DTSTART;TZID=Europe/Berlin:20250329T143000
DTEND;TZID=Europe/Berlin:20250329T173000
SUMMARY:JUG\, 3.Liga\, Gr.6\, Final Zürich-Affoltern II vs Bronschhofen (3)
UID:7564f403-c81a-448c-ae8d-ca1118f57dee
STATUS:CONFIRMED
LAST-MODIFIED:20250408T155441Z
DESCRIPTION:Jugend\, 3. Liga\, Gruppe 6\, Final\nBegegnungs-Nr: 3\nHeim: Zürich-Affoltern II\nGast: Bronschhofen\n\nAdresse: Rümlangstr. 89\, 8052 Zürich\n
LOCATION:Rümlangstr. 89\, 8052 Zürich
CATEGORIES:Saison 2024/25
END:VEVENT
BEGIN:VEVENT
DTSTAMP:20260424T045345Z
DTSTART;TZID=Europe/Berlin:20240831T143000
DTEND;TZID=Europe/Berlin:20240831T173000
SUMMARY:JUG\, 3.Liga\, Gr.1\, Vorrunde Horgen III vs Zürich-Affoltern II (4)
UID:0e02d440-0902-49e0-a0b5-54926bd1d166
STATUS:CONFIRMED
LAST-MODIFIED:20240904T130944Z
DESCRIPTION:Jugend\, 3. Liga\,Gruppe 1\, Vorrunde\nBegegnungs-Nr: 4\nHeim: Horgen III\nGast: Zürich-Affoltern II\n
LOCATION:
CATEGORIES:Saison 2024/25
END:VEVENT
BEGIN:VEVENT
DTSTAMP:20260424T045345Z
DTSTART;TZID=Europe/Berlin:20241116T130000
DTEND;TZID=Europe/Berlin:20241116T160000
SUMMARY:JUG\, 3.Liga\, Gr.6\, Zw-Runde Horgen II vs Zürich-Affoltern II (1)
UID:8e6c5965-c835-44f7-afcf-1e4f6ab0da5c
STATUS:CONFIRMED
LAST-MODIFIED:20241122T153326Z
DESCRIPTION:Jugend\, 3. Liga\, Gruppe 6\, Zw-Runde\nBegegnungs-Nr: 1\nHeim: Horgen II\nGast: Zürich-Affoltern II\n
LOCATION:
CATEGORIES:Saison 2024/25
END:VEVENT
BEGIN:VEVENT
DTSTAMP:20260424T045345Z
DTSTART;TZID=Europe/Berlin:20241116T160000
DTEND;TZID=Europe/Berlin:20241116T190000
SUMMARY:JUG\, 3.Liga\, Gr.6\, Zw-Runde TSV Zumikon vs Zürich-Affoltern II (5)
UID:cf81363f-965c-4e94-a6e8-075db75e337d
STATUS:CONFIRMED
LAST-MODIFIED:20241122T153409Z
DESCRIPTION:Jugend\, 3. Liga\, Gruppe 6\, Zw-Runde\nBegegnungs-Nr: 5\nHeim: TSV Zumikon\nGast: Zürich-Affoltern II\n
LOCATION:
CATEGORIES:Saison 2024/25
END:VEVENT
BEGIN:VEVENT
DTSTAMP:20260424T045345Z
DTSTART;TZID=Europe/Berlin:20250329T160000
DTEND;TZID=Europe/Berlin:20250329T190000
SUMMARY:JUG\, 3.Liga\, Gr.6\, Final Gossau St.Gallen vs Zürich-Affoltern II (5)
UID:9e149c72-7e57-4788-97b3-06bce1638fce
STATUS:CONFIRMED
LAST-MODIFIED:20250404T085904Z
DESCRIPTION:Jugend\, 3. Liga\, Gruppe 6\, Final\nBegegnungs-Nr: 5\nHeim: Gossau St.Gallen\nGast: Zürich-Affoltern II\n\nAdresse: Falkenstrasse 21\, 9200 Gossau\n
LOCATION:Falkenstrasse 21\, 9200 Gossau
CATEGORIES:Saison 2024/25
END:VEVENT
BEGIN:VEVENT
DTSTAMP:20260424T045345Z
DTSTART;TZID=Europe/Berlin:20250329T130000
DTEND;TZID=Europe/Berlin:20250329T160000
SUMMARY:JUG\, 3.Liga\, Gr.6\, Final Horgen III vs Zürich-Affoltern II (1)
UID:9493380c-ffd7-4f9d-acc9-95564ed75fbf
STATUS:CONFIRMED
LAST-MODIFIED:20250404T085519Z
DESCRIPTION:Jugend\, 3. Liga\, Gruppe 6\, Final\nBegegnungs-Nr: 1\nHeim: Horgen III\nGast: Zürich-Affoltern II\nHalle: Poule in Horgen\, Bildungszentrum 2. UG\nAdresse: Seestrasse 110\, 8810 Horgen\n
LOCATION:Poule in Horgen\, Bildungszentrum 2. UG Seestrasse 110\, 8810 Horgen
CATEGORIES:Saison 2024/25
END:VEVENT
END:VCALENDAR
