BEGIN:VCALENDAR
PRODID:-//nuDatenautomaten//framework iCal4j //DE
VERSION:2.0
CALSCALE:GREGORIAN
BEGIN:VTIMEZONE
TZID:Europe/Berlin
LAST-MODIFIED:20260306T231828Z
TZURL:https://www.tzurl.org/zoneinfo/Europe/Berlin
X-LIC-LOCATION:Europe/Berlin
X-PROLEPTIC-TZNAME:LMT
BEGIN:STANDARD
TZNAME:CET
TZOFFSETFROM:+005328
TZOFFSETTO:+0100
DTSTART:18930401T000000
END:STANDARD
BEGIN:DAYLIGHT
TZNAME:CEST
TZOFFSETFROM:+0100
TZOFFSETTO:+0200
DTSTART:19160430T230000
RDATE:19400401T020000
RDATE:19430329T020000
RDATE:19460414T020000
RDATE:19470406T030000
RDATE:19480418T020000
RDATE:19490410T020000
RDATE:19800406T020000
END:DAYLIGHT
BEGIN:STANDARD
TZNAME:CET
TZOFFSETFROM:+0200
TZOFFSETTO:+0100
DTSTART:19161001T010000
RDATE:19421102T030000
RDATE:19431004T030000
RDATE:19441002T030000
RDATE:19451118T030000
RDATE:19461007T030000
END:STANDARD
BEGIN:DAYLIGHT
TZNAME:CEST
TZOFFSETFROM:+0100
TZOFFSETTO:+0200
DTSTART:19170416T020000
RRULE:FREQ=YEARLY;UNTIL=19180415T010000Z;BYMONTH=4;BYDAY=3MO
END:DAYLIGHT
BEGIN:STANDARD
TZNAME:CET
TZOFFSETFROM:+0200
TZOFFSETTO:+0100
DTSTART:19170917T030000
RRULE:FREQ=YEARLY;UNTIL=19180916T010000Z;BYMONTH=9;BYDAY=3MO
END:STANDARD
BEGIN:DAYLIGHT
TZNAME:CEST
TZOFFSETFROM:+0100
TZOFFSETTO:+0200
DTSTART:19440403T020000
RRULE:FREQ=YEARLY;UNTIL=19450402T010000Z;BYMONTH=4;BYDAY=1MO
END:DAYLIGHT
BEGIN:DAYLIGHT
TZNAME:CEMT
TZOFFSETFROM:+0200
TZOFFSETTO:+0300
DTSTART:19450524T020000
RDATE:19470511T030000
END:DAYLIGHT
BEGIN:DAYLIGHT
TZNAME:CEST
TZOFFSETFROM:+0300
TZOFFSETTO:+0200
DTSTART:19450924T030000
RDATE:19470629T030000
END:DAYLIGHT
BEGIN:STANDARD
TZNAME:CET
TZOFFSETFROM:+0100
TZOFFSETTO:+0100
DTSTART:19460101T000000
RDATE:19800101T000000
END:STANDARD
BEGIN:STANDARD
TZNAME:CET
TZOFFSETFROM:+0200
TZOFFSETTO:+0100
DTSTART:19471005T030000
RRULE:FREQ=YEARLY;UNTIL=19491002T010000Z;BYMONTH=10;BYDAY=1SU
END:STANDARD
BEGIN:STANDARD
TZNAME:CET
TZOFFSETFROM:+0200
TZOFFSETTO:+0100
DTSTART:19800928T030000
RRULE:FREQ=YEARLY;UNTIL=19950924T010000Z;BYMONTH=9;BYDAY=-1SU
END:STANDARD
BEGIN:DAYLIGHT
TZNAME:CEST
TZOFFSETFROM:+0100
TZOFFSETTO:+0200
DTSTART:19810329T020000
RRULE:FREQ=YEARLY;BYMONTH=3;BYDAY=-1SU
END:DAYLIGHT
BEGIN:STANDARD
TZNAME:CET
TZOFFSETFROM:+0200
TZOFFSETTO:+0100
DTSTART:19961027T030000
RRULE:FREQ=YEARLY;BYMONTH=10;BYDAY=-1SU
END:STANDARD
END:VTIMEZONE
BEGIN:VEVENT
DTSTAMP:20260424T043438Z
DTSTART;TZID=Europe/Berlin:20241126T193000
DTEND;TZID=Europe/Berlin:20241126T223000
SUMMARY:ME L6 Gr 1\, Tours 1&2 Gampel-Steg IV vs Gampel-Steg V (0)
UID:bf590014-5213-4d59-bad4-23be60818139
STATUS:CONFIRMED
LAST-MODIFIED:20241129T154443Z
DESCRIPTION:6ème ligue Hommes Groupe 1\, Tours 1&2\nBegegnungs-Nr: 0\nHeim: Gampel-Steg IV\nGast: Gampel-Steg V\n\nAdresse: Bachofen\, 3949 Hohtenn\n
LOCATION:Bachofen\, 3949 Hohtenn
CATEGORIES:Saison 2024/25
END:VEVENT
BEGIN:VEVENT
DTSTAMP:20260424T043438Z
DTSTART;TZID=Europe/Berlin:20241105T193000
DTEND;TZID=Europe/Berlin:20241105T223000
SUMMARY:ME L6 Gr 1\, Tours 1&2 Gampel-Steg IV vs Sierre VI (0)
UID:763b813d-b43b-4d90-b72a-c43985141476
STATUS:CONFIRMED
LAST-MODIFIED:20241108T195337Z
DESCRIPTION:6ème ligue Hommes Groupe 1\, Tours 1&2\nBegegnungs-Nr: 0\nHeim: Gampel-Steg IV\nGast: Sierre VI\n\nAdresse: Bachofen\, 3949 Hohtenn\n
LOCATION:Bachofen\, 3949 Hohtenn
CATEGORIES:Saison 2024/25
END:VEVENT
BEGIN:VEVENT
DTSTAMP:20260424T043438Z
DTSTART;TZID=Europe/Berlin:20240927T193000
DTEND;TZID=Europe/Berlin:20240927T223000
SUMMARY:ME L6 Gr 1\, Tours 1&2 Gampel-Steg IV vs Grône II (0)
UID:5453d384-99cc-484e-b5be-1cb8a5bba7ba
STATUS:CONFIRMED
LAST-MODIFIED:20240928T191711Z
DESCRIPTION:6ème ligue Hommes Groupe 1\, Tours 1&2\nBegegnungs-Nr: 0\nHeim: Gampel-Steg IV\nGast: Grône II\n\nAdresse: Bachofen\, 3949 Hohtenn\n
LOCATION:Bachofen\, 3949 Hohtenn
CATEGORIES:Saison 2024/25
END:VEVENT
BEGIN:VEVENT
DTSTAMP:20260424T043438Z
DTSTART;TZID=Europe/Berlin:20240917T193000
DTEND;TZID=Europe/Berlin:20240917T223000
SUMMARY:ME L6 Gr 1\, Tours 1&2 Gampel-Steg IV vs Stalden III (0)
UID:889f1dad-025e-49f4-aec2-5a3cc88f9ee0
STATUS:CONFIRMED
LAST-MODIFIED:20240922T135939Z
DESCRIPTION:6ème ligue Hommes Groupe 1\, Tours 1&2\nBegegnungs-Nr: 0\nHeim: Gampel-Steg IV\nGast: Stalden III\n\nAdresse: Bachofen\, 3949 Hohtenn\n
LOCATION:Bachofen\, 3949 Hohtenn
CATEGORIES:Saison 2024/25
END:VEVENT
BEGIN:VEVENT
DTSTAMP:20260424T043438Z
DTSTART;TZID=Europe/Berlin:20240903T193000
DTEND;TZID=Europe/Berlin:20240903T223000
SUMMARY:ME L6 Gr 1\, Tours 1&2 Gampel-Steg IV vs Brig-Glis II (0)
UID:ee5a60a1-1724-4c6f-a3c9-f5f47e393128
STATUS:CONFIRMED
LAST-MODIFIED:20240905T101215Z
DESCRIPTION:6ème ligue Hommes Groupe 1\, Tours 1&2\nBegegnungs-Nr: 0\nHeim: Gampel-Steg IV\nGast: Brig-Glis II\n\nAdresse: Bachofen\, 3949 Hohtenn\n
LOCATION:Bachofen\, 3949 Hohtenn
CATEGORIES:Saison 2024/25
END:VEVENT
BEGIN:VEVENT
DTSTAMP:20260424T043438Z
DTSTART;TZID=Europe/Berlin:20250325T193000
DTEND;TZID=Europe/Berlin:20250325T223000
SUMMARY:ME L6 Gr 1\, Tours 3&4 Gampel-Steg IV vs Sion IV (0)
UID:17667ffa-6c5a-4a52-afdd-21619c068ebc
STATUS:CONFIRMED
LAST-MODIFIED:20250326T220350Z
DESCRIPTION:6ème ligue Hommes Groupe 1\, Tours 3&4\nBegegnungs-Nr: 0\nHeim: Gampel-Steg IV\nGast: Sion IV\n\nAdresse: Bachofen\, 3949 Hohtenn\n
LOCATION:Bachofen\, 3949 Hohtenn
CATEGORIES:Saison 2024/25
END:VEVENT
BEGIN:VEVENT
DTSTAMP:20260424T043438Z
DTSTART;TZID=Europe/Berlin:20250304T193000
DTEND;TZID=Europe/Berlin:20250304T223000
SUMMARY:ME L6 Gr 1\, Tours 3&4 Gampel-Steg IV vs Sierre VI (0)
UID:ed8f53d2-1a6d-451a-bd0c-4946cd31d1c1
STATUS:CONFIRMED
LAST-MODIFIED:20250308T180902Z
DESCRIPTION:6ème ligue Hommes Groupe 1\, Tours 3&4\nBegegnungs-Nr: 0\nHeim: Gampel-Steg IV\nGast: Sierre VI\n\nAdresse: Bachofen\, 3949 Hohtenn\n
LOCATION:Bachofen\, 3949 Hohtenn
CATEGORIES:Saison 2024/25
END:VEVENT
BEGIN:VEVENT
DTSTAMP:20260424T043438Z
DTSTART;TZID=Europe/Berlin:20250114T193000
DTEND;TZID=Europe/Berlin:20250114T223000
SUMMARY:ME L6 Gr 1\, Tours 3&4 Gampel-Steg IV vs Gampel-Steg V (0)
UID:d45607df-e9a9-443b-ae47-f80f37c47132
STATUS:CONFIRMED
LAST-MODIFIED:20250119T142843Z
DESCRIPTION:6ème ligue Hommes Groupe 1\, Tours 3&4\nBegegnungs-Nr: 0\nHeim: Gampel-Steg IV\nGast: Gampel-Steg V\n\nAdresse: Bachofen\, 3949 Hohtenn\n
LOCATION:Bachofen\, 3949 Hohtenn
CATEGORIES:Saison 2024/25
END:VEVENT
BEGIN:VEVENT
DTSTAMP:20260424T043438Z
DTSTART;TZID=Europe/Berlin:20250121T193000
DTEND;TZID=Europe/Berlin:20250121T223000
SUMMARY:ME L6 Gr 1\, Tours 3&4 Gampel-Steg IV vs Brig-Glis II (0)
UID:7346aaaf-7673-49de-b95e-ca50acb582af
STATUS:CONFIRMED
LAST-MODIFIED:20250122T232206Z
DESCRIPTION:6ème ligue Hommes Groupe 1\, Tours 3&4\nBegegnungs-Nr: 0\nHeim: Gampel-Steg IV\nGast: Brig-Glis II\n\nAdresse: Bachofen\, 3949 Hohtenn\n
LOCATION:Bachofen\, 3949 Hohtenn
CATEGORIES:Saison 2024/25
END:VEVENT
BEGIN:VEVENT
DTSTAMP:20260424T043438Z
DTSTART;TZID=Europe/Berlin:20250408T193000
DTEND;TZID=Europe/Berlin:20250408T223000
SUMMARY:ME L6 Gr 1\, Tours 3&4 Gampel-Steg IV vs Stalden III (0)
UID:7c286159-55ea-4aaa-93a7-05c5acfbf4de
STATUS:CONFIRMED
LAST-MODIFIED:20250410T202653Z
DESCRIPTION:6ème ligue Hommes Groupe 1\, Tours 3&4\nBegegnungs-Nr: 0\nHeim: Gampel-Steg IV\nGast: Stalden III\n\nAdresse: Bachofen\, 3949 Hohtenn\n
LOCATION:Bachofen\, 3949 Hohtenn
CATEGORIES:Saison 2024/25
END:VEVENT
BEGIN:VEVENT
DTSTAMP:20260424T043438Z
DTSTART;TZID=Europe/Berlin:20241213T200000
DTEND;TZID=Europe/Berlin:20241213T230000
SUMMARY:ME L6 Gr 1\, Tours 1&2 Grône II vs Gampel-Steg IV (0)
UID:a9763bf8-2a7b-43c5-97c1-ee024d4360d1
STATUS:CONFIRMED
LAST-MODIFIED:20241215T010201Z
DESCRIPTION:6ème ligue Hommes Groupe 1\, Tours 1&2\nBegegnungs-Nr: 0\nHeim: Grône II\nGast: Gampel-Steg IV\n\nAdresse:  Rue Centrale\,  \, Rue de la Piscine\, \, 3979 Grône\n
LOCATION: Rue Centrale\,  \, Rue de la Piscine\, \, 3979 Grône
CATEGORIES:Saison 2024/25
END:VEVENT
BEGIN:VEVENT
DTSTAMP:20260424T043438Z
DTSTART;TZID=Europe/Berlin:20241122T200000
DTEND;TZID=Europe/Berlin:20241122T230000
SUMMARY:ME L6 Gr 1\, Tours 1&2 Stalden III vs Gampel-Steg IV (0)
UID:234e82f8-a9bc-41e1-9194-a9cbb96a543f
STATUS:CONFIRMED
LAST-MODIFIED:20241126T112823Z
DESCRIPTION:6ème ligue Hommes Groupe 1\, Tours 1&2\nBegegnungs-Nr: 0\nHeim: Stalden III\nGast: Gampel-Steg IV\n\nAdresse: -\, 3922 Stalden\n
LOCATION:-\, 3922 Stalden
CATEGORIES:Saison 2024/25
END:VEVENT
BEGIN:VEVENT
DTSTAMP:20260424T043438Z
DTSTART;TZID=Europe/Berlin:20241028T193000
DTEND;TZID=Europe/Berlin:20241028T223000
SUMMARY:ME L6 Gr 1\, Tours 1&2 Brig-Glis II vs Gampel-Steg IV (0)
UID:bea07b0d-b019-4175-972b-f4e29e82745e
STATUS:CONFIRMED
LAST-MODIFIED:20241029T143948Z
DESCRIPTION:6ème ligue Hommes Groupe 1\, Tours 1&2\nBegegnungs-Nr: 0\nHeim: Brig-Glis II\nGast: Gampel-Steg IV\n\nAdresse: Alte Simplonstrasse 53\, 3900 Brig\n
LOCATION:Alte Simplonstrasse 53\, 3900 Brig
CATEGORIES:Saison 2024/25
END:VEVENT
BEGIN:VEVENT
DTSTAMP:20260424T043438Z
DTSTART;TZID=Europe/Berlin:20241001T193000
DTEND;TZID=Europe/Berlin:20241001T223000
SUMMARY:ME L6 Gr 1\, Tours 1&2 Gampel-Steg V vs Gampel-Steg IV (0)
UID:2ececf06-0723-48ec-b565-8aac4f1275cf
STATUS:CONFIRMED
LAST-MODIFIED:20241007T064408Z
DESCRIPTION:6ème ligue Hommes Groupe 1\, Tours 1&2\nBegegnungs-Nr: 0\nHeim: Gampel-Steg V\nGast: Gampel-Steg IV\n\nAdresse: Bachofen\, 3949 Hohtenn\n
LOCATION:Bachofen\, 3949 Hohtenn
CATEGORIES:Saison 2024/25
END:VEVENT
BEGIN:VEVENT
DTSTAMP:20260424T043438Z
DTSTART;TZID=Europe/Berlin:20240920T193000
DTEND;TZID=Europe/Berlin:20240920T223000
SUMMARY:ME L6 Gr 1\, Tours 1&2 Sierre VI vs Gampel-Steg IV (0)
UID:9ae90d99-6aee-488b-8da1-f53312874032
STATUS:CONFIRMED
LAST-MODIFIED:20241008T183152Z
DESCRIPTION:6ème ligue Hommes Groupe 1\, Tours 1&2\nBegegnungs-Nr: 0\nHeim: Sierre VI\nGast: Gampel-Steg IV\n\nAdresse: Rte des Liddes 6\, 3960 Sierre\n
LOCATION:Rte des Liddes 6\, 3960 Sierre
CATEGORIES:Saison 2024/25
END:VEVENT
BEGIN:VEVENT
DTSTAMP:20260424T043438Z
DTSTART;TZID=Europe/Berlin:20250310T193000
DTEND;TZID=Europe/Berlin:20250310T223000
SUMMARY:ME L6 Gr 1\, Tours 3&4 Brig-Glis II vs Gampel-Steg IV (0)
UID:f053659d-eefd-4a7c-819c-1e51d674411c
STATUS:CONFIRMED
LAST-MODIFIED:20250310T233218Z
DESCRIPTION:6ème ligue Hommes Groupe 1\, Tours 3&4\nBegegnungs-Nr: 0\nHeim: Brig-Glis II\nGast: Gampel-Steg IV\n\nAdresse: Alte Simplonstrasse 53\, 3900 Brig\n
LOCATION:Alte Simplonstrasse 53\, 3900 Brig
CATEGORIES:Saison 2024/25
END:VEVENT
BEGIN:VEVENT
DTSTAMP:20260424T043438Z
DTSTART;TZID=Europe/Berlin:20250214T200000
DTEND;TZID=Europe/Berlin:20250214T230000
SUMMARY:ME L6 Gr 1\, Tours 3&4 Stalden III vs Gampel-Steg IV (0)
UID:356a376d-b657-4c3d-bc1d-a64dec17e425
STATUS:CONFIRMED
LAST-MODIFIED:20250216T182758Z
DESCRIPTION:6ème ligue Hommes Groupe 1\, Tours 3&4\nBegegnungs-Nr: 0\nHeim: Stalden III\nGast: Gampel-Steg IV\n\nAdresse: -\, 3922 Stalden\n
LOCATION:-\, 3922 Stalden
CATEGORIES:Saison 2024/25
END:VEVENT
BEGIN:VEVENT
DTSTAMP:20260424T043438Z
DTSTART;TZID=Europe/Berlin:20250129T193000
DTEND;TZID=Europe/Berlin:20250129T223000
SUMMARY:ME L6 Gr 1\, Tours 3&4 Sion IV vs Gampel-Steg IV (0)
UID:29d02e86-9004-4932-bbb3-fbf836d1364d
STATUS:CONFIRMED
LAST-MODIFIED:20250201T003102Z
DESCRIPTION:6ème ligue Hommes Groupe 1\, Tours 3&4\nBegegnungs-Nr: 0\nHeim: Sion IV\nGast: Gampel-Steg IV\n\nAdresse: Rue du Chanoine-Berchtold 17\, 1950 Sion\n
LOCATION:Rue du Chanoine-Berchtold 17\, 1950 Sion
CATEGORIES:Saison 2024/25
END:VEVENT
BEGIN:VEVENT
DTSTAMP:20260424T043438Z
DTSTART;TZID=Europe/Berlin:20250428T193000
DTEND;TZID=Europe/Berlin:20250428T223000
SUMMARY:ME L6 Gr 1\, Tours 3&4 Sierre VI vs Gampel-Steg IV (0)
UID:434c2e02-4504-4127-a94c-c8632cd23b91
STATUS:CONFIRMED
LAST-MODIFIED:20250503T000650Z
DESCRIPTION:6ème ligue Hommes Groupe 1\, Tours 3&4\nBegegnungs-Nr: 0\nHeim: Sierre VI\nGast: Gampel-Steg IV\n\nAdresse: Rte des Liddes 6\, 3960 Sierre\n
LOCATION:Rte des Liddes 6\, 3960 Sierre
CATEGORIES:Saison 2024/25
END:VEVENT
BEGIN:VEVENT
DTSTAMP:20260424T043438Z
DTSTART;TZID=Europe/Berlin:20250317T193000
DTEND;TZID=Europe/Berlin:20250317T223000
SUMMARY:ME L6 Gr 1\, Tours 3&4 Gampel-Steg V vs Gampel-Steg IV (0)
UID:247d90eb-2617-4c04-8a8d-0257e1bd6ef1
STATUS:CONFIRMED
LAST-MODIFIED:20250320T012445Z
DESCRIPTION:6ème ligue Hommes Groupe 1\, Tours 3&4\nBegegnungs-Nr: 0\nHeim: Gampel-Steg V\nGast: Gampel-Steg IV\n\nAdresse: Bachofen\, 3949 Hohtenn\n
LOCATION:Bachofen\, 3949 Hohtenn
CATEGORIES:Saison 2024/25
END:VEVENT
END:VCALENDAR
