BEGIN:VCALENDAR
PRODID:-//nuDatenautomaten//framework iCal4j //DE
VERSION:2.0
CALSCALE:GREGORIAN
BEGIN:VTIMEZONE
TZID:Europe/Berlin
LAST-MODIFIED:20260306T231828Z
TZURL:https://www.tzurl.org/zoneinfo/Europe/Berlin
X-LIC-LOCATION:Europe/Berlin
X-PROLEPTIC-TZNAME:LMT
BEGIN:STANDARD
TZNAME:CET
TZOFFSETFROM:+005328
TZOFFSETTO:+0100
DTSTART:18930401T000000
END:STANDARD
BEGIN:DAYLIGHT
TZNAME:CEST
TZOFFSETFROM:+0100
TZOFFSETTO:+0200
DTSTART:19160430T230000
RDATE:19400401T020000
RDATE:19430329T020000
RDATE:19460414T020000
RDATE:19470406T030000
RDATE:19480418T020000
RDATE:19490410T020000
RDATE:19800406T020000
END:DAYLIGHT
BEGIN:STANDARD
TZNAME:CET
TZOFFSETFROM:+0200
TZOFFSETTO:+0100
DTSTART:19161001T010000
RDATE:19421102T030000
RDATE:19431004T030000
RDATE:19441002T030000
RDATE:19451118T030000
RDATE:19461007T030000
END:STANDARD
BEGIN:DAYLIGHT
TZNAME:CEST
TZOFFSETFROM:+0100
TZOFFSETTO:+0200
DTSTART:19170416T020000
RRULE:FREQ=YEARLY;UNTIL=19180415T010000Z;BYMONTH=4;BYDAY=3MO
END:DAYLIGHT
BEGIN:STANDARD
TZNAME:CET
TZOFFSETFROM:+0200
TZOFFSETTO:+0100
DTSTART:19170917T030000
RRULE:FREQ=YEARLY;UNTIL=19180916T010000Z;BYMONTH=9;BYDAY=3MO
END:STANDARD
BEGIN:DAYLIGHT
TZNAME:CEST
TZOFFSETFROM:+0100
TZOFFSETTO:+0200
DTSTART:19440403T020000
RRULE:FREQ=YEARLY;UNTIL=19450402T010000Z;BYMONTH=4;BYDAY=1MO
END:DAYLIGHT
BEGIN:DAYLIGHT
TZNAME:CEMT
TZOFFSETFROM:+0200
TZOFFSETTO:+0300
DTSTART:19450524T020000
RDATE:19470511T030000
END:DAYLIGHT
BEGIN:DAYLIGHT
TZNAME:CEST
TZOFFSETFROM:+0300
TZOFFSETTO:+0200
DTSTART:19450924T030000
RDATE:19470629T030000
END:DAYLIGHT
BEGIN:STANDARD
TZNAME:CET
TZOFFSETFROM:+0100
TZOFFSETTO:+0100
DTSTART:19460101T000000
RDATE:19800101T000000
END:STANDARD
BEGIN:STANDARD
TZNAME:CET
TZOFFSETFROM:+0200
TZOFFSETTO:+0100
DTSTART:19471005T030000
RRULE:FREQ=YEARLY;UNTIL=19491002T010000Z;BYMONTH=10;BYDAY=1SU
END:STANDARD
BEGIN:STANDARD
TZNAME:CET
TZOFFSETFROM:+0200
TZOFFSETTO:+0100
DTSTART:19800928T030000
RRULE:FREQ=YEARLY;UNTIL=19950924T010000Z;BYMONTH=9;BYDAY=-1SU
END:STANDARD
BEGIN:DAYLIGHT
TZNAME:CEST
TZOFFSETFROM:+0100
TZOFFSETTO:+0200
DTSTART:19810329T020000
RRULE:FREQ=YEARLY;BYMONTH=3;BYDAY=-1SU
END:DAYLIGHT
BEGIN:STANDARD
TZNAME:CET
TZOFFSETFROM:+0200
TZOFFSETTO:+0100
DTSTART:19961027T030000
RRULE:FREQ=YEARLY;BYMONTH=10;BYDAY=-1SU
END:STANDARD
END:VTIMEZONE
BEGIN:VEVENT
DTSTAMP:20260423T224836Z
DTSTART;TZID=Europe/Berlin:20241207T110000
DTEND;TZID=Europe/Berlin:20241207T140000
SUMMARY:STTL Women ZZ-Lancy vs Lausanne (14)
UID:6759c918-c16b-4e5e-a7ed-3d97e61027e1
STATUS:CONFIRMED
LAST-MODIFIED:20241212T084442Z
DESCRIPTION:Swiss Table Tennis League Women\nBegegnungs-Nr: 14\nHeim: ZZ-Lancy\nGast: Lausanne\n\nAdresse: Avenue du Curé-Baud 40\, 1212 Grand-Lancy\n
LOCATION:Avenue du Curé-Baud 40\, 1212 Grand-Lancy
CATEGORIES:Saison 2024/25
END:VEVENT
BEGIN:VEVENT
DTSTAMP:20260423T224836Z
DTSTART;TZID=Europe/Berlin:20241102T150000
DTEND;TZID=Europe/Berlin:20241102T180000
SUMMARY:STTL Women ZZ-Lancy vs Neuhausen (7)
UID:d9a91fe4-9004-452f-91cd-54ee402d4b0f
STATUS:CONFIRMED
LAST-MODIFIED:20241105T085700Z
DESCRIPTION:Swiss Table Tennis League Women\nBegegnungs-Nr: 7\nHeim: ZZ-Lancy\nGast: Neuhausen\n\nAdresse: Avenue du Curé-Baud 40\, 1212 Grand-Lancy\n
LOCATION:Avenue du Curé-Baud 40\, 1212 Grand-Lancy
CATEGORIES:Saison 2024/25
END:VEVENT
BEGIN:VEVENT
DTSTAMP:20260423T224836Z
DTSTART;TZID=Europe/Berlin:20241103T150000
DTEND;TZID=Europe/Berlin:20241103T180000
SUMMARY:STTL Women ZZ-Lancy vs Young Stars ZH (10)
UID:0bcf422f-db6d-471c-980a-dbe8363d315a
STATUS:CONFIRMED
LAST-MODIFIED:20241105T090220Z
DESCRIPTION:Swiss Table Tennis League Women\nBegegnungs-Nr: 10\nHeim: ZZ-Lancy\nGast: Young Stars ZH\n\nAdresse: Avenue du Curé-Baud 40\, 1212 Grand-Lancy\n
LOCATION:Avenue du Curé-Baud 40\, 1212 Grand-Lancy
CATEGORIES:Saison 2024/25
END:VEVENT
BEGIN:VEVENT
DTSTAMP:20260423T224836Z
DTSTART;TZID=Europe/Berlin:20250202T140000
DTEND;TZID=Europe/Berlin:20250202T170000
SUMMARY:STTL Women ZZ-Lancy vs Zürich-Affoltern (9)
UID:524a6b47-b706-49e6-ae64-624de89b383b
STATUS:CONFIRMED
LAST-MODIFIED:20250210T074456Z
DESCRIPTION:Swiss Table Tennis League Women\nBegegnungs-Nr: 9\nHeim: ZZ-Lancy\nGast: Zürich-Affoltern\n\nAdresse: Avenue du Curé-Baud 40\, 1212 Grand-Lancy\n
LOCATION:Avenue du Curé-Baud 40\, 1212 Grand-Lancy
CATEGORIES:Saison 2024/25
END:VEVENT
BEGIN:VEVENT
DTSTAMP:20260423T224836Z
DTSTART;TZID=Europe/Berlin:20250201T150000
DTEND;TZID=Europe/Berlin:20250201T180000
SUMMARY:STTL Women ZZ-Lancy vs Rio-Star Muttenz (5)
UID:06835e72-1890-433b-890d-6a5b69452930
STATUS:CONFIRMED
LAST-MODIFIED:20250210T075012Z
DESCRIPTION:Swiss Table Tennis League Women\nBegegnungs-Nr: 5\nHeim: ZZ-Lancy\nGast: Rio-Star Muttenz\n\nAdresse: Avenue du Curé-Baud 40\, 1212 Grand-Lancy\n
LOCATION:Avenue du Curé-Baud 40\, 1212 Grand-Lancy
CATEGORIES:Saison 2024/25
END:VEVENT
BEGIN:VEVENT
DTSTAMP:20260423T224836Z
DTSTART;TZID=Europe/Berlin:20250412T170000
DTEND;TZID=Europe/Berlin:20250412T200000
SUMMARY:STTL Women Play-Off 1/2-Final ZZ-Lancy vs Zürich-Affoltern (4)
UID:681b02b3-558c-4e0c-90fe-5fe34a61914d
STATUS:CONFIRMED
LAST-MODIFIED:20250414T080123Z
DESCRIPTION:Swiss Table Tennis League Women Play-Off 1/2-Final\nBegegnungs-Nr: 4\nHeim: ZZ-Lancy\nGast: Zürich-Affoltern\n\nAdresse: Avenue du Curé-Baud 40\, 1212 Grand-Lancy\n
LOCATION:Avenue du Curé-Baud 40\, 1212 Grand-Lancy
CATEGORIES:Saison 2024/25
END:VEVENT
BEGIN:VEVENT
DTSTAMP:20260423T224836Z
DTSTART;TZID=Europe/Berlin:20241006T120000
DTEND;TZID=Europe/Berlin:20241006T150000
SUMMARY:STTL Women Zürich-Affoltern vs ZZ-Lancy (6)
UID:e6bf143c-9eab-416d-a503-b4682220c5c6
STATUS:CONFIRMED
LAST-MODIFIED:20241011T074744Z
DESCRIPTION:Swiss Table Tennis League Women\nBegegnungs-Nr: 6\nHeim: Zürich-Affoltern\nGast: ZZ-Lancy\n\nAdresse: Rümlangstr. 89\, 8052 Zürich\n
LOCATION:Rümlangstr. 89\, 8052 Zürich
CATEGORIES:Saison 2024/25
END:VEVENT
BEGIN:VEVENT
DTSTAMP:20260423T224836Z
DTSTART;TZID=Europe/Berlin:20241005T150000
DTEND;TZID=Europe/Berlin:20241005T180000
SUMMARY:STTL Women Rio-Star Muttenz vs ZZ-Lancy (2)
UID:5c9274ab-fc5f-42bb-b08a-252ee815ae1f
STATUS:CONFIRMED
LAST-MODIFIED:20241011T074649Z
DESCRIPTION:Swiss Table Tennis League Women\nBegegnungs-Nr: 2\nHeim: Rio-Star Muttenz\nGast: ZZ-Lancy\n\nAdresse: Gründenstrasse 32\, 4132 Muttenz\n
LOCATION:Gründenstrasse 32\, 4132 Muttenz
CATEGORIES:Saison 2024/25
END:VEVENT
BEGIN:VEVENT
DTSTAMP:20260423T224836Z
DTSTART;TZID=Europe/Berlin:20250330T140000
DTEND;TZID=Europe/Berlin:20250330T170000
SUMMARY:STTL Women Young Stars ZH vs ZZ-Lancy (13)
UID:2eedb7cd-0176-4ed0-b187-1f05eea90c12
STATUS:CONFIRMED
LAST-MODIFIED:20250403T092326Z
DESCRIPTION:Swiss Table Tennis League Women\nBegegnungs-Nr: 13\nHeim: Young Stars ZH\nGast: ZZ-Lancy\n\nAdresse: Seefeldstrasse 93\, 8008 Zürich\n
LOCATION:Seefeldstrasse 93\, 8008 Zürich
CATEGORIES:Saison 2024/25
END:VEVENT
BEGIN:VEVENT
DTSTAMP:20260423T224836Z
DTSTART;TZID=Europe/Berlin:20241208T120000
DTEND;TZID=Europe/Berlin:20241208T150000
SUMMARY:STTL Women Lausanne vs ZZ-Lancy (2)
UID:3b58dc1c-02f9-4b7c-ab2e-7674a4a69088
STATUS:CONFIRMED
LAST-MODIFIED:20241212T084549Z
DESCRIPTION:Swiss Table Tennis League Women\nBegegnungs-Nr: 2\nHeim: Lausanne\nGast: ZZ-Lancy\n\nAdresse: Vaudoise Aréna\, Ch. du Viaduc 14\, 1008 Prilly\n
LOCATION:Vaudoise Aréna\, Ch. du Viaduc 14\, 1008 Prilly
CATEGORIES:Saison 2024/25
END:VEVENT
BEGIN:VEVENT
DTSTAMP:20260423T224836Z
DTSTART;TZID=Europe/Berlin:20250329T140000
DTEND;TZID=Europe/Berlin:20250329T170000
SUMMARY:STTL Women Neuhausen vs ZZ-Lancy (10)
UID:c2c75564-9149-4888-aa49-11ab87b823bc
STATUS:CONFIRMED
LAST-MODIFIED:20250403T092257Z
DESCRIPTION:Swiss Table Tennis League Women\nBegegnungs-Nr: 10\nHeim: Neuhausen\nGast: ZZ-Lancy\n\nAdresse: Ebnatstrasse 35\, 8200 Schaffhausen\n
LOCATION:Ebnatstrasse 35\, 8200 Schaffhausen
CATEGORIES:Saison 2024/25
END:VEVENT
BEGIN:VEVENT
DTSTAMP:20260423T224836Z
DTSTART;TZID=Europe/Berlin:20250524T133000
DTEND;TZID=Europe/Berlin:20250524T163000
SUMMARY:STTL Women Superfinal Neuhausen vs ZZ-Lancy (1)
UID:9caaa30f-8ade-4fbb-bb96-e909a6d6ec48
STATUS:CONFIRMED
LAST-MODIFIED:20250524T135811Z
DESCRIPTION:Swiss Table Tennis League Women Superfinal\nBegegnungs-Nr: 1\nHeim: Neuhausen\nGast: ZZ-Lancy\n
LOCATION:
CATEGORIES:Saison 2024/25
END:VEVENT
BEGIN:VEVENT
DTSTAMP:20260423T224836Z
DTSTART;TZID=Europe/Berlin:20250411T180000
DTEND;TZID=Europe/Berlin:20250411T210000
SUMMARY:STTL Women Play-Off 1/2-Final Zürich-Affoltern vs ZZ-Lancy (2)
UID:1013bf2d-efdc-461a-a5db-34b3267f9531
STATUS:CONFIRMED
LAST-MODIFIED:20250414T080145Z
DESCRIPTION:Swiss Table Tennis League Women Play-Off 1/2-Final\nBegegnungs-Nr: 2\nHeim: Zürich-Affoltern\nGast: ZZ-Lancy\n
LOCATION:
CATEGORIES:Saison 2024/25
END:VEVENT
END:VCALENDAR
