BEGIN:VCALENDAR
PRODID:-//nuDatenautomaten//framework iCal4j //DE
VERSION:2.0
CALSCALE:GREGORIAN
BEGIN:VTIMEZONE
TZID:Europe/Berlin
LAST-MODIFIED:20260306T231828Z
TZURL:https://www.tzurl.org/zoneinfo/Europe/Berlin
X-LIC-LOCATION:Europe/Berlin
X-PROLEPTIC-TZNAME:LMT
BEGIN:STANDARD
TZNAME:CET
TZOFFSETFROM:+005328
TZOFFSETTO:+0100
DTSTART:18930401T000000
END:STANDARD
BEGIN:DAYLIGHT
TZNAME:CEST
TZOFFSETFROM:+0100
TZOFFSETTO:+0200
DTSTART:19160430T230000
RDATE:19400401T020000
RDATE:19430329T020000
RDATE:19460414T020000
RDATE:19470406T030000
RDATE:19480418T020000
RDATE:19490410T020000
RDATE:19800406T020000
END:DAYLIGHT
BEGIN:STANDARD
TZNAME:CET
TZOFFSETFROM:+0200
TZOFFSETTO:+0100
DTSTART:19161001T010000
RDATE:19421102T030000
RDATE:19431004T030000
RDATE:19441002T030000
RDATE:19451118T030000
RDATE:19461007T030000
END:STANDARD
BEGIN:DAYLIGHT
TZNAME:CEST
TZOFFSETFROM:+0100
TZOFFSETTO:+0200
DTSTART:19170416T020000
RRULE:FREQ=YEARLY;UNTIL=19180415T010000Z;BYMONTH=4;BYDAY=3MO
END:DAYLIGHT
BEGIN:STANDARD
TZNAME:CET
TZOFFSETFROM:+0200
TZOFFSETTO:+0100
DTSTART:19170917T030000
RRULE:FREQ=YEARLY;UNTIL=19180916T010000Z;BYMONTH=9;BYDAY=3MO
END:STANDARD
BEGIN:DAYLIGHT
TZNAME:CEST
TZOFFSETFROM:+0100
TZOFFSETTO:+0200
DTSTART:19440403T020000
RRULE:FREQ=YEARLY;UNTIL=19450402T010000Z;BYMONTH=4;BYDAY=1MO
END:DAYLIGHT
BEGIN:DAYLIGHT
TZNAME:CEMT
TZOFFSETFROM:+0200
TZOFFSETTO:+0300
DTSTART:19450524T020000
RDATE:19470511T030000
END:DAYLIGHT
BEGIN:DAYLIGHT
TZNAME:CEST
TZOFFSETFROM:+0300
TZOFFSETTO:+0200
DTSTART:19450924T030000
RDATE:19470629T030000
END:DAYLIGHT
BEGIN:STANDARD
TZNAME:CET
TZOFFSETFROM:+0100
TZOFFSETTO:+0100
DTSTART:19460101T000000
RDATE:19800101T000000
END:STANDARD
BEGIN:STANDARD
TZNAME:CET
TZOFFSETFROM:+0200
TZOFFSETTO:+0100
DTSTART:19471005T030000
RRULE:FREQ=YEARLY;UNTIL=19491002T010000Z;BYMONTH=10;BYDAY=1SU
END:STANDARD
BEGIN:STANDARD
TZNAME:CET
TZOFFSETFROM:+0200
TZOFFSETTO:+0100
DTSTART:19800928T030000
RRULE:FREQ=YEARLY;UNTIL=19950924T010000Z;BYMONTH=9;BYDAY=-1SU
END:STANDARD
BEGIN:DAYLIGHT
TZNAME:CEST
TZOFFSETFROM:+0100
TZOFFSETTO:+0200
DTSTART:19810329T020000
RRULE:FREQ=YEARLY;BYMONTH=3;BYDAY=-1SU
END:DAYLIGHT
BEGIN:STANDARD
TZNAME:CET
TZOFFSETFROM:+0200
TZOFFSETTO:+0100
DTSTART:19961027T030000
RRULE:FREQ=YEARLY;BYMONTH=10;BYDAY=-1SU
END:STANDARD
END:VTIMEZONE
BEGIN:VEVENT
DTSTAMP:20260424T022712Z
DTSTART;TZID=Europe/Berlin:20241025T200000
DTEND;TZID=Europe/Berlin:20241025T230000
SUMMARY:ME L2 Gr 3\, Tours 1&2 Lausanne III vs Crissier II (0)
UID:942bdbb3-2116-481c-bad5-f226317d240b
STATUS:CONFIRMED
LAST-MODIFIED:20241029T143903Z
DESCRIPTION:2ème ligue Hommes Groupe 3\, Tours 1&2\nBegegnungs-Nr: 0\nHeim: Lausanne III\nGast: Crissier II\n\nAdresse: Vaudoise Aréna\, Ch. du Viaduc 14\, 1008 Prilly\n
LOCATION:Vaudoise Aréna\, Ch. du Viaduc 14\, 1008 Prilly
CATEGORIES:Saison 2024/25
END:VEVENT
BEGIN:VEVENT
DTSTAMP:20260424T022712Z
DTSTART;TZID=Europe/Berlin:20241011T200000
DTEND;TZID=Europe/Berlin:20241011T230000
SUMMARY:ME L2 Gr 3\, Tours 1&2 Lausanne III vs Romanel II (0)
UID:53428739-017f-4cb3-ad9c-314e5b010e66
STATUS:CONFIRMED
LAST-MODIFIED:20241021T214900Z
DESCRIPTION:2ème ligue Hommes Groupe 3\, Tours 1&2\nBegegnungs-Nr: 0\nHeim: Lausanne III\nGast: Romanel II\n\nAdresse: Vaudoise Aréna\, Ch. du Viaduc 14\, 1008 Prilly\n
LOCATION:Vaudoise Aréna\, Ch. du Viaduc 14\, 1008 Prilly
CATEGORIES:Saison 2024/25
END:VEVENT
BEGIN:VEVENT
DTSTAMP:20260424T022712Z
DTSTART;TZID=Europe/Berlin:20240927T200000
DTEND;TZID=Europe/Berlin:20240927T230000
SUMMARY:ME L2 Gr 3\, Tours 1&2 Lausanne III vs Gland (0)
UID:96afa6cb-06ec-4315-b601-b88065b7ab3a
STATUS:CONFIRMED
LAST-MODIFIED:20241001T215958Z
DESCRIPTION:2ème ligue Hommes Groupe 3\, Tours 1&2\nBegegnungs-Nr: 0\nHeim: Lausanne III\nGast: Gland\n\nAdresse: Vaudoise Aréna\, Ch. du Viaduc 14\, 1008 Prilly\n
LOCATION:Vaudoise Aréna\, Ch. du Viaduc 14\, 1008 Prilly
CATEGORIES:Saison 2024/25
END:VEVENT
BEGIN:VEVENT
DTSTAMP:20260424T022712Z
DTSTART;TZID=Europe/Berlin:20240913T200000
DTEND;TZID=Europe/Berlin:20240913T230000
SUMMARY:ME L2 Gr 3\, Tours 1&2 Lausanne III vs Forward-Morges II (0)
UID:c31856d6-7658-4e5f-a918-e72ea7c61b5c
STATUS:CONFIRMED
LAST-MODIFIED:20240918T203012Z
DESCRIPTION:2ème ligue Hommes Groupe 3\, Tours 1&2\nBegegnungs-Nr: 0\nHeim: Lausanne III\nGast: Forward-Morges II\n\nAdresse: Vaudoise Aréna\, Ch. du Viaduc 14\, 1008 Prilly\n
LOCATION:Vaudoise Aréna\, Ch. du Viaduc 14\, 1008 Prilly
CATEGORIES:Saison 2024/25
END:VEVENT
BEGIN:VEVENT
DTSTAMP:20260424T022712Z
DTSTART;TZID=Europe/Berlin:20241122T200000
DTEND;TZID=Europe/Berlin:20241122T230000
SUMMARY:ME L2 Gr 3\, Tours 1&2 Lausanne III vs Eysins (0)
UID:716e9c07-9f6c-499f-ae5b-52d52870c85e
STATUS:CONFIRMED
LAST-MODIFIED:20241126T111945Z
DESCRIPTION:2ème ligue Hommes Groupe 3\, Tours 1&2\nBegegnungs-Nr: 0\nHeim: Lausanne III\nGast: Eysins\n\nAdresse: Vaudoise Aréna\, Ch. du Viaduc 14\, 1008 Prilly\n
LOCATION:Vaudoise Aréna\, Ch. du Viaduc 14\, 1008 Prilly
CATEGORIES:Saison 2024/25
END:VEVENT
BEGIN:VEVENT
DTSTAMP:20260424T022712Z
DTSTART;TZID=Europe/Berlin:20250411T200000
DTEND;TZID=Europe/Berlin:20250411T230000
SUMMARY:ME L2 Gr 2\, Tours 3&4 Lausanne III vs Rossens III (0)
UID:8b0f5eb0-9332-48d6-9a15-3246cfee1887
STATUS:CONFIRMED
LAST-MODIFIED:20250414T154259Z
DESCRIPTION:2ème ligue Hommes Groupe 2\, Tours 3&4\nBegegnungs-Nr: 0\nHeim: Lausanne III\nGast: Rossens III\n\nAdresse: Vaudoise Aréna\, Ch. du Viaduc 14\, 1008 Prilly\n
LOCATION:Vaudoise Aréna\, Ch. du Viaduc 14\, 1008 Prilly
CATEGORIES:Saison 2024/25
END:VEVENT
BEGIN:VEVENT
DTSTAMP:20260424T022712Z
DTSTART;TZID=Europe/Berlin:20250314T200000
DTEND;TZID=Europe/Berlin:20250314T230000
SUMMARY:ME L2 Gr 2\, Tours 3&4 Lausanne III vs Mézières (0)
UID:808c9a94-a1a8-40ee-8abc-967f05bf1679
STATUS:CONFIRMED
LAST-MODIFIED:20250316T010646Z
DESCRIPTION:2ème ligue Hommes Groupe 2\, Tours 3&4\nBegegnungs-Nr: 0\nHeim: Lausanne III\nGast: Mézières\n\nAdresse: Vaudoise Aréna\, Ch. du Viaduc 14\, 1008 Prilly\n
LOCATION:Vaudoise Aréna\, Ch. du Viaduc 14\, 1008 Prilly
CATEGORIES:Saison 2024/25
END:VEVENT
BEGIN:VEVENT
DTSTAMP:20260424T022712Z
DTSTART;TZID=Europe/Berlin:20250307T200000
DTEND;TZID=Europe/Berlin:20250307T230000
SUMMARY:ME L2 Gr 2\, Tours 3&4 Lausanne III vs Fribourg III (0)
UID:8f1ab067-3918-4401-947d-383c50725ae5
STATUS:CONFIRMED
LAST-MODIFIED:20250310T233129Z
DESCRIPTION:2ème ligue Hommes Groupe 2\, Tours 3&4\nBegegnungs-Nr: 0\nHeim: Lausanne III\nGast: Fribourg III\n\nAdresse: Vaudoise Aréna\, Ch. du Viaduc 14\, 1008 Prilly\n
LOCATION:Vaudoise Aréna\, Ch. du Viaduc 14\, 1008 Prilly
CATEGORIES:Saison 2024/25
END:VEVENT
BEGIN:VEVENT
DTSTAMP:20260424T022712Z
DTSTART;TZID=Europe/Berlin:20250221T200000
DTEND;TZID=Europe/Berlin:20250221T230000
SUMMARY:ME L2 Gr 2\, Tours 3&4 Lausanne III vs Fribourg IV (0)
UID:39c1d7d2-243d-475e-8c2e-26c41b662abb
STATUS:CONFIRMED
LAST-MODIFIED:20250222T175832Z
DESCRIPTION:2ème ligue Hommes Groupe 2\, Tours 3&4\nBegegnungs-Nr: 0\nHeim: Lausanne III\nGast: Fribourg IV\n\nAdresse: Vaudoise Aréna\, Ch. du Viaduc 14\, 1008 Prilly\n
LOCATION:Vaudoise Aréna\, Ch. du Viaduc 14\, 1008 Prilly
CATEGORIES:Saison 2024/25
END:VEVENT
BEGIN:VEVENT
DTSTAMP:20260424T022712Z
DTSTART;TZID=Europe/Berlin:20250117T200000
DTEND;TZID=Europe/Berlin:20250117T230000
SUMMARY:ME L2 Gr 2\, Tours 3&4 Lausanne III vs Lausanne V (0)
UID:b7fc30fd-1000-46b8-b360-892b9ced61ef
STATUS:CONFIRMED
LAST-MODIFIED:20250120T123426Z
DESCRIPTION:2ème ligue Hommes Groupe 2\, Tours 3&4\nBegegnungs-Nr: 0\nHeim: Lausanne III\nGast: Lausanne V\n\nAdresse: Vaudoise Aréna\, Ch. du Viaduc 14\, 1008 Prilly\n
LOCATION:Vaudoise Aréna\, Ch. du Viaduc 14\, 1008 Prilly
CATEGORIES:Saison 2024/25
END:VEVENT
BEGIN:VEVENT
DTSTAMP:20260424T022712Z
DTSTART;TZID=Europe/Berlin:20240918T200000
DTEND;TZID=Europe/Berlin:20240918T230000
SUMMARY:ME L2 Gr 3\, Tours 1&2 Eysins vs Lausanne III (0)
UID:960d8030-8db2-46c6-9f2b-477805cc616a
STATUS:CONFIRMED
LAST-MODIFIED:20240920T063441Z
DESCRIPTION:2ème ligue Hommes Groupe 3\, Tours 1&2\nBegegnungs-Nr: 0\nHeim: Eysins\nGast: Lausanne III\n\nAdresse: En Bellossiez 1\, 1262 Eysins\n
LOCATION:En Bellossiez 1\, 1262 Eysins
CATEGORIES:Saison 2024/25
END:VEVENT
BEGIN:VEVENT
DTSTAMP:20260424T022712Z
DTSTART;TZID=Europe/Berlin:20240905T193000
DTEND;TZID=Europe/Berlin:20240905T223000
SUMMARY:ME L2 Gr 3\, Tours 1&2 Crissier II vs Lausanne III (0)
UID:dcd4f1e9-52de-4736-a0e8-4e40765f70a3
STATUS:CONFIRMED
LAST-MODIFIED:20240905T225721Z
DESCRIPTION:2ème ligue Hommes Groupe 3\, Tours 1&2\nBegegnungs-Nr: 0\nHeim: Crissier II\nGast: Lausanne III\n\nAdresse: ch. des Oches du Mur\, 1023 Crissier\n
LOCATION:ch. des Oches du Mur\, 1023 Crissier
CATEGORIES:Saison 2024/25
END:VEVENT
BEGIN:VEVENT
DTSTAMP:20260424T022712Z
DTSTART;TZID=Europe/Berlin:20241219T194500
DTEND;TZID=Europe/Berlin:20241219T224500
SUMMARY:ME L2 Gr 3\, Tours 1&2 Romanel II vs Lausanne III (0)
UID:a12c73fd-392f-4b6f-bb5a-b04072d317e2
STATUS:CONFIRMED
LAST-MODIFIED:20241221T110359Z
DESCRIPTION:2ème ligue Hommes Groupe 3\, Tours 1&2\nBegegnungs-Nr: 0\nHeim: Romanel II\nGast: Lausanne III\n\nAdresse: Ch des Epinettes 1\, 1032 Romanel-sur-Lausanne\n
LOCATION:Ch des Epinettes 1\, 1032 Romanel-sur-Lausanne
CATEGORIES:Saison 2024/25
END:VEVENT
BEGIN:VEVENT
DTSTAMP:20260424T022712Z
DTSTART;TZID=Europe/Berlin:20241129T193000
DTEND;TZID=Europe/Berlin:20241129T223000
SUMMARY:ME L2 Gr 3\, Tours 1&2 Gland vs Lausanne III (0)
UID:e55c90d2-93f2-40b6-b8b4-5194fa727554
STATUS:CONFIRMED
LAST-MODIFIED:20241130T173007Z
DESCRIPTION:2ème ligue Hommes Groupe 3\, Tours 1&2\nBegegnungs-Nr: 0\nHeim: Gland\nGast: Lausanne III\n\nAdresse: Chemin de la Perroude 1\, 1196 Gland\n
LOCATION:Chemin de la Perroude 1\, 1196 Gland
CATEGORIES:Saison 2024/25
END:VEVENT
BEGIN:VEVENT
DTSTAMP:20260424T022712Z
DTSTART;TZID=Europe/Berlin:20241106T194500
DTEND;TZID=Europe/Berlin:20241106T224500
SUMMARY:ME L2 Gr 3\, Tours 1&2 Forward-Morges II vs Lausanne III (0)
UID:63aee1c3-e966-4eb9-9250-971ed0826e16
STATUS:CONFIRMED
LAST-MODIFIED:20241107T130113Z
DESCRIPTION:2ème ligue Hommes Groupe 3\, Tours 1&2\nBegegnungs-Nr: 0\nHeim: Forward-Morges II\nGast: Lausanne III\n\nAdresse: Chemin de Tolochenaz\, 1110 Morges\n
LOCATION:Chemin de Tolochenaz\, 1110 Morges
CATEGORIES:Saison 2024/25
END:VEVENT
BEGIN:VEVENT
DTSTAMP:20260424T022712Z
DTSTART;TZID=Europe/Berlin:20250410T193000
DTEND;TZID=Europe/Berlin:20250410T223000
SUMMARY:ME L2 Gr 2\, Tours 3&4 Fribourg III vs Lausanne III (0)
UID:89791a9b-4f46-4ea4-9e20-2afe4f02828a
STATUS:CONFIRMED
LAST-MODIFIED:20250411T185952Z
DESCRIPTION:2ème ligue Hommes Groupe 2\, Tours 3&4\nBegegnungs-Nr: 0\nHeim: Fribourg III\nGast: Lausanne III\n\nAdresse: Route du Centre sportif\, 1752 Villars-sur-Glâne\n
LOCATION:Route du Centre sportif\, 1752 Villars-sur-Glâne
CATEGORIES:Saison 2024/25
END:VEVENT
BEGIN:VEVENT
DTSTAMP:20260424T022712Z
DTSTART;TZID=Europe/Berlin:20250501T193000
DTEND;TZID=Europe/Berlin:20250501T223000
SUMMARY:ME L2 Gr 2\, Tours 3&4 Fribourg IV vs Lausanne III (0)
UID:a0352567-5701-41c9-86fb-a1f8829e10dd
STATUS:CONFIRMED
LAST-MODIFIED:20250503T000259Z
DESCRIPTION:2ème ligue Hommes Groupe 2\, Tours 3&4\nBegegnungs-Nr: 0\nHeim: Fribourg IV\nGast: Lausanne III\n\nAdresse: Avenue Général Guisan 61\, 1700 Fribourg\n
LOCATION:Avenue Général Guisan 61\, 1700 Fribourg
CATEGORIES:Saison 2024/25
END:VEVENT
BEGIN:VEVENT
DTSTAMP:20260424T022712Z
DTSTART;TZID=Europe/Berlin:20250304T200000
DTEND;TZID=Europe/Berlin:20250304T230000
SUMMARY:ME L2 Gr 2\, Tours 3&4 Lausanne V vs Lausanne III (0)
UID:1ea41ca4-2a7a-41cd-8757-59c3b045c812
STATUS:CONFIRMED
LAST-MODIFIED:20250304T220917Z
DESCRIPTION:2ème ligue Hommes Groupe 2\, Tours 3&4\nBegegnungs-Nr: 0\nHeim: Lausanne V\nGast: Lausanne III\n\nAdresse: Vaudoise Aréna\, Ch. du Viaduc 14\, 1008 Prilly\n
LOCATION:Vaudoise Aréna\, Ch. du Viaduc 14\, 1008 Prilly
CATEGORIES:Saison 2024/25
END:VEVENT
BEGIN:VEVENT
DTSTAMP:20260424T022712Z
DTSTART;TZID=Europe/Berlin:20250211T200000
DTEND;TZID=Europe/Berlin:20250211T230000
SUMMARY:ME L2 Gr 2\, Tours 3&4 Rossens III vs Lausanne III (0)
UID:814ae3e5-80c3-48f2-9132-035431600b53
STATUS:CONFIRMED
LAST-MODIFIED:20250212T000908Z
DESCRIPTION:2ème ligue Hommes Groupe 2\, Tours 3&4\nBegegnungs-Nr: 0\nHeim: Rossens III\nGast: Lausanne III\n\nAdresse: Route du Jordil 14\, 1728 Rossens\n
LOCATION:Route du Jordil 14\, 1728 Rossens
CATEGORIES:Saison 2024/25
END:VEVENT
BEGIN:VEVENT
DTSTAMP:20260424T022712Z
DTSTART;TZID=Europe/Berlin:20250122T200000
DTEND;TZID=Europe/Berlin:20250122T230000
SUMMARY:ME L2 Gr 2\, Tours 3&4 Mézières vs Lausanne III (0)
UID:1b30b831-e9cb-41c2-a99a-4ecb8dc3d167
STATUS:CONFIRMED
LAST-MODIFIED:20250122T231834Z
DESCRIPTION:2ème ligue Hommes Groupe 2\, Tours 3&4\nBegegnungs-Nr: 0\nHeim: Mézières\nGast: Lausanne III\n\nAdresse: -\, 1083 Mézières\n
LOCATION:-\, 1083 Mézières
CATEGORIES:Saison 2024/25
END:VEVENT
END:VCALENDAR
