BEGIN:VCALENDAR
PRODID:-//nuDatenautomaten//framework iCal4j //DE
VERSION:2.0
CALSCALE:GREGORIAN
BEGIN:VTIMEZONE
TZID:Europe/Berlin
LAST-MODIFIED:20260306T231828Z
TZURL:https://www.tzurl.org/zoneinfo/Europe/Berlin
X-LIC-LOCATION:Europe/Berlin
X-PROLEPTIC-TZNAME:LMT
BEGIN:STANDARD
TZNAME:CET
TZOFFSETFROM:+005328
TZOFFSETTO:+0100
DTSTART:18930401T000000
END:STANDARD
BEGIN:DAYLIGHT
TZNAME:CEST
TZOFFSETFROM:+0100
TZOFFSETTO:+0200
DTSTART:19160430T230000
RDATE:19400401T020000
RDATE:19430329T020000
RDATE:19460414T020000
RDATE:19470406T030000
RDATE:19480418T020000
RDATE:19490410T020000
RDATE:19800406T020000
END:DAYLIGHT
BEGIN:STANDARD
TZNAME:CET
TZOFFSETFROM:+0200
TZOFFSETTO:+0100
DTSTART:19161001T010000
RDATE:19421102T030000
RDATE:19431004T030000
RDATE:19441002T030000
RDATE:19451118T030000
RDATE:19461007T030000
END:STANDARD
BEGIN:DAYLIGHT
TZNAME:CEST
TZOFFSETFROM:+0100
TZOFFSETTO:+0200
DTSTART:19170416T020000
RRULE:FREQ=YEARLY;UNTIL=19180415T010000Z;BYMONTH=4;BYDAY=3MO
END:DAYLIGHT
BEGIN:STANDARD
TZNAME:CET
TZOFFSETFROM:+0200
TZOFFSETTO:+0100
DTSTART:19170917T030000
RRULE:FREQ=YEARLY;UNTIL=19180916T010000Z;BYMONTH=9;BYDAY=3MO
END:STANDARD
BEGIN:DAYLIGHT
TZNAME:CEST
TZOFFSETFROM:+0100
TZOFFSETTO:+0200
DTSTART:19440403T020000
RRULE:FREQ=YEARLY;UNTIL=19450402T010000Z;BYMONTH=4;BYDAY=1MO
END:DAYLIGHT
BEGIN:DAYLIGHT
TZNAME:CEMT
TZOFFSETFROM:+0200
TZOFFSETTO:+0300
DTSTART:19450524T020000
RDATE:19470511T030000
END:DAYLIGHT
BEGIN:DAYLIGHT
TZNAME:CEST
TZOFFSETFROM:+0300
TZOFFSETTO:+0200
DTSTART:19450924T030000
RDATE:19470629T030000
END:DAYLIGHT
BEGIN:STANDARD
TZNAME:CET
TZOFFSETFROM:+0100
TZOFFSETTO:+0100
DTSTART:19460101T000000
RDATE:19800101T000000
END:STANDARD
BEGIN:STANDARD
TZNAME:CET
TZOFFSETFROM:+0200
TZOFFSETTO:+0100
DTSTART:19471005T030000
RRULE:FREQ=YEARLY;UNTIL=19491002T010000Z;BYMONTH=10;BYDAY=1SU
END:STANDARD
BEGIN:STANDARD
TZNAME:CET
TZOFFSETFROM:+0200
TZOFFSETTO:+0100
DTSTART:19800928T030000
RRULE:FREQ=YEARLY;UNTIL=19950924T010000Z;BYMONTH=9;BYDAY=-1SU
END:STANDARD
BEGIN:DAYLIGHT
TZNAME:CEST
TZOFFSETFROM:+0100
TZOFFSETTO:+0200
DTSTART:19810329T020000
RRULE:FREQ=YEARLY;BYMONTH=3;BYDAY=-1SU
END:DAYLIGHT
BEGIN:STANDARD
TZNAME:CET
TZOFFSETFROM:+0200
TZOFFSETTO:+0100
DTSTART:19961027T030000
RRULE:FREQ=YEARLY;BYMONTH=10;BYDAY=-1SU
END:STANDARD
END:VTIMEZONE
BEGIN:VEVENT
DTSTAMP:20260424T024008Z
DTSTART;TZID=Europe/Berlin:20241028T194500
DTEND;TZID=Europe/Berlin:20241028T224500
SUMMARY:Ligue 2 Gr.2\, Ph.A Versoix II vs ZZ-Lancy VI (16)
UID:7497d209-8c8a-4b88-948d-f98adf2f987b
STATUS:CONFIRMED
LAST-MODIFIED:20241029T180913Z
DESCRIPTION:2ème ligue Homme Gr.2 Phase A\nBegegnungs-Nr: 16\nHeim: Versoix II\nGast: ZZ-Lancy VI\n
LOCATION:
CATEGORIES:Saison 2024/25
END:VEVENT
BEGIN:VEVENT
DTSTAMP:20260424T024008Z
DTSTART;TZID=Europe/Berlin:20241007T194500
DTEND;TZID=Europe/Berlin:20241007T224500
SUMMARY:Ligue 2 Gr.2\, Ph.A Versoix II vs Rapid-Genève (11)
UID:75a12c75-4c4b-427e-89cd-4ccd49128d56
STATUS:CONFIRMED
LAST-MODIFIED:20241008T071515Z
DESCRIPTION:2ème ligue Homme Gr.2 Phase A\nBegegnungs-Nr: 11\nHeim: Versoix II\nGast: Rapid-Genève\n
LOCATION:
CATEGORIES:Saison 2024/25
END:VEVENT
BEGIN:VEVENT
DTSTAMP:20260424T024008Z
DTSTART;TZID=Europe/Berlin:20240923T193000
DTEND;TZID=Europe/Berlin:20240923T223000
SUMMARY:Ligue 2 Gr.2\, Ph.A Versoix II vs UGS-Chênois V (9)
UID:b98de6e7-4c33-4f15-b6ef-1acf694506cb
STATUS:CONFIRMED
LAST-MODIFIED:20240924T072214Z
DESCRIPTION:2ème ligue Homme Gr.2 Phase A\nBegegnungs-Nr: 9\nHeim: Versoix II\nGast: UGS-Chênois V\n\nAdresse: Chemin Ami-Argand 40\, 1290 Versoix\n
LOCATION:Chemin Ami-Argand 40\, 1290 Versoix
CATEGORIES:Saison 2024/25
END:VEVENT
BEGIN:VEVENT
DTSTAMP:20260424T024008Z
DTSTART;TZID=Europe/Berlin:20240916T194500
DTEND;TZID=Europe/Berlin:20240916T224500
SUMMARY:Ligue 2 Gr.2\, Ph.A Versoix II vs Mandement III (5)
UID:b580c0c1-6b1d-4856-a39a-70393f278e69
STATUS:CONFIRMED
LAST-MODIFIED:20240917T065753Z
DESCRIPTION:2ème ligue Homme Gr.2 Phase A\nBegegnungs-Nr: 5\nHeim: Versoix II\nGast: Mandement III\n
LOCATION:
CATEGORIES:Saison 2024/25
END:VEVENT
BEGIN:VEVENT
DTSTAMP:20260424T024008Z
DTSTART;TZID=Europe/Berlin:20241202T194500
DTEND;TZID=Europe/Berlin:20241202T224500
SUMMARY:Ligue 2 Gr.2\, Ph.A Versoix II vs Silver Star IV (29)
UID:19df1004-d3a3-4f09-bc52-faf97ed95e5e
STATUS:CONFIRMED
LAST-MODIFIED:20241203T165459Z
DESCRIPTION:2ème ligue Homme Gr.2 Phase A\nBegegnungs-Nr: 29\nHeim: Versoix II\nGast: Silver Star IV\n
LOCATION:
CATEGORIES:Saison 2024/25
END:VEVENT
BEGIN:VEVENT
DTSTAMP:20260424T024008Z
DTSTART;TZID=Europe/Berlin:20250414T194500
DTEND;TZID=Europe/Berlin:20250414T224500
SUMMARY:Ligue 2 Gr.1\, Ph.B Versoix II vs Châtelaine II (28)
UID:0835f3d4-29de-4a8c-a850-556dc4891db1
STATUS:CONFIRMED
LAST-MODIFIED:20250415T071617Z
DESCRIPTION:2ème ligue Homme Gr.1 Phase B\nBegegnungs-Nr: 28\nHeim: Versoix II\nGast: Châtelaine II\n
LOCATION:
CATEGORIES:Saison 2024/25
END:VEVENT
BEGIN:VEVENT
DTSTAMP:20260424T024008Z
DTSTART;TZID=Europe/Berlin:20250317T194500
DTEND;TZID=Europe/Berlin:20250317T224500
SUMMARY:Ligue 2 Gr.1\, Ph.B Versoix II vs Châtelaine IV (20)
UID:871e009f-46c4-49bd-9e3c-4c64b692cb46
STATUS:CONFIRMED
LAST-MODIFIED:20250318T071755Z
DESCRIPTION:2ème ligue Homme Gr.1 Phase B\nBegegnungs-Nr: 20\nHeim: Versoix II\nGast: Châtelaine IV\n
LOCATION:
CATEGORIES:Saison 2024/25
END:VEVENT
BEGIN:VEVENT
DTSTAMP:20260424T024008Z
DTSTART;TZID=Europe/Berlin:20250113T194500
DTEND;TZID=Europe/Berlin:20250113T224500
SUMMARY:Ligue 2 Gr.1\, Ph.B Versoix II vs Bernex III (2)
UID:e08603b4-88b5-4d3e-be2f-ad2b30c64fb1
STATUS:CONFIRMED
LAST-MODIFIED:20250114T103045Z
DESCRIPTION:2ème ligue Homme Gr.1 Phase B\nBegegnungs-Nr: 2\nHeim: Versoix II\nGast: Bernex III\n
LOCATION:
CATEGORIES:Saison 2024/25
END:VEVENT
BEGIN:VEVENT
DTSTAMP:20260424T024008Z
DTSTART;TZID=Europe/Berlin:20250210T194500
DTEND;TZID=Europe/Berlin:20250210T224500
SUMMARY:Ligue 2 Gr.1\, Ph.B Versoix II vs Meyrin III (12)
UID:def40d9f-dd0b-4560-ba6d-a1798321e69b
STATUS:CONFIRMED
LAST-MODIFIED:20250211T085446Z
DESCRIPTION:2ème ligue Homme Gr.1 Phase B\nBegegnungs-Nr: 12\nHeim: Versoix II\nGast: Meyrin III\n
LOCATION:
CATEGORIES:Saison 2024/25
END:VEVENT
BEGIN:VEVENT
DTSTAMP:20260424T024008Z
DTSTART;TZID=Europe/Berlin:20250127T194500
DTEND;TZID=Europe/Berlin:20250127T224500
SUMMARY:Ligue 2 Gr.1\, Ph.B Versoix II vs Silver Star IV (8)
UID:23ca7fe0-2872-4e38-924b-7785b0e674b1
STATUS:CONFIRMED
LAST-MODIFIED:20250129T083955Z
DESCRIPTION:2ème ligue Homme Gr.1 Phase B\nBegegnungs-Nr: 8\nHeim: Versoix II\nGast: Silver Star IV\n
LOCATION:
CATEGORIES:Saison 2024/25
END:VEVENT
BEGIN:VEVENT
DTSTAMP:20260424T024008Z
DTSTART;TZID=Europe/Berlin:20241112T194500
DTEND;TZID=Europe/Berlin:20241112T224500
SUMMARY:Ligue 2 Gr.2\, Ph.A Mandement III vs Versoix II (20)
UID:66bd689b-5983-4b67-8130-055b546096bb
STATUS:CONFIRMED
LAST-MODIFIED:20241113T103529Z
DESCRIPTION:2ème ligue Homme Gr.2 Phase A\nBegegnungs-Nr: 20\nHeim: Mandement III\nGast: Versoix II\n\nAdresse: Route de la Gare de Satigny 27A\, 1242 Satigny\n
LOCATION:Route de la Gare de Satigny 27A\, 1242 Satigny
CATEGORIES:Saison 2024/25
END:VEVENT
BEGIN:VEVENT
DTSTAMP:20260424T024008Z
DTSTART;TZID=Europe/Berlin:20240910T194500
DTEND;TZID=Europe/Berlin:20240910T224500
SUMMARY:Ligue 2 Gr.2\, Ph.A ZZ-Lancy VI vs Versoix II (1)
UID:796c064b-61df-481b-8877-3454109d9aa2
STATUS:CONFIRMED
LAST-MODIFIED:20240911T104128Z
DESCRIPTION:2ème ligue Homme Gr.2 Phase A\nBegegnungs-Nr: 1\nHeim: ZZ-Lancy VI\nGast: Versoix II\n
LOCATION:
CATEGORIES:Saison 2024/25
END:VEVENT
BEGIN:VEVENT
DTSTAMP:20260424T024008Z
DTSTART;TZID=Europe/Berlin:20241015T194500
DTEND;TZID=Europe/Berlin:20241015T224500
SUMMARY:Ligue 2 Gr.2\, Ph.A Silver Star IV vs Versoix II (14)
UID:12a182a3-8fad-41a5-8c7d-6dc185014d9d
STATUS:CONFIRMED
LAST-MODIFIED:20241016T065651Z
DESCRIPTION:2ème ligue Homme Gr.2 Phase A\nBegegnungs-Nr: 14\nHeim: Silver Star IV\nGast: Versoix II\n
LOCATION:
CATEGORIES:Saison 2024/25
END:VEVENT
BEGIN:VEVENT
DTSTAMP:20260424T024008Z
DTSTART;TZID=Europe/Berlin:20241125T194500
DTEND;TZID=Europe/Berlin:20241125T224500
SUMMARY:Ligue 2 Gr.2\, Ph.A Rapid-Genève vs Versoix II (26)
UID:33833851-29a1-4fe5-b53f-c4b7e0126145
STATUS:CONFIRMED
LAST-MODIFIED:20241126T181231Z
DESCRIPTION:2ème ligue Homme Gr.2 Phase A\nBegegnungs-Nr: 26\nHeim: Rapid-Genève\nGast: Versoix II\n
LOCATION:
CATEGORIES:Saison 2024/25
END:VEVENT
BEGIN:VEVENT
DTSTAMP:20260424T024008Z
DTSTART;TZID=Europe/Berlin:20241119T193000
DTEND;TZID=Europe/Berlin:20241119T223000
SUMMARY:Ligue 2 Gr.2\, Ph.A UGS-Chênois V vs Versoix II (24)
UID:d7371ab3-6a88-47c4-b2af-786df2742d0b
STATUS:CONFIRMED
LAST-MODIFIED:20241120T182249Z
DESCRIPTION:2ème ligue Homme Gr.2 Phase A\nBegegnungs-Nr: 24\nHeim: UGS-Chênois V\nGast: Versoix II\n\nAdresse: Route de Frontenex 68\, 1208 Genève\n
LOCATION:Route de Frontenex 68\, 1208 Genève
CATEGORIES:Saison 2024/25
END:VEVENT
BEGIN:VEVENT
DTSTAMP:20260424T024008Z
DTSTART;TZID=Europe/Berlin:20250121T200000
DTEND;TZID=Europe/Berlin:20250121T230000
SUMMARY:Ligue 2 Gr.1\, Ph.B Châtelaine IV vs Versoix II (5)
UID:46af7a90-5d40-452a-9f28-aac162b026a4
STATUS:CONFIRMED
LAST-MODIFIED:20250122T175746Z
DESCRIPTION:2ème ligue Homme Gr.1 Phase B\nBegegnungs-Nr: 5\nHeim: Châtelaine IV\nGast: Versoix II\n
LOCATION:
CATEGORIES:Saison 2024/25
END:VEVENT
BEGIN:VEVENT
DTSTAMP:20260424T024008Z
DTSTART;TZID=Europe/Berlin:20250408T194500
DTEND;TZID=Europe/Berlin:20250408T224500
SUMMARY:Ligue 2 Gr.1\, Ph.B Meyrin III vs Versoix II (27)
UID:c33e37bd-0914-4c3e-98b1-2d7bd0838947
STATUS:CONFIRMED
LAST-MODIFIED:20250409T192629Z
DESCRIPTION:2ème ligue Homme Gr.1 Phase B\nBegegnungs-Nr: 27\nHeim: Meyrin III\nGast: Versoix II\n
LOCATION:
CATEGORIES:Saison 2024/25
END:VEVENT
BEGIN:VEVENT
DTSTAMP:20260424T024008Z
DTSTART;TZID=Europe/Berlin:20250401T194500
DTEND;TZID=Europe/Berlin:20250401T224500
SUMMARY:Ligue 2 Gr.1\, Ph.B Silver Star IV vs Versoix II (23)
UID:41a2270b-a26c-411b-8b47-892f117ea10b
STATUS:CONFIRMED
LAST-MODIFIED:20250403T180546Z
DESCRIPTION:2ème ligue Homme Gr.1 Phase B\nBegegnungs-Nr: 23\nHeim: Silver Star IV\nGast: Versoix II\n
LOCATION:
CATEGORIES:Saison 2024/25
END:VEVENT
BEGIN:VEVENT
DTSTAMP:20260424T024008Z
DTSTART;TZID=Europe/Berlin:20250311T194500
DTEND;TZID=Europe/Berlin:20250311T224500
SUMMARY:Ligue 2 Gr.1\, Ph.B Bernex III vs Versoix II (17)
UID:248808d8-3c2a-4a5b-9d58-0425ac3b8918
STATUS:CONFIRMED
LAST-MODIFIED:20250312T083153Z
DESCRIPTION:2ème ligue Homme Gr.1 Phase B\nBegegnungs-Nr: 17\nHeim: Bernex III\nGast: Versoix II\n
LOCATION:
CATEGORIES:Saison 2024/25
END:VEVENT
BEGIN:VEVENT
DTSTAMP:20260424T024008Z
DTSTART;TZID=Europe/Berlin:20250218T200000
DTEND;TZID=Europe/Berlin:20250218T230000
SUMMARY:Ligue 2 Gr.1\, Ph.B Châtelaine II vs Versoix II (13)
UID:c6e6af0e-cb41-49ca-b66a-0af5e4f09b31
STATUS:CONFIRMED
LAST-MODIFIED:20250219T123705Z
DESCRIPTION:2ème ligue Homme Gr.1 Phase B\nBegegnungs-Nr: 13\nHeim: Châtelaine II\nGast: Versoix II\n
LOCATION:
CATEGORIES:Saison 2024/25
END:VEVENT
END:VCALENDAR
