BEGIN:VCALENDAR
PRODID:-//nuDatenautomaten//framework iCal4j //DE
VERSION:2.0
CALSCALE:GREGORIAN
BEGIN:VTIMEZONE
TZID:Europe/Berlin
LAST-MODIFIED:20260306T231828Z
TZURL:https://www.tzurl.org/zoneinfo/Europe/Berlin
X-LIC-LOCATION:Europe/Berlin
X-PROLEPTIC-TZNAME:LMT
BEGIN:STANDARD
TZNAME:CET
TZOFFSETFROM:+005328
TZOFFSETTO:+0100
DTSTART:18930401T000000
END:STANDARD
BEGIN:DAYLIGHT
TZNAME:CEST
TZOFFSETFROM:+0100
TZOFFSETTO:+0200
DTSTART:19160430T230000
RDATE:19400401T020000
RDATE:19430329T020000
RDATE:19460414T020000
RDATE:19470406T030000
RDATE:19480418T020000
RDATE:19490410T020000
RDATE:19800406T020000
END:DAYLIGHT
BEGIN:STANDARD
TZNAME:CET
TZOFFSETFROM:+0200
TZOFFSETTO:+0100
DTSTART:19161001T010000
RDATE:19421102T030000
RDATE:19431004T030000
RDATE:19441002T030000
RDATE:19451118T030000
RDATE:19461007T030000
END:STANDARD
BEGIN:DAYLIGHT
TZNAME:CEST
TZOFFSETFROM:+0100
TZOFFSETTO:+0200
DTSTART:19170416T020000
RRULE:FREQ=YEARLY;UNTIL=19180415T010000Z;BYMONTH=4;BYDAY=3MO
END:DAYLIGHT
BEGIN:STANDARD
TZNAME:CET
TZOFFSETFROM:+0200
TZOFFSETTO:+0100
DTSTART:19170917T030000
RRULE:FREQ=YEARLY;UNTIL=19180916T010000Z;BYMONTH=9;BYDAY=3MO
END:STANDARD
BEGIN:DAYLIGHT
TZNAME:CEST
TZOFFSETFROM:+0100
TZOFFSETTO:+0200
DTSTART:19440403T020000
RRULE:FREQ=YEARLY;UNTIL=19450402T010000Z;BYMONTH=4;BYDAY=1MO
END:DAYLIGHT
BEGIN:DAYLIGHT
TZNAME:CEMT
TZOFFSETFROM:+0200
TZOFFSETTO:+0300
DTSTART:19450524T020000
RDATE:19470511T030000
END:DAYLIGHT
BEGIN:DAYLIGHT
TZNAME:CEST
TZOFFSETFROM:+0300
TZOFFSETTO:+0200
DTSTART:19450924T030000
RDATE:19470629T030000
END:DAYLIGHT
BEGIN:STANDARD
TZNAME:CET
TZOFFSETFROM:+0100
TZOFFSETTO:+0100
DTSTART:19460101T000000
RDATE:19800101T000000
END:STANDARD
BEGIN:STANDARD
TZNAME:CET
TZOFFSETFROM:+0200
TZOFFSETTO:+0100
DTSTART:19471005T030000
RRULE:FREQ=YEARLY;UNTIL=19491002T010000Z;BYMONTH=10;BYDAY=1SU
END:STANDARD
BEGIN:STANDARD
TZNAME:CET
TZOFFSETFROM:+0200
TZOFFSETTO:+0100
DTSTART:19800928T030000
RRULE:FREQ=YEARLY;UNTIL=19950924T010000Z;BYMONTH=9;BYDAY=-1SU
END:STANDARD
BEGIN:DAYLIGHT
TZNAME:CEST
TZOFFSETFROM:+0100
TZOFFSETTO:+0200
DTSTART:19810329T020000
RRULE:FREQ=YEARLY;BYMONTH=3;BYDAY=-1SU
END:DAYLIGHT
BEGIN:STANDARD
TZNAME:CET
TZOFFSETFROM:+0200
TZOFFSETTO:+0100
DTSTART:19961027T030000
RRULE:FREQ=YEARLY;BYMONTH=10;BYDAY=-1SU
END:STANDARD
END:VTIMEZONE
BEGIN:VEVENT
DTSTAMP:20260423T190042Z
DTSTART;TZID=Europe/Berlin:20250315T130000
DTEND;TZID=Europe/Berlin:20250315T160000
SUMMARY:U15 R3 D3 Schenkon vs Rotkreuz (2)
UID:5f4ea94c-dc1d-4e4c-9ef2-2d6ea75387d8
STATUS:CONFIRMED
LAST-MODIFIED:20250316T192801Z
DESCRIPTION:U15\, 3. Runde\, 3. Division\nBegegnungs-Nr: 2\nHeim: Schenkon\nGast: Rotkreuz\n
LOCATION:
CATEGORIES:Saison 2024/25
END:VEVENT
BEGIN:VEVENT
DTSTAMP:20260423T190042Z
DTSTART;TZID=Europe/Berlin:20240831T143000
DTEND;TZID=Europe/Berlin:20240831T173000
SUMMARY:U15 R1 GA Schenkon vs Rapid Luzern II (4)
UID:4ac24238-3ec0-465d-b788-5709a423ca72
STATUS:CONFIRMED
LAST-MODIFIED:20240901T174108Z
DESCRIPTION:U15\, 1. Runde\, Gruppe A\nBegegnungs-Nr: 4\nHeim: Schenkon\nGast: Rapid Luzern II\n
LOCATION:
CATEGORIES:Saison 2024/25
END:VEVENT
BEGIN:VEVENT
DTSTAMP:20260423T190042Z
DTSTART;TZID=Europe/Berlin:20241214T130000
DTEND;TZID=Europe/Berlin:20241214T160000
SUMMARY:U15 R2 GB Schenkon vs Rapid Luzern II (1)
UID:fdb6e539-f131-42ba-b0f9-5d73b81a3133
STATUS:CONFIRMED
LAST-MODIFIED:20250109T080619Z
DESCRIPTION:U15\, 2. Runde\, Gruppe B\nBegegnungs-Nr: 1\nHeim: Schenkon\nGast: Rapid Luzern II\n
LOCATION:
CATEGORIES:Saison 2024/25
END:VEVENT
BEGIN:VEVENT
DTSTAMP:20260423T190042Z
DTSTART;TZID=Europe/Berlin:20241214T143000
DTEND;TZID=Europe/Berlin:20241214T173000
SUMMARY:U15 R2 GB Schenkon vs Rothenburg (4)
UID:83fa5f7b-2ceb-4f08-aeb2-3718c2f37c51
STATUS:CONFIRMED
LAST-MODIFIED:20250109T065332Z
DESCRIPTION:U15\, 2. Runde\, Gruppe B\nBegegnungs-Nr: 4\nHeim: Schenkon\nGast: Rothenburg\n
LOCATION:
CATEGORIES:Saison 2024/25
END:VEVENT
BEGIN:VEVENT
DTSTAMP:20260423T190042Z
DTSTART;TZID=Europe/Berlin:20250315T160000
DTEND;TZID=Europe/Berlin:20250315T190000
SUMMARY:U15 R3 D3 Rothenburg vs Schenkon (4)
UID:f350e8af-2a5a-4f50-9a3f-e69a5abd4cc3
STATUS:CONFIRMED
LAST-MODIFIED:20250316T192817Z
DESCRIPTION:U15\, 3. Runde\, 3. Division\nBegegnungs-Nr: 4\nHeim: Rothenburg\nGast: Schenkon\n
LOCATION:
CATEGORIES:Saison 2024/25
END:VEVENT
BEGIN:VEVENT
DTSTAMP:20260423T190042Z
DTSTART;TZID=Europe/Berlin:20240831T160000
DTEND;TZID=Europe/Berlin:20240831T190000
SUMMARY:U15 R1 GA Sarnen vs Schenkon (6)
UID:4fd210ce-ea09-44d1-8f40-2c07d59acaca
STATUS:CONFIRMED
LAST-MODIFIED:20240901T174559Z
DESCRIPTION:U15\, 1. Runde\, Gruppe A\nBegegnungs-Nr: 6\nHeim: Sarnen\nGast: Schenkon\n\nAdresse: Rütistrasse 3\, 6060 Sarnen\n
LOCATION:Rütistrasse 3\, 6060 Sarnen
CATEGORIES:Saison 2024/25
END:VEVENT
BEGIN:VEVENT
DTSTAMP:20260423T190042Z
DTSTART;TZID=Europe/Berlin:20241214T160000
DTEND;TZID=Europe/Berlin:20241214T190000
SUMMARY:U15 R2 GB Baar vs Schenkon (6)
UID:6fd198c1-9137-4ae9-b819-3be0d71ce415
STATUS:CONFIRMED
LAST-MODIFIED:20250109T081203Z
DESCRIPTION:U15\, 2. Runde\, Gruppe B\nBegegnungs-Nr: 6\nHeim: Baar\nGast: Schenkon\n
LOCATION:
CATEGORIES:Saison 2024/25
END:VEVENT
END:VCALENDAR
