BEGIN:VCALENDAR
PRODID:-//nuDatenautomaten//framework iCal4j //DE
VERSION:2.0
CALSCALE:GREGORIAN
BEGIN:VTIMEZONE
TZID:Europe/Berlin
LAST-MODIFIED:20260306T231828Z
TZURL:https://www.tzurl.org/zoneinfo/Europe/Berlin
X-LIC-LOCATION:Europe/Berlin
X-PROLEPTIC-TZNAME:LMT
BEGIN:STANDARD
TZNAME:CET
TZOFFSETFROM:+005328
TZOFFSETTO:+0100
DTSTART:18930401T000000
END:STANDARD
BEGIN:DAYLIGHT
TZNAME:CEST
TZOFFSETFROM:+0100
TZOFFSETTO:+0200
DTSTART:19160430T230000
RDATE:19400401T020000
RDATE:19430329T020000
RDATE:19460414T020000
RDATE:19470406T030000
RDATE:19480418T020000
RDATE:19490410T020000
RDATE:19800406T020000
END:DAYLIGHT
BEGIN:STANDARD
TZNAME:CET
TZOFFSETFROM:+0200
TZOFFSETTO:+0100
DTSTART:19161001T010000
RDATE:19421102T030000
RDATE:19431004T030000
RDATE:19441002T030000
RDATE:19451118T030000
RDATE:19461007T030000
END:STANDARD
BEGIN:DAYLIGHT
TZNAME:CEST
TZOFFSETFROM:+0100
TZOFFSETTO:+0200
DTSTART:19170416T020000
RRULE:FREQ=YEARLY;UNTIL=19180415T010000Z;BYMONTH=4;BYDAY=3MO
END:DAYLIGHT
BEGIN:STANDARD
TZNAME:CET
TZOFFSETFROM:+0200
TZOFFSETTO:+0100
DTSTART:19170917T030000
RRULE:FREQ=YEARLY;UNTIL=19180916T010000Z;BYMONTH=9;BYDAY=3MO
END:STANDARD
BEGIN:DAYLIGHT
TZNAME:CEST
TZOFFSETFROM:+0100
TZOFFSETTO:+0200
DTSTART:19440403T020000
RRULE:FREQ=YEARLY;UNTIL=19450402T010000Z;BYMONTH=4;BYDAY=1MO
END:DAYLIGHT
BEGIN:DAYLIGHT
TZNAME:CEMT
TZOFFSETFROM:+0200
TZOFFSETTO:+0300
DTSTART:19450524T020000
RDATE:19470511T030000
END:DAYLIGHT
BEGIN:DAYLIGHT
TZNAME:CEST
TZOFFSETFROM:+0300
TZOFFSETTO:+0200
DTSTART:19450924T030000
RDATE:19470629T030000
END:DAYLIGHT
BEGIN:STANDARD
TZNAME:CET
TZOFFSETFROM:+0100
TZOFFSETTO:+0100
DTSTART:19460101T000000
RDATE:19800101T000000
END:STANDARD
BEGIN:STANDARD
TZNAME:CET
TZOFFSETFROM:+0200
TZOFFSETTO:+0100
DTSTART:19471005T030000
RRULE:FREQ=YEARLY;UNTIL=19491002T010000Z;BYMONTH=10;BYDAY=1SU
END:STANDARD
BEGIN:STANDARD
TZNAME:CET
TZOFFSETFROM:+0200
TZOFFSETTO:+0100
DTSTART:19800928T030000
RRULE:FREQ=YEARLY;UNTIL=19950924T010000Z;BYMONTH=9;BYDAY=-1SU
END:STANDARD
BEGIN:DAYLIGHT
TZNAME:CEST
TZOFFSETFROM:+0100
TZOFFSETTO:+0200
DTSTART:19810329T020000
RRULE:FREQ=YEARLY;BYMONTH=3;BYDAY=-1SU
END:DAYLIGHT
BEGIN:STANDARD
TZNAME:CET
TZOFFSETFROM:+0200
TZOFFSETTO:+0100
DTSTART:19961027T030000
RRULE:FREQ=YEARLY;BYMONTH=10;BYDAY=-1SU
END:STANDARD
END:VTIMEZONE
BEGIN:VEVENT
DTSTAMP:20260421T090040Z
DTSTART;TZID=Europe/Berlin:20230217T200000
DTEND;TZID=Europe/Berlin:20230217T230000
SUMMARY:HE 6. Liga Gr. 1 Möhlin IV vs KV Liestal IV (0)
UID:2b329370-cd31-45ba-8ad2-583a5222a742
STATUS:CONFIRMED
LAST-MODIFIED:20230220T124524Z
DESCRIPTION:6. Liga Herren Gruppe 1\nBegegnungs-Nr: 0\nHeim: Möhlin IV\nGast: KV Liestal IV\n\nAdresse: Schulhausweg\, 4313 Möhlin\n
LOCATION:Schulhausweg\, 4313 Möhlin
CATEGORIES:Saison 2022/23
END:VEVENT
BEGIN:VEVENT
DTSTAMP:20260421T090040Z
DTSTART;TZID=Europe/Berlin:20230210T200000
DTEND;TZID=Europe/Berlin:20230210T230000
SUMMARY:HE 6. Liga Gr. 1 Möhlin IV vs Gelterkinden V (0)
UID:63074cf7-630a-4397-9908-e14ff3473a6f
STATUS:CONFIRMED
LAST-MODIFIED:20230213T103403Z
DESCRIPTION:6. Liga Herren Gruppe 1\nBegegnungs-Nr: 0\nHeim: Möhlin IV\nGast: Gelterkinden V\n\nAdresse: Schulhausweg\, 4313 Möhlin\n
LOCATION:Schulhausweg\, 4313 Möhlin
CATEGORIES:Saison 2022/23
END:VEVENT
BEGIN:VEVENT
DTSTAMP:20260421T090040Z
DTSTART;TZID=Europe/Berlin:20230120T200000
DTEND;TZID=Europe/Berlin:20230120T230000
SUMMARY:HE 6. Liga Gr. 1 Möhlin IV vs Old Boys Basel II (0)
UID:a528cf5b-94da-4198-805f-efb25ebc2af8
STATUS:CONFIRMED
LAST-MODIFIED:20230124T070240Z
DESCRIPTION:6. Liga Herren Gruppe 1\nBegegnungs-Nr: 0\nHeim: Möhlin IV\nGast: Old Boys Basel II\n\nAdresse: Schulhausweg\, 4313 Möhlin\n
LOCATION:Schulhausweg\, 4313 Möhlin
CATEGORIES:Saison 2022/23
END:VEVENT
BEGIN:VEVENT
DTSTAMP:20260421T090040Z
DTSTART;TZID=Europe/Berlin:20220909T200000
DTEND;TZID=Europe/Berlin:20220909T230000
SUMMARY:HE 6. Liga Gr. 1 Möhlin IV vs Breitenbach III (0)
UID:107980ee-9d87-4797-8cbb-6a295d539eef
STATUS:CONFIRMED
LAST-MODIFIED:20220913T064022Z
DESCRIPTION:6. Liga Herren Gruppe 1\nBegegnungs-Nr: 0\nHeim: Möhlin IV\nGast: Breitenbach III\n\nAdresse: Schulhausweg\, 4313 Möhlin\n
LOCATION:Schulhausweg\, 4313 Möhlin
CATEGORIES:Saison 2022/23
END:VEVENT
BEGIN:VEVENT
DTSTAMP:20260421T090040Z
DTSTART;TZID=Europe/Berlin:20220930T200000
DTEND;TZID=Europe/Berlin:20220930T230000
SUMMARY:HE 6. Liga Gr. 1 Möhlin IV vs Binningen IV (0)
UID:e542c7f8-25f5-414a-bece-54c2dad17a40
STATUS:CONFIRMED
LAST-MODIFIED:20221003T062135Z
DESCRIPTION:6. Liga Herren Gruppe 1\nBegegnungs-Nr: 0\nHeim: Möhlin IV\nGast: Binningen IV\n\nAdresse: Schulhausweg\, 4313 Möhlin\n
LOCATION:Schulhausweg\, 4313 Möhlin
CATEGORIES:Saison 2022/23
END:VEVENT
BEGIN:VEVENT
DTSTAMP:20260421T090040Z
DTSTART;TZID=Europe/Berlin:20230317T200000
DTEND;TZID=Europe/Berlin:20230317T230000
SUMMARY:HE 6. Liga Gr. 1 Möhlin IV vs Sisseln III (0)
UID:14626f79-7485-4466-9e29-c2b7d30b1986
STATUS:CONFIRMED
LAST-MODIFIED:20230320T100014Z
DESCRIPTION:6. Liga Herren Gruppe 1\nBegegnungs-Nr: 0\nHeim: Möhlin IV\nGast: Sisseln III\n\nAdresse: Schulhausweg\, 4313 Möhlin\n
LOCATION:Schulhausweg\, 4313 Möhlin
CATEGORIES:Saison 2022/23
END:VEVENT
BEGIN:VEVENT
DTSTAMP:20260421T090040Z
DTSTART;TZID=Europe/Berlin:20221111T200000
DTEND;TZID=Europe/Berlin:20221111T230000
SUMMARY:HE 6. Liga Gr. 1 Möhlin IV vs Basel VIII (0)
UID:1cfbab1a-dc98-4ee1-b47f-7f99c777bd19
STATUS:CONFIRMED
LAST-MODIFIED:20221114T083148Z
DESCRIPTION:6. Liga Herren Gruppe 1\nBegegnungs-Nr: 0\nHeim: Möhlin IV\nGast: Basel VIII\n\nAdresse: Schulhausweg\, 4313 Möhlin\n
LOCATION:Schulhausweg\, 4313 Möhlin
CATEGORIES:Saison 2022/23
END:VEVENT
BEGIN:VEVENT
DTSTAMP:20260421T090040Z
DTSTART;TZID=Europe/Berlin:20230309T200000
DTEND;TZID=Europe/Berlin:20230309T230000
SUMMARY:HE 6. Liga Gr. 1 Basel VIII vs Möhlin IV (0)
UID:c06c8563-ab18-4c73-b3f1-1ad38a0bbe4e
STATUS:CONFIRMED
LAST-MODIFIED:20230314T070427Z
DESCRIPTION:6. Liga Herren Gruppe 1\nBegegnungs-Nr: 0\nHeim: Basel VIII\nGast: Möhlin IV\n\nAdresse: Schwarzwaldallee 107\, 4058 Basel\n
LOCATION:Schwarzwaldallee 107\, 4058 Basel
CATEGORIES:Saison 2022/23
END:VEVENT
BEGIN:VEVENT
DTSTAMP:20260421T090040Z
DTSTART;TZID=Europe/Berlin:20230118T193000
DTEND;TZID=Europe/Berlin:20230118T223000
SUMMARY:HE 6. Liga Gr. 1 Breitenbach III vs Möhlin IV (0)
UID:7a33b10b-8d5e-4adf-bd8f-11ca06fd9369
STATUS:CONFIRMED
LAST-MODIFIED:20230119T112156Z
DESCRIPTION:6. Liga Herren Gruppe 1\nBegegnungs-Nr: 0\nHeim: Breitenbach III\nGast: Möhlin IV\n\nAdresse: Grienackerweg 12\, 4226 Breitenbach\n
LOCATION:Grienackerweg 12\, 4226 Breitenbach
CATEGORIES:Saison 2022/23
END:VEVENT
BEGIN:VEVENT
DTSTAMP:20260421T090040Z
DTSTART;TZID=Europe/Berlin:20220906T193000
DTEND;TZID=Europe/Berlin:20220906T223000
SUMMARY:HE 6. Liga Gr. 1 Old Boys Basel II vs Möhlin IV (0)
UID:a4bd62e9-8859-4192-9c22-cf220218bbc1
STATUS:CONFIRMED
LAST-MODIFIED:20220913T063925Z
DESCRIPTION:6. Liga Herren Gruppe 1\nBegegnungs-Nr: 0\nHeim: Old Boys Basel II\nGast: Möhlin IV\n\nAdresse: Blotzheimerstrasse 80\, 4055 Basel\n
LOCATION:Blotzheimerstrasse 80\, 4055 Basel
CATEGORIES:Saison 2022/23
END:VEVENT
BEGIN:VEVENT
DTSTAMP:20260421T090040Z
DTSTART;TZID=Europe/Berlin:20221027T200000
DTEND;TZID=Europe/Berlin:20221027T230000
SUMMARY:HE 6. Liga Gr. 1 KV Liestal IV vs Möhlin IV (0)
UID:31437ec9-5bdc-448c-aec5-2a8c1bedd7ef
STATUS:CONFIRMED
LAST-MODIFIED:20221028T062511Z
DESCRIPTION:6. Liga Herren Gruppe 1\nBegegnungs-Nr: 0\nHeim: KV Liestal IV\nGast: Möhlin IV\n\nAdresse: Büchelistrasse\, 4410 Liestal\n
LOCATION:Büchelistrasse\, 4410 Liestal
CATEGORIES:Saison 2022/23
END:VEVENT
BEGIN:VEVENT
DTSTAMP:20260421T090040Z
DTSTART;TZID=Europe/Berlin:20221208T203000
DTEND;TZID=Europe/Berlin:20221208T233000
SUMMARY:HE 6. Liga Gr. 1 Sisseln III vs Möhlin IV (0)
UID:3f0c5d57-00f3-4a4f-9507-c624d54b2f37
STATUS:CONFIRMED
LAST-MODIFIED:20221209T093359Z
DESCRIPTION:6. Liga Herren Gruppe 1\nBegegnungs-Nr: 0\nHeim: Sisseln III\nGast: Möhlin IV\n\nAdresse: Schulstrasse\, 4334 Sisseln\n
LOCATION:Schulstrasse\, 4334 Sisseln
CATEGORIES:Saison 2022/23
END:VEVENT
BEGIN:VEVENT
DTSTAMP:20260421T090040Z
DTSTART;TZID=Europe/Berlin:20220926T201500
DTEND;TZID=Europe/Berlin:20220926T231500
SUMMARY:HE 6. Liga Gr. 1 Gelterkinden V vs Möhlin IV (0)
UID:4251b2cf-bd38-4ca7-84ab-0bbe869222df
STATUS:CONFIRMED
LAST-MODIFIED:20220928T211714Z
DESCRIPTION:6. Liga Herren Gruppe 1\nBegegnungs-Nr: 0\nHeim: Gelterkinden V\nGast: Möhlin IV\n\nAdresse: Turnhallenstrasse 18\, 4460 Gelterkinden\n
LOCATION:Turnhallenstrasse 18\, 4460 Gelterkinden
CATEGORIES:Saison 2022/23
END:VEVENT
BEGIN:VEVENT
DTSTAMP:20260421T090040Z
DTSTART;TZID=Europe/Berlin:20230127T200000
DTEND;TZID=Europe/Berlin:20230127T230000
SUMMARY:HE 6. Liga Gr. 1 Binningen IV vs Möhlin IV (0)
UID:377a985f-87c2-49d9-9c05-956ec1c288d1
STATUS:CONFIRMED
LAST-MODIFIED:20230130T091914Z
DESCRIPTION:6. Liga Herren Gruppe 1\nBegegnungs-Nr: 0\nHeim: Binningen IV\nGast: Möhlin IV\n\nAdresse: Rottmannsbodenstr./Neusatzweg\, 4102 Binningen\n
LOCATION:Rottmannsbodenstr./Neusatzweg\, 4102 Binningen
CATEGORIES:Saison 2022/23
END:VEVENT
END:VCALENDAR
