BEGIN:VCALENDAR
PRODID:-//nuDatenautomaten//framework iCal4j //DE
VERSION:2.0
CALSCALE:GREGORIAN
BEGIN:VTIMEZONE
TZID:Europe/Berlin
LAST-MODIFIED:20260306T231828Z
TZURL:https://www.tzurl.org/zoneinfo/Europe/Berlin
X-LIC-LOCATION:Europe/Berlin
X-PROLEPTIC-TZNAME:LMT
BEGIN:STANDARD
TZNAME:CET
TZOFFSETFROM:+005328
TZOFFSETTO:+0100
DTSTART:18930401T000000
END:STANDARD
BEGIN:DAYLIGHT
TZNAME:CEST
TZOFFSETFROM:+0100
TZOFFSETTO:+0200
DTSTART:19160430T230000
RDATE:19400401T020000
RDATE:19430329T020000
RDATE:19460414T020000
RDATE:19470406T030000
RDATE:19480418T020000
RDATE:19490410T020000
RDATE:19800406T020000
END:DAYLIGHT
BEGIN:STANDARD
TZNAME:CET
TZOFFSETFROM:+0200
TZOFFSETTO:+0100
DTSTART:19161001T010000
RDATE:19421102T030000
RDATE:19431004T030000
RDATE:19441002T030000
RDATE:19451118T030000
RDATE:19461007T030000
END:STANDARD
BEGIN:DAYLIGHT
TZNAME:CEST
TZOFFSETFROM:+0100
TZOFFSETTO:+0200
DTSTART:19170416T020000
RRULE:FREQ=YEARLY;UNTIL=19180415T010000Z;BYMONTH=4;BYDAY=3MO
END:DAYLIGHT
BEGIN:STANDARD
TZNAME:CET
TZOFFSETFROM:+0200
TZOFFSETTO:+0100
DTSTART:19170917T030000
RRULE:FREQ=YEARLY;UNTIL=19180916T010000Z;BYMONTH=9;BYDAY=3MO
END:STANDARD
BEGIN:DAYLIGHT
TZNAME:CEST
TZOFFSETFROM:+0100
TZOFFSETTO:+0200
DTSTART:19440403T020000
RRULE:FREQ=YEARLY;UNTIL=19450402T010000Z;BYMONTH=4;BYDAY=1MO
END:DAYLIGHT
BEGIN:DAYLIGHT
TZNAME:CEMT
TZOFFSETFROM:+0200
TZOFFSETTO:+0300
DTSTART:19450524T020000
RDATE:19470511T030000
END:DAYLIGHT
BEGIN:DAYLIGHT
TZNAME:CEST
TZOFFSETFROM:+0300
TZOFFSETTO:+0200
DTSTART:19450924T030000
RDATE:19470629T030000
END:DAYLIGHT
BEGIN:STANDARD
TZNAME:CET
TZOFFSETFROM:+0100
TZOFFSETTO:+0100
DTSTART:19460101T000000
RDATE:19800101T000000
END:STANDARD
BEGIN:STANDARD
TZNAME:CET
TZOFFSETFROM:+0200
TZOFFSETTO:+0100
DTSTART:19471005T030000
RRULE:FREQ=YEARLY;UNTIL=19491002T010000Z;BYMONTH=10;BYDAY=1SU
END:STANDARD
BEGIN:STANDARD
TZNAME:CET
TZOFFSETFROM:+0200
TZOFFSETTO:+0100
DTSTART:19800928T030000
RRULE:FREQ=YEARLY;UNTIL=19950924T010000Z;BYMONTH=9;BYDAY=-1SU
END:STANDARD
BEGIN:DAYLIGHT
TZNAME:CEST
TZOFFSETFROM:+0100
TZOFFSETTO:+0200
DTSTART:19810329T020000
RRULE:FREQ=YEARLY;BYMONTH=3;BYDAY=-1SU
END:DAYLIGHT
BEGIN:STANDARD
TZNAME:CET
TZOFFSETFROM:+0200
TZOFFSETTO:+0100
DTSTART:19961027T030000
RRULE:FREQ=YEARLY;BYMONTH=10;BYDAY=-1SU
END:STANDARD
END:VTIMEZONE
BEGIN:VEVENT
DTSTAMP:20260424T105237Z
DTSTART;TZID=Europe/Berlin:20180210T150000
DTEND;TZID=Europe/Berlin:20180210T180000
SUMMARY:HE NLC Gr.4 Tenero vs Chur (12)
UID:6010be51-449d-5356-e053-1fc7a80a74f7
STATUS:CONFIRMED
LAST-MODIFIED:20180212T082445Z
DESCRIPTION:Herren Nationalliga C Gruppe 4\nBegegnungs-Nr: 12\nHeim: Tenero\nGast: Chur\n\nAdresse: Palestra Naviglio\, Gottardo\, Squash\, 6598 Tenero\n
LOCATION:Palestra Naviglio\, Gottardo\, Squash\, 6598 Tenero
CATEGORIES:Saison 2017/18
END:VEVENT
BEGIN:VEVENT
DTSTAMP:20260424T105237Z
DTSTART;TZID=Europe/Berlin:20171118T150000
DTEND;TZID=Europe/Berlin:20171118T180000
SUMMARY:HE NLC Gr.4 Tenero vs Wetzikon (27)
UID:6010be51-45c2-5356-e053-1fc7a80a74f7
STATUS:CONFIRMED
LAST-MODIFIED:20171124T071525Z
DESCRIPTION:Herren Nationalliga C Gruppe 4\nBegegnungs-Nr: 27\nHeim: Tenero\nGast: Wetzikon\n\nAdresse: Palestra Naviglio\, Gottardo\, Squash\, 6598 Tenero\n
LOCATION:Palestra Naviglio\, Gottardo\, Squash\, 6598 Tenero
CATEGORIES:Saison 2017/18
END:VEVENT
BEGIN:VEVENT
DTSTAMP:20260424T105237Z
DTSTART;TZID=Europe/Berlin:20171104T150000
DTEND;TZID=Europe/Berlin:20171104T180000
SUMMARY:HE NLC Gr.4 Tenero vs Lugano II (19)
UID:6010be51-45c7-5356-e053-1fc7a80a74f7
STATUS:CONFIRMED
LAST-MODIFIED:20171106T073355Z
DESCRIPTION:Herren Nationalliga C Gruppe 4\nBegegnungs-Nr: 19\nHeim: Tenero\nGast: Lugano II\n\nAdresse: Palestra Naviglio\, Gottardo\, Squash\, 6598 Tenero\n
LOCATION:Palestra Naviglio\, Gottardo\, Squash\, 6598 Tenero
CATEGORIES:Saison 2017/18
END:VEVENT
BEGIN:VEVENT
DTSTAMP:20260424T105237Z
DTSTART;TZID=Europe/Berlin:20171021T150000
DTEND;TZID=Europe/Berlin:20171021T180000
SUMMARY:HE NLC Gr.4 Tenero vs Wil SG II (13)
UID:6010be51-45fe-5356-e053-1fc7a80a74f7
STATUS:CONFIRMED
LAST-MODIFIED:20171023T071046Z
DESCRIPTION:Herren Nationalliga C Gruppe 4\nBegegnungs-Nr: 13\nHeim: Tenero\nGast: Wil SG II\n\nAdresse: Palestra Naviglio\, Gottardo\, Squash\, 6598 Tenero\n
LOCATION:Palestra Naviglio\, Gottardo\, Squash\, 6598 Tenero
CATEGORIES:Saison 2017/18
END:VEVENT
BEGIN:VEVENT
DTSTAMP:20260424T105237Z
DTSTART;TZID=Europe/Berlin:20180310T150000
DTEND;TZID=Europe/Berlin:20180310T180000
SUMMARY:HE NLC Gr.4 Tenero vs Neuhausen II (23)
UID:6010be51-467a-5356-e053-1fc7a80a74f7
STATUS:CONFIRMED
LAST-MODIFIED:20180312T083502Z
DESCRIPTION:Herren Nationalliga C Gruppe 4\nBegegnungs-Nr: 23\nHeim: Tenero\nGast: Neuhausen II\n\nAdresse: Palestra Naviglio\, Gottardo\, Squash\, 6598 Tenero\n
LOCATION:Palestra Naviglio\, Gottardo\, Squash\, 6598 Tenero
CATEGORIES:Saison 2017/18
END:VEVENT
BEGIN:VEVENT
DTSTAMP:20260424T105237Z
DTSTART;TZID=Europe/Berlin:20171209T150000
DTEND;TZID=Europe/Berlin:20171209T180000
SUMMARY:HE NLC Gr.4 Tenero vs St. Gallen (2)
UID:6010be51-46ba-5356-e053-1fc7a80a74f7
STATUS:CONFIRMED
LAST-MODIFIED:20171211T075008Z
DESCRIPTION:Herren Nationalliga C Gruppe 4\nBegegnungs-Nr: 2\nHeim: Tenero\nGast: St. Gallen\n\nAdresse: Palestra Naviglio\, Gottardo\, Squash\, 6598 Tenero\n
LOCATION:Palestra Naviglio\, Gottardo\, Squash\, 6598 Tenero
CATEGORIES:Saison 2017/18
END:VEVENT
BEGIN:VEVENT
DTSTAMP:20260424T105237Z
DTSTART;TZID=Europe/Berlin:20170930T150000
DTEND;TZID=Europe/Berlin:20170930T180000
SUMMARY:HE NLC Gr.4 Tenero vs Kloten II (7)
UID:6010be51-45bd-5356-e053-1fc7a80a74f7
STATUS:CONFIRMED
LAST-MODIFIED:20171002T070559Z
DESCRIPTION:Herren Nationalliga C Gruppe 4\nBegegnungs-Nr: 7\nHeim: Tenero\nGast: Kloten II\n\nAdresse: Palestra Naviglio\, Gottardo\, Squash\, 6598 Tenero\n
LOCATION:Palestra Naviglio\, Gottardo\, Squash\, 6598 Tenero
CATEGORIES:Saison 2017/18
END:VEVENT
BEGIN:VEVENT
DTSTAMP:20260424T105237Z
DTSTART;TZID=Europe/Berlin:20171111T180000
DTEND;TZID=Europe/Berlin:20171111T210000
SUMMARY:HE NLC Gr.4 Neuhausen II vs Tenero (23)
UID:6010be51-45c5-5356-e053-1fc7a80a74f7
STATUS:CONFIRMED
LAST-MODIFIED:20171115T071037Z
DESCRIPTION:Herren Nationalliga C Gruppe 4\nBegegnungs-Nr: 23\nHeim: Neuhausen II\nGast: Tenero\n\nAdresse: Ebnatstrasse 35\, 8200 Schaffhausen\n
LOCATION:Ebnatstrasse 35\, 8200 Schaffhausen
CATEGORIES:Saison 2017/18
END:VEVENT
BEGIN:VEVENT
DTSTAMP:20260424T105237Z
DTSTART;TZID=Europe/Berlin:20170916T160000
DTEND;TZID=Europe/Berlin:20170916T190000
SUMMARY:HE NLC Gr.4 St. Gallen vs Tenero (2)
UID:6010be51-45ca-5356-e053-1fc7a80a74f7
STATUS:CONFIRMED
LAST-MODIFIED:20170918T101442Z
DESCRIPTION:Herren Nationalliga C Gruppe 4\nBegegnungs-Nr: 2\nHeim: St. Gallen\nGast: Tenero\n\nAdresse: Zilstrasse 61\, 9016 St.Gallen\n
LOCATION:Zilstrasse 61\, 9016 St.Gallen
CATEGORIES:Saison 2017/18
END:VEVENT
BEGIN:VEVENT
DTSTAMP:20260424T105237Z
DTSTART;TZID=Europe/Berlin:20171008T170000
DTEND;TZID=Europe/Berlin:20171008T200000
SUMMARY:HE NLC Gr.4 Chur vs Tenero (12)
UID:6010be51-45ff-5356-e053-1fc7a80a74f7
STATUS:CONFIRMED
LAST-MODIFIED:20171010T151300Z
DESCRIPTION:Herren Nationalliga C Gruppe 4\nBegegnungs-Nr: 12\nHeim: Chur\nGast: Tenero\n\nAdresse: Sandstr. 35\, 7000 Chur\n
LOCATION:Sandstr. 35\, 7000 Chur
CATEGORIES:Saison 2017/18
END:VEVENT
BEGIN:VEVENT
DTSTAMP:20260424T105237Z
DTSTART;TZID=Europe/Berlin:20180317T100000
DTEND;TZID=Europe/Berlin:20180317T130000
SUMMARY:HE NLC Gr.4 Wetzikon vs Tenero (27)
UID:6010be51-464b-5356-e053-1fc7a80a74f7
STATUS:CONFIRMED
LAST-MODIFIED:20180320T082850Z
DESCRIPTION:Herren Nationalliga C Gruppe 4\nBegegnungs-Nr: 27\nHeim: Wetzikon\nGast: Tenero\n\nAdresse: Usterstrasse 37\, 8620 Wetzikon\n
LOCATION:Usterstrasse 37\, 8620 Wetzikon
CATEGORIES:Saison 2017/18
END:VEVENT
BEGIN:VEVENT
DTSTAMP:20260424T105237Z
DTSTART;TZID=Europe/Berlin:20180224T150000
DTEND;TZID=Europe/Berlin:20180224T180000
SUMMARY:HE NLC Gr.4 Lugano II vs Tenero (19)
UID:6010be51-467e-5356-e053-1fc7a80a74f7
STATUS:CONFIRMED
LAST-MODIFIED:20180226T095126Z
DESCRIPTION:Herren Nationalliga C Gruppe 4\nBegegnungs-Nr: 19\nHeim: Lugano II\nGast: Tenero\n\nAdresse: Via al Chioso 7\, 6900 Lugano-Cassarate\n
LOCATION:Via al Chioso 7\, 6900 Lugano-Cassarate
CATEGORIES:Saison 2017/18
END:VEVENT
BEGIN:VEVENT
DTSTAMP:20260424T105237Z
DTSTART;TZID=Europe/Berlin:20180217T140000
DTEND;TZID=Europe/Berlin:20180217T170000
SUMMARY:HE NLC Gr.4 Wil SG II vs Tenero (13)
UID:6010be51-4685-5356-e053-1fc7a80a74f7
STATUS:CONFIRMED
LAST-MODIFIED:20180219T075952Z
DESCRIPTION:Herren Nationalliga C Gruppe 4\nBegegnungs-Nr: 13\nHeim: Wil SG II\nGast: Tenero\n\nAdresse: Lindenhofstr. 23\, 9500 Wil\n
LOCATION:Lindenhofstr. 23\, 9500 Wil
CATEGORIES:Saison 2017/18
END:VEVENT
BEGIN:VEVENT
DTSTAMP:20260424T105237Z
DTSTART;TZID=Europe/Berlin:20180107T143000
DTEND;TZID=Europe/Berlin:20180107T173000
SUMMARY:HE NLC Gr.4 Kloten II vs Tenero (7)
UID:6010be51-46b5-5356-e053-1fc7a80a74f7
STATUS:CONFIRMED
LAST-MODIFIED:20180108T144900Z
DESCRIPTION:Herren Nationalliga C Gruppe 4\nBegegnungs-Nr: 7\nHeim: Kloten II\nGast: Tenero\n\nAdresse: Schluefweg 10\, 8302 Kloten\n
LOCATION:Schluefweg 10\, 8302 Kloten
CATEGORIES:Saison 2017/18
END:VEVENT
END:VCALENDAR
