BEGIN:VCALENDAR
PRODID:-//nuDatenautomaten//framework iCal4j //DE
VERSION:2.0
CALSCALE:GREGORIAN
BEGIN:VTIMEZONE
TZID:Europe/Berlin
LAST-MODIFIED:20260306T231828Z
TZURL:https://www.tzurl.org/zoneinfo/Europe/Berlin
X-LIC-LOCATION:Europe/Berlin
X-PROLEPTIC-TZNAME:LMT
BEGIN:STANDARD
TZNAME:CET
TZOFFSETFROM:+005328
TZOFFSETTO:+0100
DTSTART:18930401T000000
END:STANDARD
BEGIN:DAYLIGHT
TZNAME:CEST
TZOFFSETFROM:+0100
TZOFFSETTO:+0200
DTSTART:19160430T230000
RDATE:19400401T020000
RDATE:19430329T020000
RDATE:19460414T020000
RDATE:19470406T030000
RDATE:19480418T020000
RDATE:19490410T020000
RDATE:19800406T020000
END:DAYLIGHT
BEGIN:STANDARD
TZNAME:CET
TZOFFSETFROM:+0200
TZOFFSETTO:+0100
DTSTART:19161001T010000
RDATE:19421102T030000
RDATE:19431004T030000
RDATE:19441002T030000
RDATE:19451118T030000
RDATE:19461007T030000
END:STANDARD
BEGIN:DAYLIGHT
TZNAME:CEST
TZOFFSETFROM:+0100
TZOFFSETTO:+0200
DTSTART:19170416T020000
RRULE:FREQ=YEARLY;UNTIL=19180415T010000Z;BYMONTH=4;BYDAY=3MO
END:DAYLIGHT
BEGIN:STANDARD
TZNAME:CET
TZOFFSETFROM:+0200
TZOFFSETTO:+0100
DTSTART:19170917T030000
RRULE:FREQ=YEARLY;UNTIL=19180916T010000Z;BYMONTH=9;BYDAY=3MO
END:STANDARD
BEGIN:DAYLIGHT
TZNAME:CEST
TZOFFSETFROM:+0100
TZOFFSETTO:+0200
DTSTART:19440403T020000
RRULE:FREQ=YEARLY;UNTIL=19450402T010000Z;BYMONTH=4;BYDAY=1MO
END:DAYLIGHT
BEGIN:DAYLIGHT
TZNAME:CEMT
TZOFFSETFROM:+0200
TZOFFSETTO:+0300
DTSTART:19450524T020000
RDATE:19470511T030000
END:DAYLIGHT
BEGIN:DAYLIGHT
TZNAME:CEST
TZOFFSETFROM:+0300
TZOFFSETTO:+0200
DTSTART:19450924T030000
RDATE:19470629T030000
END:DAYLIGHT
BEGIN:STANDARD
TZNAME:CET
TZOFFSETFROM:+0100
TZOFFSETTO:+0100
DTSTART:19460101T000000
RDATE:19800101T000000
END:STANDARD
BEGIN:STANDARD
TZNAME:CET
TZOFFSETFROM:+0200
TZOFFSETTO:+0100
DTSTART:19471005T030000
RRULE:FREQ=YEARLY;UNTIL=19491002T010000Z;BYMONTH=10;BYDAY=1SU
END:STANDARD
BEGIN:STANDARD
TZNAME:CET
TZOFFSETFROM:+0200
TZOFFSETTO:+0100
DTSTART:19800928T030000
RRULE:FREQ=YEARLY;UNTIL=19950924T010000Z;BYMONTH=9;BYDAY=-1SU
END:STANDARD
BEGIN:DAYLIGHT
TZNAME:CEST
TZOFFSETFROM:+0100
TZOFFSETTO:+0200
DTSTART:19810329T020000
RRULE:FREQ=YEARLY;BYMONTH=3;BYDAY=-1SU
END:DAYLIGHT
BEGIN:STANDARD
TZNAME:CET
TZOFFSETFROM:+0200
TZOFFSETTO:+0100
DTSTART:19961027T030000
RRULE:FREQ=YEARLY;BYMONTH=10;BYDAY=-1SU
END:STANDARD
END:VTIMEZONE
BEGIN:VEVENT
DTSTAMP:20260422T104347Z
DTSTART;TZID=Europe/Berlin:20171104T160000
DTEND;TZID=Europe/Berlin:20171104T190000
SUMMARY:HE NLC Gr.4 St. Gallen vs Kloten II (18)
UID:6010be51-45c8-5356-e053-1fc7a80a74f7
STATUS:CONFIRMED
LAST-MODIFIED:20171106T073405Z
DESCRIPTION:Herren Nationalliga C Gruppe 4\nBegegnungs-Nr: 18\nHeim: St. Gallen\nGast: Kloten II\n\nAdresse: Zilstrasse 61\, 9016 St.Gallen\n
LOCATION:Zilstrasse 61\, 9016 St.Gallen
CATEGORIES:Saison 2017/18
END:VEVENT
BEGIN:VEVENT
DTSTAMP:20260422T104347Z
DTSTART;TZID=Europe/Berlin:20170916T160000
DTEND;TZID=Europe/Berlin:20170916T190000
SUMMARY:HE NLC Gr.4 St. Gallen vs Tenero (2)
UID:6010be51-45ca-5356-e053-1fc7a80a74f7
STATUS:CONFIRMED
LAST-MODIFIED:20170918T101442Z
DESCRIPTION:Herren Nationalliga C Gruppe 4\nBegegnungs-Nr: 2\nHeim: St. Gallen\nGast: Tenero\n\nAdresse: Zilstrasse 61\, 9016 St.Gallen\n
LOCATION:Zilstrasse 61\, 9016 St.Gallen
CATEGORIES:Saison 2017/18
END:VEVENT
BEGIN:VEVENT
DTSTAMP:20260422T104347Z
DTSTART;TZID=Europe/Berlin:20171028T160000
DTEND;TZID=Europe/Berlin:20171028T190000
SUMMARY:HE NLC Gr.4 St. Gallen vs Wetzikon (14)
UID:6010be51-45fd-5356-e053-1fc7a80a74f7
STATUS:CONFIRMED
LAST-MODIFIED:20171031T080127Z
DESCRIPTION:Herren Nationalliga C Gruppe 4\nBegegnungs-Nr: 14\nHeim: St. Gallen\nGast: Wetzikon\n\nAdresse: Zilstrasse 61\, 9016 St.Gallen\n
LOCATION:Zilstrasse 61\, 9016 St.Gallen
CATEGORIES:Saison 2017/18
END:VEVENT
BEGIN:VEVENT
DTSTAMP:20260422T104347Z
DTSTART;TZID=Europe/Berlin:20171014T160000
DTEND;TZID=Europe/Berlin:20171014T190000
SUMMARY:HE NLC Gr.4 St. Gallen vs Lugano II (10)
UID:6010be51-4600-5356-e053-1fc7a80a74f7
STATUS:CONFIRMED
LAST-MODIFIED:20171016T065116Z
DESCRIPTION:Herren Nationalliga C Gruppe 4\nBegegnungs-Nr: 10\nHeim: St. Gallen\nGast: Lugano II\n\nAdresse: Zilstrasse 61\, 9016 St.Gallen\n
LOCATION:Zilstrasse 61\, 9016 St.Gallen
CATEGORIES:Saison 2017/18
END:VEVENT
BEGIN:VEVENT
DTSTAMP:20260422T104347Z
DTSTART;TZID=Europe/Berlin:20180324T160000
DTEND;TZID=Europe/Berlin:20180324T190000
SUMMARY:HE NLC Gr.4 St. Gallen vs Wil SG II (25)
UID:6010be51-4678-5356-e053-1fc7a80a74f7
STATUS:CONFIRMED
LAST-MODIFIED:20180326T071715Z
DESCRIPTION:Herren Nationalliga C Gruppe 4\nBegegnungs-Nr: 25\nHeim: St. Gallen\nGast: Wil SG II\n\nAdresse: Zilstrasse 61\, 9016 St.Gallen\n
LOCATION:Zilstrasse 61\, 9016 St.Gallen
CATEGORIES:Saison 2017/18
END:VEVENT
BEGIN:VEVENT
DTSTAMP:20260422T104347Z
DTSTART;TZID=Europe/Berlin:20180310T160000
DTEND;TZID=Europe/Berlin:20180310T190000
SUMMARY:HE NLC Gr.4 St. Gallen vs Chur (22)
UID:6010be51-467b-5356-e053-1fc7a80a74f7
STATUS:CONFIRMED
LAST-MODIFIED:20180312T083515Z
DESCRIPTION:Herren Nationalliga C Gruppe 4\nBegegnungs-Nr: 22\nHeim: St. Gallen\nGast: Chur\n
LOCATION:
CATEGORIES:Saison 2017/18
END:VEVENT
BEGIN:VEVENT
DTSTAMP:20260422T104347Z
DTSTART;TZID=Europe/Berlin:20180127T160000
DTEND;TZID=Europe/Berlin:20180127T190000
SUMMARY:HE NLC Gr.4 St. Gallen vs Neuhausen II (6)
UID:6010be51-46b6-5356-e053-1fc7a80a74f7
STATUS:CONFIRMED
LAST-MODIFIED:20180129T123239Z
DESCRIPTION:Herren Nationalliga C Gruppe 4\nBegegnungs-Nr: 6\nHeim: St. Gallen\nGast: Neuhausen II\n\nAdresse: Zilstrasse 61\, 9016 St.Gallen\n
LOCATION:Zilstrasse 61\, 9016 St.Gallen
CATEGORIES:Saison 2017/18
END:VEVENT
BEGIN:VEVENT
DTSTAMP:20260422T104347Z
DTSTART;TZID=Europe/Berlin:20170922T200000
DTEND;TZID=Europe/Berlin:20170922T230000
SUMMARY:HE NLC Gr.4 Neuhausen II vs St. Gallen (6)
UID:6010be51-45be-5356-e053-1fc7a80a74f7
STATUS:CONFIRMED
LAST-MODIFIED:20170925T070449Z
DESCRIPTION:Herren Nationalliga C Gruppe 4\nBegegnungs-Nr: 6\nHeim: Neuhausen II\nGast: St. Gallen\n\nAdresse: Rheingoldstrasse 11\, 8212 Neuhausen am Rhf.\n
LOCATION:Rheingoldstrasse 11\, 8212 Neuhausen am Rhf.
CATEGORIES:Saison 2017/18
END:VEVENT
BEGIN:VEVENT
DTSTAMP:20260422T104347Z
DTSTART;TZID=Europe/Berlin:20171118T140000
DTEND;TZID=Europe/Berlin:20171118T170000
SUMMARY:HE NLC Gr.4 Wil SG II vs St. Gallen (25)
UID:6010be51-45c3-5356-e053-1fc7a80a74f7
STATUS:CONFIRMED
LAST-MODIFIED:20171120T081907Z
DESCRIPTION:Herren Nationalliga C Gruppe 4\nBegegnungs-Nr: 25\nHeim: Wil SG II\nGast: St. Gallen\n\nAdresse: Lindenhofstr. 23\, 9500 Wil\n
LOCATION:Lindenhofstr. 23\, 9500 Wil
CATEGORIES:Saison 2017/18
END:VEVENT
BEGIN:VEVENT
DTSTAMP:20260422T104347Z
DTSTART;TZID=Europe/Berlin:20180212T194500
DTEND;TZID=Europe/Berlin:20180212T224500
SUMMARY:HE NLC Gr.4 Wetzikon vs St. Gallen (14)
UID:6010be51-4684-5356-e053-1fc7a80a74f7
STATUS:CONFIRMED
LAST-MODIFIED:20180219T075854Z
DESCRIPTION:Herren Nationalliga C Gruppe 4\nBegegnungs-Nr: 14\nHeim: Wetzikon\nGast: St. Gallen\n\nAdresse: Usterstrasse 37\, 8620 Wetzikon\n
LOCATION:Usterstrasse 37\, 8620 Wetzikon
CATEGORIES:Saison 2017/18
END:VEVENT
BEGIN:VEVENT
DTSTAMP:20260422T104347Z
DTSTART;TZID=Europe/Berlin:20171209T150000
DTEND;TZID=Europe/Berlin:20171209T180000
SUMMARY:HE NLC Gr.4 Tenero vs St. Gallen (2)
UID:6010be51-46ba-5356-e053-1fc7a80a74f7
STATUS:CONFIRMED
LAST-MODIFIED:20171211T075008Z
DESCRIPTION:Herren Nationalliga C Gruppe 4\nBegegnungs-Nr: 2\nHeim: Tenero\nGast: St. Gallen\n\nAdresse: Palestra Naviglio\, Gottardo\, Squash\, 6598 Tenero\n
LOCATION:Palestra Naviglio\, Gottardo\, Squash\, 6598 Tenero
CATEGORIES:Saison 2017/18
END:VEVENT
BEGIN:VEVENT
DTSTAMP:20260422T104347Z
DTSTART;TZID=Europe/Berlin:20171106T200000
DTEND;TZID=Europe/Berlin:20171106T230000
SUMMARY:HE NLC Gr.4 Chur vs St. Gallen (22)
UID:6010be51-56a7-5356-e053-1fc7a80a74f7
STATUS:CONFIRMED
LAST-MODIFIED:20171115T070855Z
DESCRIPTION:Herren Nationalliga C Gruppe 4\nBegegnungs-Nr: 22\nHeim: Chur\nGast: St. Gallen\n\nAdresse: Sandstr. 35\, 7000 Chur\n
LOCATION:Sandstr. 35\, 7000 Chur
CATEGORIES:Saison 2017/18
END:VEVENT
BEGIN:VEVENT
DTSTAMP:20260422T104347Z
DTSTART;TZID=Europe/Berlin:20180210T140000
DTEND;TZID=Europe/Berlin:20180210T170000
SUMMARY:HE NLC Gr.4 Lugano II vs St. Gallen (10)
UID:6010be51-4687-5356-e053-1fc7a80a74f7
STATUS:CONFIRMED
LAST-MODIFIED:20180212T082429Z
DESCRIPTION:Herren Nationalliga C Gruppe 4\nBegegnungs-Nr: 10\nHeim: Lugano II\nGast: St. Gallen\n\nAdresse: Via al Chioso 7\, 6900 Lugano-Cassarate\n
LOCATION:Via al Chioso 7\, 6900 Lugano-Cassarate
CATEGORIES:Saison 2017/18
END:VEVENT
BEGIN:VEVENT
DTSTAMP:20260422T104347Z
DTSTART;TZID=Europe/Berlin:20180223T193000
DTEND;TZID=Europe/Berlin:20180223T223000
SUMMARY:HE NLC Gr.4 Kloten II vs St. Gallen (18)
UID:6010be51-467f-5356-e053-1fc7a80a74f7
STATUS:CONFIRMED
LAST-MODIFIED:20180226T094840Z
DESCRIPTION:Herren Nationalliga C Gruppe 4\nBegegnungs-Nr: 18\nHeim: Kloten II\nGast: St. Gallen\n\nAdresse: Schluefweg 10\, 8302 Kloten\n
LOCATION:Schluefweg 10\, 8302 Kloten
CATEGORIES:Saison 2017/18
END:VEVENT
END:VCALENDAR
