BEGIN:VCALENDAR
PRODID:-//nuDatenautomaten//framework iCal4j //DE
VERSION:2.0
CALSCALE:GREGORIAN
BEGIN:VTIMEZONE
TZID:Europe/Berlin
LAST-MODIFIED:20260306T231828Z
TZURL:https://www.tzurl.org/zoneinfo/Europe/Berlin
X-LIC-LOCATION:Europe/Berlin
X-PROLEPTIC-TZNAME:LMT
BEGIN:STANDARD
TZNAME:CET
TZOFFSETFROM:+005328
TZOFFSETTO:+0100
DTSTART:18930401T000000
END:STANDARD
BEGIN:DAYLIGHT
TZNAME:CEST
TZOFFSETFROM:+0100
TZOFFSETTO:+0200
DTSTART:19160430T230000
RDATE:19400401T020000
RDATE:19430329T020000
RDATE:19460414T020000
RDATE:19470406T030000
RDATE:19480418T020000
RDATE:19490410T020000
RDATE:19800406T020000
END:DAYLIGHT
BEGIN:STANDARD
TZNAME:CET
TZOFFSETFROM:+0200
TZOFFSETTO:+0100
DTSTART:19161001T010000
RDATE:19421102T030000
RDATE:19431004T030000
RDATE:19441002T030000
RDATE:19451118T030000
RDATE:19461007T030000
END:STANDARD
BEGIN:DAYLIGHT
TZNAME:CEST
TZOFFSETFROM:+0100
TZOFFSETTO:+0200
DTSTART:19170416T020000
RRULE:FREQ=YEARLY;UNTIL=19180415T010000Z;BYMONTH=4;BYDAY=3MO
END:DAYLIGHT
BEGIN:STANDARD
TZNAME:CET
TZOFFSETFROM:+0200
TZOFFSETTO:+0100
DTSTART:19170917T030000
RRULE:FREQ=YEARLY;UNTIL=19180916T010000Z;BYMONTH=9;BYDAY=3MO
END:STANDARD
BEGIN:DAYLIGHT
TZNAME:CEST
TZOFFSETFROM:+0100
TZOFFSETTO:+0200
DTSTART:19440403T020000
RRULE:FREQ=YEARLY;UNTIL=19450402T010000Z;BYMONTH=4;BYDAY=1MO
END:DAYLIGHT
BEGIN:DAYLIGHT
TZNAME:CEMT
TZOFFSETFROM:+0200
TZOFFSETTO:+0300
DTSTART:19450524T020000
RDATE:19470511T030000
END:DAYLIGHT
BEGIN:DAYLIGHT
TZNAME:CEST
TZOFFSETFROM:+0300
TZOFFSETTO:+0200
DTSTART:19450924T030000
RDATE:19470629T030000
END:DAYLIGHT
BEGIN:STANDARD
TZNAME:CET
TZOFFSETFROM:+0100
TZOFFSETTO:+0100
DTSTART:19460101T000000
RDATE:19800101T000000
END:STANDARD
BEGIN:STANDARD
TZNAME:CET
TZOFFSETFROM:+0200
TZOFFSETTO:+0100
DTSTART:19471005T030000
RRULE:FREQ=YEARLY;UNTIL=19491002T010000Z;BYMONTH=10;BYDAY=1SU
END:STANDARD
BEGIN:STANDARD
TZNAME:CET
TZOFFSETFROM:+0200
TZOFFSETTO:+0100
DTSTART:19800928T030000
RRULE:FREQ=YEARLY;UNTIL=19950924T010000Z;BYMONTH=9;BYDAY=-1SU
END:STANDARD
BEGIN:DAYLIGHT
TZNAME:CEST
TZOFFSETFROM:+0100
TZOFFSETTO:+0200
DTSTART:19810329T020000
RRULE:FREQ=YEARLY;BYMONTH=3;BYDAY=-1SU
END:DAYLIGHT
BEGIN:STANDARD
TZNAME:CET
TZOFFSETFROM:+0200
TZOFFSETTO:+0100
DTSTART:19961027T030000
RRULE:FREQ=YEARLY;BYMONTH=10;BYDAY=-1SU
END:STANDARD
END:VTIMEZONE
BEGIN:VEVENT
DTSTAMP:20260424T105237Z
DTSTART;TZID=Europe/Berlin:20170922T200000
DTEND;TZID=Europe/Berlin:20170922T230000
SUMMARY:HE NLC Gr.4 Neuhausen II vs St. Gallen (6)
UID:6010be51-45be-5356-e053-1fc7a80a74f7
STATUS:CONFIRMED
LAST-MODIFIED:20170925T070449Z
DESCRIPTION:Herren Nationalliga C Gruppe 4\nBegegnungs-Nr: 6\nHeim: Neuhausen II\nGast: St. Gallen\n\nAdresse: Rheingoldstrasse 11\, 8212 Neuhausen am Rhf.\n
LOCATION:Rheingoldstrasse 11\, 8212 Neuhausen am Rhf.
CATEGORIES:Saison 2017/18
END:VEVENT
BEGIN:VEVENT
DTSTAMP:20260424T105237Z
DTSTART;TZID=Europe/Berlin:20171111T180000
DTEND;TZID=Europe/Berlin:20171111T210000
SUMMARY:HE NLC Gr.4 Neuhausen II vs Tenero (23)
UID:6010be51-45c5-5356-e053-1fc7a80a74f7
STATUS:CONFIRMED
LAST-MODIFIED:20171115T071037Z
DESCRIPTION:Herren Nationalliga C Gruppe 4\nBegegnungs-Nr: 23\nHeim: Neuhausen II\nGast: Tenero\n\nAdresse: Ebnatstrasse 35\, 8200 Schaffhausen\n
LOCATION:Ebnatstrasse 35\, 8200 Schaffhausen
CATEGORIES:Saison 2017/18
END:VEVENT
BEGIN:VEVENT
DTSTAMP:20260424T105237Z
DTSTART;TZID=Europe/Berlin:20180223T200000
DTEND;TZID=Europe/Berlin:20180223T230000
SUMMARY:HE NLC Gr.4 Neuhausen II vs Wetzikon (20)
UID:6010be51-467d-5356-e053-1fc7a80a74f7
STATUS:CONFIRMED
LAST-MODIFIED:20180226T095105Z
DESCRIPTION:Herren Nationalliga C Gruppe 4\nBegegnungs-Nr: 20\nHeim: Neuhausen II\nGast: Wetzikon\n\nAdresse: Rheingoldstrasse 11\, 8212 Neuhausen am Rhf.\n
LOCATION:Rheingoldstrasse 11\, 8212 Neuhausen am Rhf.
CATEGORIES:Saison 2017/18
END:VEVENT
BEGIN:VEVENT
DTSTAMP:20260424T105237Z
DTSTART;TZID=Europe/Berlin:20180126T200000
DTEND;TZID=Europe/Berlin:20180126T230000
SUMMARY:HE NLC Gr.4 Neuhausen II vs Kloten II (11)
UID:6010be51-4686-5356-e053-1fc7a80a74f7
STATUS:CONFIRMED
LAST-MODIFIED:20180129T123626Z
DESCRIPTION:Herren Nationalliga C Gruppe 4\nBegegnungs-Nr: 11\nHeim: Neuhausen II\nGast: Kloten II\n\nAdresse: Rheingoldstrasse 11\, 8212 Neuhausen am Rhf.\n
LOCATION:Rheingoldstrasse 11\, 8212 Neuhausen am Rhf.
CATEGORIES:Saison 2017/18
END:VEVENT
BEGIN:VEVENT
DTSTAMP:20260424T105237Z
DTSTART;TZID=Europe/Berlin:20180324T150000
DTEND;TZID=Europe/Berlin:20180324T180000
SUMMARY:HE NLC Gr.4 Neuhausen II vs Lugano II (28)
UID:6010be51-4683-5356-e053-1fc7a80a74f7
STATUS:CONFIRMED
LAST-MODIFIED:20180326T071655Z
DESCRIPTION:Herren Nationalliga C Gruppe 4\nBegegnungs-Nr: 28\nHeim: Neuhausen II\nGast: Lugano II\n\nAdresse: Ebnatstrasse 35\, 8200 Schaffhausen\n
LOCATION:Ebnatstrasse 35\, 8200 Schaffhausen
CATEGORIES:Saison 2017/18
END:VEVENT
BEGIN:VEVENT
DTSTAMP:20260424T105237Z
DTSTART;TZID=Europe/Berlin:20171208T200000
DTEND;TZID=Europe/Berlin:20171208T230000
SUMMARY:HE NLC Gr.4 Neuhausen II vs Wil SG II (1)
UID:6010be51-4df8-5356-e053-1fc7a80a74f7
STATUS:CONFIRMED
LAST-MODIFIED:20171211T074953Z
DESCRIPTION:Herren Nationalliga C Gruppe 4\nBegegnungs-Nr: 1\nHeim: Neuhausen II\nGast: Wil SG II\n\nAdresse: Rheingoldstrasse 11\, 8212 Neuhausen am Rhf.\n
LOCATION:Rheingoldstrasse 11\, 8212 Neuhausen am Rhf.
CATEGORIES:Saison 2017/18
END:VEVENT
BEGIN:VEVENT
DTSTAMP:20260424T105237Z
DTSTART;TZID=Europe/Berlin:20171028T100000
DTEND;TZID=Europe/Berlin:20171028T130000
SUMMARY:HE NLC Gr.4 Neuhausen II vs Chur (16)
UID:6010be51-593c-5356-e053-1fc7a80a74f7
STATUS:CONFIRMED
LAST-MODIFIED:20171031T075923Z
DESCRIPTION:Herren Nationalliga C Gruppe 4\nBegegnungs-Nr: 16\nHeim: Neuhausen II\nGast: Chur\n\nAdresse: Ebnatstrasse 35\, 8200 Schaffhausen\n
LOCATION:Ebnatstrasse 35\, 8200 Schaffhausen
CATEGORIES:Saison 2017/18
END:VEVENT
BEGIN:VEVENT
DTSTAMP:20260424T105237Z
DTSTART;TZID=Europe/Berlin:20171119T160000
DTEND;TZID=Europe/Berlin:20171119T190000
SUMMARY:HE NLC Gr.4 Lugano II vs Neuhausen II (28)
UID:6010be51-45c1-5356-e053-1fc7a80a74f7
STATUS:CONFIRMED
LAST-MODIFIED:20171120T082001Z
DESCRIPTION:Herren Nationalliga C Gruppe 4\nBegegnungs-Nr: 28\nHeim: Lugano II\nGast: Neuhausen II\n\nAdresse: Via al Chioso 7\, 6900 Lugano-Cassarate\n
LOCATION:Via al Chioso 7\, 6900 Lugano-Cassarate
CATEGORIES:Saison 2017/18
END:VEVENT
BEGIN:VEVENT
DTSTAMP:20260424T105237Z
DTSTART;TZID=Europe/Berlin:20170916T140000
DTEND;TZID=Europe/Berlin:20170916T170000
SUMMARY:HE NLC Gr.4 Wil SG II vs Neuhausen II (1)
UID:6010be51-45fc-5356-e053-1fc7a80a74f7
STATUS:CONFIRMED
LAST-MODIFIED:20170918T101420Z
DESCRIPTION:Herren Nationalliga C Gruppe 4\nBegegnungs-Nr: 1\nHeim: Wil SG II\nGast: Neuhausen II\n\nAdresse: Lindenhofstr. 23\, 9500 Wil\n
LOCATION:Lindenhofstr. 23\, 9500 Wil
CATEGORIES:Saison 2017/18
END:VEVENT
BEGIN:VEVENT
DTSTAMP:20260424T105237Z
DTSTART;TZID=Europe/Berlin:20180310T150000
DTEND;TZID=Europe/Berlin:20180310T180000
SUMMARY:HE NLC Gr.4 Tenero vs Neuhausen II (23)
UID:6010be51-467a-5356-e053-1fc7a80a74f7
STATUS:CONFIRMED
LAST-MODIFIED:20180312T083502Z
DESCRIPTION:Herren Nationalliga C Gruppe 4\nBegegnungs-Nr: 23\nHeim: Tenero\nGast: Neuhausen II\n\nAdresse: Palestra Naviglio\, Gottardo\, Squash\, 6598 Tenero\n
LOCATION:Palestra Naviglio\, Gottardo\, Squash\, 6598 Tenero
CATEGORIES:Saison 2017/18
END:VEVENT
BEGIN:VEVENT
DTSTAMP:20260424T105237Z
DTSTART;TZID=Europe/Berlin:20180218T170000
DTEND;TZID=Europe/Berlin:20180218T200000
SUMMARY:HE NLC Gr.4 Chur vs Neuhausen II (16)
UID:6010be51-4681-5356-e053-1fc7a80a74f7
STATUS:CONFIRMED
LAST-MODIFIED:20180219T080143Z
DESCRIPTION:Herren Nationalliga C Gruppe 4\nBegegnungs-Nr: 16\nHeim: Chur\nGast: Neuhausen II\n\nAdresse: Sandstr. 35\, 7000 Chur\n
LOCATION:Sandstr. 35\, 7000 Chur
CATEGORIES:Saison 2017/18
END:VEVENT
BEGIN:VEVENT
DTSTAMP:20260424T105237Z
DTSTART;TZID=Europe/Berlin:20180127T160000
DTEND;TZID=Europe/Berlin:20180127T190000
SUMMARY:HE NLC Gr.4 St. Gallen vs Neuhausen II (6)
UID:6010be51-46b6-5356-e053-1fc7a80a74f7
STATUS:CONFIRMED
LAST-MODIFIED:20180129T123239Z
DESCRIPTION:Herren Nationalliga C Gruppe 4\nBegegnungs-Nr: 6\nHeim: St. Gallen\nGast: Neuhausen II\n\nAdresse: Zilstrasse 61\, 9016 St.Gallen\n
LOCATION:Zilstrasse 61\, 9016 St.Gallen
CATEGORIES:Saison 2017/18
END:VEVENT
BEGIN:VEVENT
DTSTAMP:20260424T105237Z
DTSTART;TZID=Europe/Berlin:20171030T194500
DTEND;TZID=Europe/Berlin:20171030T224500
SUMMARY:HE NLC Gr.4 Wetzikon vs Neuhausen II (20)
UID:6010be51-40a0-5356-e053-1fc7a80a74f7
STATUS:CONFIRMED
LAST-MODIFIED:20171031T080836Z
DESCRIPTION:Herren Nationalliga C Gruppe 4\nBegegnungs-Nr: 20\nHeim: Wetzikon\nGast: Neuhausen II\n\nAdresse: Usterstrasse 37\, 8620 Wetzikon\n
LOCATION:Usterstrasse 37\, 8620 Wetzikon
CATEGORIES:Saison 2017/18
END:VEVENT
BEGIN:VEVENT
DTSTAMP:20260424T105237Z
DTSTART;TZID=Europe/Berlin:20171006T193000
DTEND;TZID=Europe/Berlin:20171006T223000
SUMMARY:HE NLC Gr.4 Kloten II vs Neuhausen II (11)
UID:6010be51-58ba-5356-e053-1fc7a80a74f7
STATUS:CONFIRMED
LAST-MODIFIED:20171009T074342Z
DESCRIPTION:Herren Nationalliga C Gruppe 4\nBegegnungs-Nr: 11\nHeim: Kloten II\nGast: Neuhausen II\n\nAdresse: Schluefweg 10\, 8302 Kloten\n
LOCATION:Schluefweg 10\, 8302 Kloten
CATEGORIES:Saison 2017/18
END:VEVENT
END:VCALENDAR
