BEGIN:VCALENDAR
PRODID:-//nuDatenautomaten//framework iCal4j //DE
VERSION:2.0
CALSCALE:GREGORIAN
BEGIN:VTIMEZONE
TZID:Europe/Berlin
LAST-MODIFIED:20260306T231828Z
TZURL:https://www.tzurl.org/zoneinfo/Europe/Berlin
X-LIC-LOCATION:Europe/Berlin
X-PROLEPTIC-TZNAME:LMT
BEGIN:STANDARD
TZNAME:CET
TZOFFSETFROM:+005328
TZOFFSETTO:+0100
DTSTART:18930401T000000
END:STANDARD
BEGIN:DAYLIGHT
TZNAME:CEST
TZOFFSETFROM:+0100
TZOFFSETTO:+0200
DTSTART:19160430T230000
RDATE:19400401T020000
RDATE:19430329T020000
RDATE:19460414T020000
RDATE:19470406T030000
RDATE:19480418T020000
RDATE:19490410T020000
RDATE:19800406T020000
END:DAYLIGHT
BEGIN:STANDARD
TZNAME:CET
TZOFFSETFROM:+0200
TZOFFSETTO:+0100
DTSTART:19161001T010000
RDATE:19421102T030000
RDATE:19431004T030000
RDATE:19441002T030000
RDATE:19451118T030000
RDATE:19461007T030000
END:STANDARD
BEGIN:DAYLIGHT
TZNAME:CEST
TZOFFSETFROM:+0100
TZOFFSETTO:+0200
DTSTART:19170416T020000
RRULE:FREQ=YEARLY;UNTIL=19180415T010000Z;BYMONTH=4;BYDAY=3MO
END:DAYLIGHT
BEGIN:STANDARD
TZNAME:CET
TZOFFSETFROM:+0200
TZOFFSETTO:+0100
DTSTART:19170917T030000
RRULE:FREQ=YEARLY;UNTIL=19180916T010000Z;BYMONTH=9;BYDAY=3MO
END:STANDARD
BEGIN:DAYLIGHT
TZNAME:CEST
TZOFFSETFROM:+0100
TZOFFSETTO:+0200
DTSTART:19440403T020000
RRULE:FREQ=YEARLY;UNTIL=19450402T010000Z;BYMONTH=4;BYDAY=1MO
END:DAYLIGHT
BEGIN:DAYLIGHT
TZNAME:CEMT
TZOFFSETFROM:+0200
TZOFFSETTO:+0300
DTSTART:19450524T020000
RDATE:19470511T030000
END:DAYLIGHT
BEGIN:DAYLIGHT
TZNAME:CEST
TZOFFSETFROM:+0300
TZOFFSETTO:+0200
DTSTART:19450924T030000
RDATE:19470629T030000
END:DAYLIGHT
BEGIN:STANDARD
TZNAME:CET
TZOFFSETFROM:+0100
TZOFFSETTO:+0100
DTSTART:19460101T000000
RDATE:19800101T000000
END:STANDARD
BEGIN:STANDARD
TZNAME:CET
TZOFFSETFROM:+0200
TZOFFSETTO:+0100
DTSTART:19471005T030000
RRULE:FREQ=YEARLY;UNTIL=19491002T010000Z;BYMONTH=10;BYDAY=1SU
END:STANDARD
BEGIN:STANDARD
TZNAME:CET
TZOFFSETFROM:+0200
TZOFFSETTO:+0100
DTSTART:19800928T030000
RRULE:FREQ=YEARLY;UNTIL=19950924T010000Z;BYMONTH=9;BYDAY=-1SU
END:STANDARD
BEGIN:DAYLIGHT
TZNAME:CEST
TZOFFSETFROM:+0100
TZOFFSETTO:+0200
DTSTART:19810329T020000
RRULE:FREQ=YEARLY;BYMONTH=3;BYDAY=-1SU
END:DAYLIGHT
BEGIN:STANDARD
TZNAME:CET
TZOFFSETFROM:+0200
TZOFFSETTO:+0100
DTSTART:19961027T030000
RRULE:FREQ=YEARLY;BYMONTH=10;BYDAY=-1SU
END:STANDARD
END:VTIMEZONE
BEGIN:VEVENT
DTSTAMP:20260421T202830Z
DTSTART;TZID=Europe/Berlin:20170217T200000
DTEND;TZID=Europe/Berlin:20170217T230000
SUMMARY:HE 3. Liga Gr. 2 Regio Moossee vs Ostermundigen IV (0)
UID:6010be51-0b0c-5356-e053-1fc7a80a74f7
STATUS:CONFIRMED
LAST-MODIFIED:20170218T102023Z
DESCRIPTION:3. Liga Herren Gruppe 2\nBegegnungs-Nr: 0\nHeim: Regio Moossee\nGast: Ostermundigen IV\n\nAdresse: Schulhausstrasse 23-25\, 3302 Moosseedorf\n
LOCATION:Schulhausstrasse 23-25\, 3302 Moosseedorf
CATEGORIES:Saison 2016/17
END:VEVENT
BEGIN:VEVENT
DTSTAMP:20260421T202830Z
DTSTART;TZID=Europe/Berlin:20170124T200000
DTEND;TZID=Europe/Berlin:20170124T230000
SUMMARY:HE 3. Liga Gr. 2 Regio Moossee vs Langnau (0)
UID:6010be51-0b14-5356-e053-1fc7a80a74f7
STATUS:CONFIRMED
LAST-MODIFIED:20170125T194021Z
DESCRIPTION:3. Liga Herren Gruppe 2\nBegegnungs-Nr: 0\nHeim: Regio Moossee\nGast: Langnau\n\nAdresse: Schulhausstrasse 23-25\, 3302 Moosseedorf\n
LOCATION:Schulhausstrasse 23-25\, 3302 Moosseedorf
CATEGORIES:Saison 2016/17
END:VEVENT
BEGIN:VEVENT
DTSTAMP:20260421T202830Z
DTSTART;TZID=Europe/Berlin:20161213T200000
DTEND;TZID=Europe/Berlin:20161213T230000
SUMMARY:HE 3. Liga Gr. 2 Regio Moossee vs Burgdorf IV (0)
UID:6010be51-0b17-5356-e053-1fc7a80a74f7
STATUS:CONFIRMED
LAST-MODIFIED:20161217T060259Z
DESCRIPTION:3. Liga Herren Gruppe 2\nBegegnungs-Nr: 0\nHeim: Regio Moossee\nGast: Burgdorf IV\n\nAdresse: Schulhausstrasse 23-25\, 3302 Moosseedorf\n
LOCATION:Schulhausstrasse 23-25\, 3302 Moosseedorf
CATEGORIES:Saison 2016/17
END:VEVENT
BEGIN:VEVENT
DTSTAMP:20260421T202830Z
DTSTART;TZID=Europe/Berlin:20161122T200000
DTEND;TZID=Europe/Berlin:20161122T230000
SUMMARY:HE 3. Liga Gr. 2 Regio Moossee vs Wohlensee (0)
UID:6010be51-233d-5356-e053-1fc7a80a74f7
STATUS:CONFIRMED
LAST-MODIFIED:20161124T164711Z
DESCRIPTION:3. Liga Herren Gruppe 2\nBegegnungs-Nr: 0\nHeim: Regio Moossee\nGast: Wohlensee\n\nAdresse: Schulhausstrasse 23-25\, 3302 Moosseedorf\n
LOCATION:Schulhausstrasse 23-25\, 3302 Moosseedorf
CATEGORIES:Saison 2016/17
END:VEVENT
BEGIN:VEVENT
DTSTAMP:20260421T202830Z
DTSTART;TZID=Europe/Berlin:20170404T200000
DTEND;TZID=Europe/Berlin:20170404T230000
SUMMARY:HE 3. Liga Gr. 2 Regio Moossee vs Schwarzenburg (0)
UID:6010be51-3a33-5356-e053-1fc7a80a74f7
STATUS:CONFIRMED
LAST-MODIFIED:20170405T153449Z
DESCRIPTION:3. Liga Herren Gruppe 2\nBegegnungs-Nr: 0\nHeim: Regio Moossee\nGast: Schwarzenburg\n\nAdresse: Schulhausstrasse 23-25\, 3302 Moosseedorf\n
LOCATION:Schulhausstrasse 23-25\, 3302 Moosseedorf
CATEGORIES:Saison 2016/17
END:VEVENT
BEGIN:VEVENT
DTSTAMP:20260421T202830Z
DTSTART;TZID=Europe/Berlin:20161101T200000
DTEND;TZID=Europe/Berlin:20161101T230000
SUMMARY:HE 3. Liga Gr. 2 Regio Moossee vs Ittigen (0)
UID:6010be51-03a2-5356-e053-1fc7a80a74f7
STATUS:CONFIRMED
LAST-MODIFIED:20161118T084246Z
DESCRIPTION:3. Liga Herren Gruppe 2\nBegegnungs-Nr: 0\nHeim: Regio Moossee\nGast: Ittigen\n\nAdresse: Schulhausstrasse 23-25\, 3302 Moosseedorf\n
LOCATION:Schulhausstrasse 23-25\, 3302 Moosseedorf
CATEGORIES:Saison 2016/17
END:VEVENT
BEGIN:VEVENT
DTSTAMP:20260421T202830Z
DTSTART;TZID=Europe/Berlin:20160913T200000
DTEND;TZID=Europe/Berlin:20160913T230000
SUMMARY:HE 3. Liga Gr. 2 Regio Moossee vs Belp IV (0)
UID:6010be51-0410-5356-e053-1fc7a80a74f7
STATUS:CONFIRMED
LAST-MODIFIED:20160916T160242Z
DESCRIPTION:3. Liga Herren Gruppe 2\nBegegnungs-Nr: 0\nHeim: Regio Moossee\nGast: Belp IV\n\nAdresse: Schulhausstrasse 23-25\, 3302 Moosseedorf\n
LOCATION:Schulhausstrasse 23-25\, 3302 Moosseedorf
CATEGORIES:Saison 2016/17
END:VEVENT
BEGIN:VEVENT
DTSTAMP:20260421T202830Z
DTSTART;TZID=Europe/Berlin:20161018T200000
DTEND;TZID=Europe/Berlin:20161018T230000
SUMMARY:HE 3. Liga Gr. 2 Regio Moossee vs Bern II (0)
UID:6010be51-106d-5356-e053-1fc7a80a74f7
STATUS:CONFIRMED
LAST-MODIFIED:20161019T171156Z
DESCRIPTION:3. Liga Herren Gruppe 2\nBegegnungs-Nr: 0\nHeim: Regio Moossee\nGast: Bern II\n\nAdresse: Schulhausstrasse 23-25\, 3302 Moosseedorf\n
LOCATION:Schulhausstrasse 23-25\, 3302 Moosseedorf
CATEGORIES:Saison 2016/17
END:VEVENT
BEGIN:VEVENT
DTSTAMP:20260421T202830Z
DTSTART;TZID=Europe/Berlin:20161115T200000
DTEND;TZID=Europe/Berlin:20161115T230000
SUMMARY:HE 3. Liga Gr. 2 Regio Moossee vs Düdingen II (0)
UID:6010be51-1dad-5356-e053-1fc7a80a74f7
STATUS:CONFIRMED
LAST-MODIFIED:20161116T171117Z
DESCRIPTION:3. Liga Herren Gruppe 2\nBegegnungs-Nr: 0\nHeim: Regio Moossee\nGast: Düdingen II\n\nAdresse: Schulhausstrasse 23-25\, 3302 Moosseedorf\n
LOCATION:Schulhausstrasse 23-25\, 3302 Moosseedorf
CATEGORIES:Saison 2016/17
END:VEVENT
BEGIN:VEVENT
DTSTAMP:20260421T202830Z
DTSTART;TZID=Europe/Berlin:20170330T194500
DTEND;TZID=Europe/Berlin:20170330T224500
SUMMARY:HE 3. Liga Gr. 2 Wohlensee vs Regio Moossee (0)
UID:6010be51-0ad8-5356-e053-1fc7a80a74f7
STATUS:CONFIRMED
LAST-MODIFIED:20170331T145800Z
DESCRIPTION:3. Liga Herren Gruppe 2\nBegegnungs-Nr: 0\nHeim: Wohlensee\nGast: Regio Moossee\n\nAdresse: Kappelenring 36 a\, 3032 Hinterkappelen\n
LOCATION:Kappelenring 36 a\, 3032 Hinterkappelen
CATEGORIES:Saison 2016/17
END:VEVENT
BEGIN:VEVENT
DTSTAMP:20260421T202830Z
DTSTART;TZID=Europe/Berlin:20170313T194500
DTEND;TZID=Europe/Berlin:20170313T224500
SUMMARY:HE 3. Liga Gr. 2 Düdingen II vs Regio Moossee (0)
UID:6010be51-0adb-5356-e053-1fc7a80a74f7
STATUS:CONFIRMED
LAST-MODIFIED:20170314T160207Z
DESCRIPTION:3. Liga Herren Gruppe 2\nBegegnungs-Nr: 0\nHeim: Düdingen II\nGast: Regio Moossee\n\nAdresse: Alfons-Aeby-Strasse\, 3186 Düdingen\n
LOCATION:Alfons-Aeby-Strasse\, 3186 Düdingen
CATEGORIES:Saison 2016/17
END:VEVENT
BEGIN:VEVENT
DTSTAMP:20260421T202830Z
DTSTART;TZID=Europe/Berlin:20170303T194500
DTEND;TZID=Europe/Berlin:20170303T224500
SUMMARY:HE 3. Liga Gr. 2 Ittigen vs Regio Moossee (0)
UID:6010be51-0ade-5356-e053-1fc7a80a74f7
STATUS:CONFIRMED
LAST-MODIFIED:20170306T183510Z
DESCRIPTION:3. Liga Herren Gruppe 2\nBegegnungs-Nr: 0\nHeim: Ittigen\nGast: Regio Moossee\n\nAdresse: Fischrainweg 17\, 3048 Worblaufen\n
LOCATION:Fischrainweg 17\, 3048 Worblaufen
CATEGORIES:Saison 2016/17
END:VEVENT
BEGIN:VEVENT
DTSTAMP:20260421T202830Z
DTSTART;TZID=Europe/Berlin:20170113T193000
DTEND;TZID=Europe/Berlin:20170113T223000
SUMMARY:HE 3. Liga Gr. 2 Belp IV vs Regio Moossee (0)
UID:6010be51-0b16-5356-e053-1fc7a80a74f7
STATUS:CONFIRMED
LAST-MODIFIED:20170116T193317Z
DESCRIPTION:3. Liga Herren Gruppe 2\nBegegnungs-Nr: 0\nHeim: Belp IV\nGast: Regio Moossee\n\nAdresse: Neumattstrasse 39\, 3123 Belp\n
LOCATION:Neumattstrasse 39\, 3123 Belp
CATEGORIES:Saison 2016/17
END:VEVENT
BEGIN:VEVENT
DTSTAMP:20260421T202830Z
DTSTART;TZID=Europe/Berlin:20160903T160000
DTEND;TZID=Europe/Berlin:20160903T190000
SUMMARY:HE 3. Liga Gr. 2 Burgdorf IV vs Regio Moossee (0)
UID:6010be51-1324-5356-e053-1fc7a80a74f7
STATUS:CONFIRMED
LAST-MODIFIED:20160905T030646Z
DESCRIPTION:3. Liga Herren Gruppe 2\nBegegnungs-Nr: 0\nHeim: Burgdorf IV\nGast: Regio Moossee\n\nAdresse: Pestalozzistrasse 69\, 3400 Burgdorf\n
LOCATION:Pestalozzistrasse 69\, 3400 Burgdorf
CATEGORIES:Saison 2016/17
END:VEVENT
BEGIN:VEVENT
DTSTAMP:20260421T202830Z
DTSTART;TZID=Europe/Berlin:20161205T201500
DTEND;TZID=Europe/Berlin:20161205T231500
SUMMARY:HE 3. Liga Gr. 2 Schwarzenburg vs Regio Moossee (0)
UID:6010be51-2298-5356-e053-1fc7a80a74f7
STATUS:CONFIRMED
LAST-MODIFIED:20161206T203601Z
DESCRIPTION:3. Liga Herren Gruppe 2\nBegegnungs-Nr: 0\nHeim: Schwarzenburg\nGast: Regio Moossee\n\nAdresse: Einschlag 21\, 3150 Schwarzenburg\n
LOCATION:Einschlag 21\, 3150 Schwarzenburg
CATEGORIES:Saison 2016/17
END:VEVENT
BEGIN:VEVENT
DTSTAMP:20260421T202830Z
DTSTART;TZID=Europe/Berlin:20161022T140000
DTEND;TZID=Europe/Berlin:20161022T170000
SUMMARY:HE 3. Liga Gr. 2 Langnau vs Regio Moossee (0)
UID:6010be51-0416-5356-e053-1fc7a80a74f7
STATUS:CONFIRMED
LAST-MODIFIED:20161024T180255Z
DESCRIPTION:3. Liga Herren Gruppe 2\nBegegnungs-Nr: 0\nHeim: Langnau\nGast: Regio Moossee\n\nAdresse: Bleicheweg 11\, 3550 Langnau\n
LOCATION:Bleicheweg 11\, 3550 Langnau
CATEGORIES:Saison 2016/17
END:VEVENT
BEGIN:VEVENT
DTSTAMP:20260421T202830Z
DTSTART;TZID=Europe/Berlin:20161104T193000
DTEND;TZID=Europe/Berlin:20161104T223000
SUMMARY:HE 3. Liga Gr. 2 Ostermundigen IV vs Regio Moossee (0)
UID:6010be51-1d42-5356-e053-1fc7a80a74f7
STATUS:CONFIRMED
LAST-MODIFIED:20161106T094342Z
DESCRIPTION:3. Liga Herren Gruppe 2\nBegegnungs-Nr: 0\nHeim: Ostermundigen IV\nGast: Regio Moossee\n\nAdresse: Dennigkofenweg 169\, 3072 Ostermundigen\n
LOCATION:Dennigkofenweg 169\, 3072 Ostermundigen
CATEGORIES:Saison 2016/17
END:VEVENT
BEGIN:VEVENT
DTSTAMP:20260421T202830Z
DTSTART;TZID=Europe/Berlin:20170206T193000
DTEND;TZID=Europe/Berlin:20170206T223000
SUMMARY:HE 3. Liga Gr. 2 Bern II vs Regio Moossee (0)
UID:6010be51-285b-5356-e053-1fc7a80a74f7
STATUS:CONFIRMED
LAST-MODIFIED:20170207T155025Z
DESCRIPTION:3. Liga Herren Gruppe 2\nBegegnungs-Nr: 0\nHeim: Bern II\nGast: Regio Moossee\n\nAdresse: Papiermühlestrasse 81\, 3014 Bern\n
LOCATION:Papiermühlestrasse 81\, 3014 Bern
CATEGORIES:Saison 2016/17
END:VEVENT
END:VCALENDAR
