BEGIN:VCALENDAR
PRODID:-//nuDatenautomaten//framework iCal4j //DE
VERSION:2.0
CALSCALE:GREGORIAN
BEGIN:VTIMEZONE
TZID:Europe/Berlin
LAST-MODIFIED:20260306T231828Z
TZURL:https://www.tzurl.org/zoneinfo/Europe/Berlin
X-LIC-LOCATION:Europe/Berlin
X-PROLEPTIC-TZNAME:LMT
BEGIN:STANDARD
TZNAME:CET
TZOFFSETFROM:+005328
TZOFFSETTO:+0100
DTSTART:18930401T000000
END:STANDARD
BEGIN:DAYLIGHT
TZNAME:CEST
TZOFFSETFROM:+0100
TZOFFSETTO:+0200
DTSTART:19160430T230000
RDATE:19400401T020000
RDATE:19430329T020000
RDATE:19460414T020000
RDATE:19470406T030000
RDATE:19480418T020000
RDATE:19490410T020000
RDATE:19800406T020000
END:DAYLIGHT
BEGIN:STANDARD
TZNAME:CET
TZOFFSETFROM:+0200
TZOFFSETTO:+0100
DTSTART:19161001T010000
RDATE:19421102T030000
RDATE:19431004T030000
RDATE:19441002T030000
RDATE:19451118T030000
RDATE:19461007T030000
END:STANDARD
BEGIN:DAYLIGHT
TZNAME:CEST
TZOFFSETFROM:+0100
TZOFFSETTO:+0200
DTSTART:19170416T020000
RRULE:FREQ=YEARLY;UNTIL=19180415T010000Z;BYMONTH=4;BYDAY=3MO
END:DAYLIGHT
BEGIN:STANDARD
TZNAME:CET
TZOFFSETFROM:+0200
TZOFFSETTO:+0100
DTSTART:19170917T030000
RRULE:FREQ=YEARLY;UNTIL=19180916T010000Z;BYMONTH=9;BYDAY=3MO
END:STANDARD
BEGIN:DAYLIGHT
TZNAME:CEST
TZOFFSETFROM:+0100
TZOFFSETTO:+0200
DTSTART:19440403T020000
RRULE:FREQ=YEARLY;UNTIL=19450402T010000Z;BYMONTH=4;BYDAY=1MO
END:DAYLIGHT
BEGIN:DAYLIGHT
TZNAME:CEMT
TZOFFSETFROM:+0200
TZOFFSETTO:+0300
DTSTART:19450524T020000
RDATE:19470511T030000
END:DAYLIGHT
BEGIN:DAYLIGHT
TZNAME:CEST
TZOFFSETFROM:+0300
TZOFFSETTO:+0200
DTSTART:19450924T030000
RDATE:19470629T030000
END:DAYLIGHT
BEGIN:STANDARD
TZNAME:CET
TZOFFSETFROM:+0100
TZOFFSETTO:+0100
DTSTART:19460101T000000
RDATE:19800101T000000
END:STANDARD
BEGIN:STANDARD
TZNAME:CET
TZOFFSETFROM:+0200
TZOFFSETTO:+0100
DTSTART:19471005T030000
RRULE:FREQ=YEARLY;UNTIL=19491002T010000Z;BYMONTH=10;BYDAY=1SU
END:STANDARD
BEGIN:STANDARD
TZNAME:CET
TZOFFSETFROM:+0200
TZOFFSETTO:+0100
DTSTART:19800928T030000
RRULE:FREQ=YEARLY;UNTIL=19950924T010000Z;BYMONTH=9;BYDAY=-1SU
END:STANDARD
BEGIN:DAYLIGHT
TZNAME:CEST
TZOFFSETFROM:+0100
TZOFFSETTO:+0200
DTSTART:19810329T020000
RRULE:FREQ=YEARLY;BYMONTH=3;BYDAY=-1SU
END:DAYLIGHT
BEGIN:STANDARD
TZNAME:CET
TZOFFSETFROM:+0200
TZOFFSETTO:+0100
DTSTART:19961027T030000
RRULE:FREQ=YEARLY;BYMONTH=10;BYDAY=-1SU
END:STANDARD
END:VTIMEZONE
BEGIN:VEVENT
DTSTAMP:20260421T202617Z
DTSTART;TZID=Europe/Berlin:20170317T193000
DTEND;TZID=Europe/Berlin:20170317T223000
SUMMARY:HE 3. Liga Gr. 2 Ostermundigen IV vs Belp IV (0)
UID:6010be51-0add-5356-e053-1fc7a80a74f7
STATUS:CONFIRMED
LAST-MODIFIED:20170322T181014Z
DESCRIPTION:3. Liga Herren Gruppe 2\nBegegnungs-Nr: 0\nHeim: Ostermundigen IV\nGast: Belp IV\n\nAdresse: Dennigkofenweg 169\, 3072 Ostermundigen\n
LOCATION:Dennigkofenweg 169\, 3072 Ostermundigen
CATEGORIES:Saison 2016/17
END:VEVENT
BEGIN:VEVENT
DTSTAMP:20260421T202617Z
DTSTART;TZID=Europe/Berlin:20170127T193000
DTEND;TZID=Europe/Berlin:20170127T223000
SUMMARY:HE 3. Liga Gr. 2 Ostermundigen IV vs Wohlensee (0)
UID:6010be51-0b12-5356-e053-1fc7a80a74f7
STATUS:CONFIRMED
LAST-MODIFIED:20170128T070234Z
DESCRIPTION:3. Liga Herren Gruppe 2\nBegegnungs-Nr: 0\nHeim: Ostermundigen IV\nGast: Wohlensee\n\nAdresse: Dennigkofenweg 169\, 3072 Ostermundigen\n
LOCATION:Dennigkofenweg 169\, 3072 Ostermundigen
CATEGORIES:Saison 2016/17
END:VEVENT
BEGIN:VEVENT
DTSTAMP:20260421T202617Z
DTSTART;TZID=Europe/Berlin:20170120T193000
DTEND;TZID=Europe/Berlin:20170120T223000
SUMMARY:HE 3. Liga Gr. 2 Ostermundigen IV vs Langnau (0)
UID:6010be51-0b43-5356-e053-1fc7a80a74f7
STATUS:CONFIRMED
LAST-MODIFIED:20170121T073658Z
DESCRIPTION:3. Liga Herren Gruppe 2\nBegegnungs-Nr: 0\nHeim: Ostermundigen IV\nGast: Langnau\n\nAdresse: Dennigkofenweg 169\, 3072 Ostermundigen\n
LOCATION:Dennigkofenweg 169\, 3072 Ostermundigen
CATEGORIES:Saison 2016/17
END:VEVENT
BEGIN:VEVENT
DTSTAMP:20260421T202617Z
DTSTART;TZID=Europe/Berlin:20170331T193000
DTEND;TZID=Europe/Berlin:20170331T223000
SUMMARY:HE 3. Liga Gr. 2 Ostermundigen IV vs Schwarzenburg (0)
UID:6010be51-3c91-5356-e053-1fc7a80a74f7
STATUS:CONFIRMED
LAST-MODIFIED:20170402T064135Z
DESCRIPTION:3. Liga Herren Gruppe 2\nBegegnungs-Nr: 0\nHeim: Ostermundigen IV\nGast: Schwarzenburg\n\nAdresse: Dennigkofenweg 169\, 3072 Ostermundigen\n
LOCATION:Dennigkofenweg 169\, 3072 Ostermundigen
CATEGORIES:Saison 2016/17
END:VEVENT
BEGIN:VEVENT
DTSTAMP:20260421T202617Z
DTSTART;TZID=Europe/Berlin:20161021T193000
DTEND;TZID=Europe/Berlin:20161021T223000
SUMMARY:HE 3. Liga Gr. 2 Ostermundigen IV vs Burgdorf IV (0)
UID:6010be51-1d41-5356-e053-1fc7a80a74f7
STATUS:CONFIRMED
LAST-MODIFIED:20161022T072859Z
DESCRIPTION:3. Liga Herren Gruppe 2\nBegegnungs-Nr: 0\nHeim: Ostermundigen IV\nGast: Burgdorf IV\n\nAdresse: Dennigkofenweg 169\, 3072 Ostermundigen\n
LOCATION:Dennigkofenweg 169\, 3072 Ostermundigen
CATEGORIES:Saison 2016/17
END:VEVENT
BEGIN:VEVENT
DTSTAMP:20260421T202617Z
DTSTART;TZID=Europe/Berlin:20161007T193000
DTEND;TZID=Europe/Berlin:20161007T223000
SUMMARY:HE 3. Liga Gr. 2 Ostermundigen IV vs Bern II (0)
UID:6010be51-0412-5356-e053-1fc7a80a74f7
STATUS:CONFIRMED
LAST-MODIFIED:20161009T141037Z
DESCRIPTION:3. Liga Herren Gruppe 2\nBegegnungs-Nr: 0\nHeim: Ostermundigen IV\nGast: Bern II\n\nAdresse: Dennigkofenweg 169\, 3072 Ostermundigen\n
LOCATION:Dennigkofenweg 169\, 3072 Ostermundigen
CATEGORIES:Saison 2016/17
END:VEVENT
BEGIN:VEVENT
DTSTAMP:20260421T202617Z
DTSTART;TZID=Europe/Berlin:20161125T193000
DTEND;TZID=Europe/Berlin:20161125T223000
SUMMARY:HE 3. Liga Gr. 2 Ostermundigen IV vs Ittigen (0)
UID:6010be51-05c1-5356-e053-1fc7a80a74f7
STATUS:CONFIRMED
LAST-MODIFIED:20161127T191137Z
DESCRIPTION:3. Liga Herren Gruppe 2\nBegegnungs-Nr: 0\nHeim: Ostermundigen IV\nGast: Ittigen\n\nAdresse: Dennigkofenweg 169\, 3072 Ostermundigen\n
LOCATION:Dennigkofenweg 169\, 3072 Ostermundigen
CATEGORIES:Saison 2016/17
END:VEVENT
BEGIN:VEVENT
DTSTAMP:20260421T202617Z
DTSTART;TZID=Europe/Berlin:20161104T193000
DTEND;TZID=Europe/Berlin:20161104T223000
SUMMARY:HE 3. Liga Gr. 2 Ostermundigen IV vs Regio Moossee (0)
UID:6010be51-1d42-5356-e053-1fc7a80a74f7
STATUS:CONFIRMED
LAST-MODIFIED:20161106T094342Z
DESCRIPTION:3. Liga Herren Gruppe 2\nBegegnungs-Nr: 0\nHeim: Ostermundigen IV\nGast: Regio Moossee\n\nAdresse: Dennigkofenweg 169\, 3072 Ostermundigen\n
LOCATION:Dennigkofenweg 169\, 3072 Ostermundigen
CATEGORIES:Saison 2016/17
END:VEVENT
BEGIN:VEVENT
DTSTAMP:20260421T202617Z
DTSTART;TZID=Europe/Berlin:20170310T193000
DTEND;TZID=Europe/Berlin:20170310T223000
SUMMARY:HE 3. Liga Gr. 2 Ostermundigen IV vs Düdingen II (0)
UID:6010be51-3553-5356-e053-1fc7a80a74f7
STATUS:CONFIRMED
LAST-MODIFIED:20170311T114147Z
DESCRIPTION:3. Liga Herren Gruppe 2\nBegegnungs-Nr: 0\nHeim: Ostermundigen IV\nGast: Düdingen II\n\nAdresse: Dennigkofenweg 169\, 3072 Ostermundigen\n
LOCATION:Dennigkofenweg 169\, 3072 Ostermundigen
CATEGORIES:Saison 2016/17
END:VEVENT
BEGIN:VEVENT
DTSTAMP:20260421T202617Z
DTSTART;TZID=Europe/Berlin:20170403T194500
DTEND;TZID=Europe/Berlin:20170403T224500
SUMMARY:HE 3. Liga Gr. 2 Ittigen vs Ostermundigen IV (0)
UID:6010be51-0ad6-5356-e053-1fc7a80a74f7
STATUS:CONFIRMED
LAST-MODIFIED:20170404T144217Z
DESCRIPTION:3. Liga Herren Gruppe 2\nBegegnungs-Nr: 0\nHeim: Ittigen\nGast: Ostermundigen IV\n\nAdresse: Fischrainweg 17\, 3048 Worblaufen\n
LOCATION:Fischrainweg 17\, 3048 Worblaufen
CATEGORIES:Saison 2016/17
END:VEVENT
BEGIN:VEVENT
DTSTAMP:20260421T202617Z
DTSTART;TZID=Europe/Berlin:20170217T200000
DTEND;TZID=Europe/Berlin:20170217T230000
SUMMARY:HE 3. Liga Gr. 2 Regio Moossee vs Ostermundigen IV (0)
UID:6010be51-0b0c-5356-e053-1fc7a80a74f7
STATUS:CONFIRMED
LAST-MODIFIED:20170218T102023Z
DESCRIPTION:3. Liga Herren Gruppe 2\nBegegnungs-Nr: 0\nHeim: Regio Moossee\nGast: Ostermundigen IV\n\nAdresse: Schulhausstrasse 23-25\, 3302 Moosseedorf\n
LOCATION:Schulhausstrasse 23-25\, 3302 Moosseedorf
CATEGORIES:Saison 2016/17
END:VEVENT
BEGIN:VEVENT
DTSTAMP:20260421T202617Z
DTSTART;TZID=Europe/Berlin:20170224T193000
DTEND;TZID=Europe/Berlin:20170224T223000
SUMMARY:HE 3. Liga Gr. 2 Burgdorf IV vs Ostermundigen IV (0)
UID:6010be51-0b0e-5356-e053-1fc7a80a74f7
STATUS:CONFIRMED
LAST-MODIFIED:20170226T170647Z
DESCRIPTION:3. Liga Herren Gruppe 2\nBegegnungs-Nr: 0\nHeim: Burgdorf IV\nGast: Ostermundigen IV\n\nAdresse: Pestalozzistrasse 69\, 3400 Burgdorf\n
LOCATION:Pestalozzistrasse 69\, 3400 Burgdorf
CATEGORIES:Saison 2016/17
END:VEVENT
BEGIN:VEVENT
DTSTAMP:20260421T202617Z
DTSTART;TZID=Europe/Berlin:20161031T194500
DTEND;TZID=Europe/Berlin:20161031T224500
SUMMARY:HE 3. Liga Gr. 2 Düdingen II vs Ostermundigen IV (0)
UID:6010be51-03a1-5356-e053-1fc7a80a74f7
STATUS:CONFIRMED
LAST-MODIFIED:20161101T205058Z
DESCRIPTION:3. Liga Herren Gruppe 2\nBegegnungs-Nr: 0\nHeim: Düdingen II\nGast: Ostermundigen IV\n\nAdresse: Alfons-Aeby-Strasse\, 3186 Düdingen\n
LOCATION:Alfons-Aeby-Strasse\, 3186 Düdingen
CATEGORIES:Saison 2016/17
END:VEVENT
BEGIN:VEVENT
DTSTAMP:20260421T202617Z
DTSTART;TZID=Europe/Berlin:20161118T193000
DTEND;TZID=Europe/Berlin:20161118T223000
SUMMARY:HE 3. Liga Gr. 2 Belp IV vs Ostermundigen IV (0)
UID:6010be51-03a3-5356-e053-1fc7a80a74f7
STATUS:CONFIRMED
LAST-MODIFIED:20161120T182040Z
DESCRIPTION:3. Liga Herren Gruppe 2\nBegegnungs-Nr: 0\nHeim: Belp IV\nGast: Ostermundigen IV\n\nAdresse: Neumattstrasse 39\, 3123 Belp\n
LOCATION:Neumattstrasse 39\, 3123 Belp
CATEGORIES:Saison 2016/17
END:VEVENT
BEGIN:VEVENT
DTSTAMP:20260421T202617Z
DTSTART;TZID=Europe/Berlin:20161121T201500
DTEND;TZID=Europe/Berlin:20161121T231500
SUMMARY:HE 3. Liga Gr. 2 Schwarzenburg vs Ostermundigen IV (0)
UID:6010be51-03a7-5356-e053-1fc7a80a74f7
STATUS:CONFIRMED
LAST-MODIFIED:20161124T164659Z
DESCRIPTION:3. Liga Herren Gruppe 2\nBegegnungs-Nr: 0\nHeim: Schwarzenburg\nGast: Ostermundigen IV\n\nAdresse: Einschlag 21\, 3150 Schwarzenburg\n
LOCATION:Einschlag 21\, 3150 Schwarzenburg
CATEGORIES:Saison 2016/17
END:VEVENT
BEGIN:VEVENT
DTSTAMP:20260421T202617Z
DTSTART;TZID=Europe/Berlin:20160922T194500
DTEND;TZID=Europe/Berlin:20160922T224500
SUMMARY:HE 3. Liga Gr. 2 Wohlensee vs Ostermundigen IV (0)
UID:6010be51-0417-5356-e053-1fc7a80a74f7
STATUS:CONFIRMED
LAST-MODIFIED:20160923T153749Z
DESCRIPTION:3. Liga Herren Gruppe 2\nBegegnungs-Nr: 0\nHeim: Wohlensee\nGast: Ostermundigen IV\n\nAdresse: Kappelenring 36 a\, 3032 Hinterkappelen\n
LOCATION:Kappelenring 36 a\, 3032 Hinterkappelen
CATEGORIES:Saison 2016/17
END:VEVENT
BEGIN:VEVENT
DTSTAMP:20260421T202617Z
DTSTART;TZID=Europe/Berlin:20160924T140000
DTEND;TZID=Europe/Berlin:20160924T170000
SUMMARY:HE 3. Liga Gr. 2 Langnau vs Ostermundigen IV (0)
UID:6010be51-113c-5356-e053-1fc7a80a74f7
STATUS:CONFIRMED
LAST-MODIFIED:20160925T090514Z
DESCRIPTION:3. Liga Herren Gruppe 2\nBegegnungs-Nr: 0\nHeim: Langnau\nGast: Ostermundigen IV\n\nAdresse: Bleicheweg 11\, 3550 Langnau\n
LOCATION:Bleicheweg 11\, 3550 Langnau
CATEGORIES:Saison 2016/17
END:VEVENT
BEGIN:VEVENT
DTSTAMP:20260421T202617Z
DTSTART;TZID=Europe/Berlin:20170109T193000
DTEND;TZID=Europe/Berlin:20170109T223000
SUMMARY:HE 3. Liga Gr. 2 Bern II vs Ostermundigen IV (0)
UID:6010be51-28e8-5356-e053-1fc7a80a74f7
STATUS:CONFIRMED
LAST-MODIFIED:20170111T163703Z
DESCRIPTION:3. Liga Herren Gruppe 2\nBegegnungs-Nr: 0\nHeim: Bern II\nGast: Ostermundigen IV\n\nAdresse: Papiermühlestrasse 81\, 3014 Bern\n
LOCATION:Papiermühlestrasse 81\, 3014 Bern
CATEGORIES:Saison 2016/17
END:VEVENT
END:VCALENDAR
