BEGIN:VCALENDAR
PRODID:-//nuDatenautomaten//framework iCal4j //DE
VERSION:2.0
CALSCALE:GREGORIAN
BEGIN:VTIMEZONE
TZID:Europe/Berlin
LAST-MODIFIED:20260306T231828Z
TZURL:https://www.tzurl.org/zoneinfo/Europe/Berlin
X-LIC-LOCATION:Europe/Berlin
X-PROLEPTIC-TZNAME:LMT
BEGIN:STANDARD
TZNAME:CET
TZOFFSETFROM:+005328
TZOFFSETTO:+0100
DTSTART:18930401T000000
END:STANDARD
BEGIN:DAYLIGHT
TZNAME:CEST
TZOFFSETFROM:+0100
TZOFFSETTO:+0200
DTSTART:19160430T230000
RDATE:19400401T020000
RDATE:19430329T020000
RDATE:19460414T020000
RDATE:19470406T030000
RDATE:19480418T020000
RDATE:19490410T020000
RDATE:19800406T020000
END:DAYLIGHT
BEGIN:STANDARD
TZNAME:CET
TZOFFSETFROM:+0200
TZOFFSETTO:+0100
DTSTART:19161001T010000
RDATE:19421102T030000
RDATE:19431004T030000
RDATE:19441002T030000
RDATE:19451118T030000
RDATE:19461007T030000
END:STANDARD
BEGIN:DAYLIGHT
TZNAME:CEST
TZOFFSETFROM:+0100
TZOFFSETTO:+0200
DTSTART:19170416T020000
RRULE:FREQ=YEARLY;UNTIL=19180415T010000Z;BYMONTH=4;BYDAY=3MO
END:DAYLIGHT
BEGIN:STANDARD
TZNAME:CET
TZOFFSETFROM:+0200
TZOFFSETTO:+0100
DTSTART:19170917T030000
RRULE:FREQ=YEARLY;UNTIL=19180916T010000Z;BYMONTH=9;BYDAY=3MO
END:STANDARD
BEGIN:DAYLIGHT
TZNAME:CEST
TZOFFSETFROM:+0100
TZOFFSETTO:+0200
DTSTART:19440403T020000
RRULE:FREQ=YEARLY;UNTIL=19450402T010000Z;BYMONTH=4;BYDAY=1MO
END:DAYLIGHT
BEGIN:DAYLIGHT
TZNAME:CEMT
TZOFFSETFROM:+0200
TZOFFSETTO:+0300
DTSTART:19450524T020000
RDATE:19470511T030000
END:DAYLIGHT
BEGIN:DAYLIGHT
TZNAME:CEST
TZOFFSETFROM:+0300
TZOFFSETTO:+0200
DTSTART:19450924T030000
RDATE:19470629T030000
END:DAYLIGHT
BEGIN:STANDARD
TZNAME:CET
TZOFFSETFROM:+0100
TZOFFSETTO:+0100
DTSTART:19460101T000000
RDATE:19800101T000000
END:STANDARD
BEGIN:STANDARD
TZNAME:CET
TZOFFSETFROM:+0200
TZOFFSETTO:+0100
DTSTART:19471005T030000
RRULE:FREQ=YEARLY;UNTIL=19491002T010000Z;BYMONTH=10;BYDAY=1SU
END:STANDARD
BEGIN:STANDARD
TZNAME:CET
TZOFFSETFROM:+0200
TZOFFSETTO:+0100
DTSTART:19800928T030000
RRULE:FREQ=YEARLY;UNTIL=19950924T010000Z;BYMONTH=9;BYDAY=-1SU
END:STANDARD
BEGIN:DAYLIGHT
TZNAME:CEST
TZOFFSETFROM:+0100
TZOFFSETTO:+0200
DTSTART:19810329T020000
RRULE:FREQ=YEARLY;BYMONTH=3;BYDAY=-1SU
END:DAYLIGHT
BEGIN:STANDARD
TZNAME:CET
TZOFFSETFROM:+0200
TZOFFSETTO:+0100
DTSTART:19961027T030000
RRULE:FREQ=YEARLY;BYMONTH=10;BYDAY=-1SU
END:STANDARD
END:VTIMEZONE
BEGIN:VEVENT
DTSTAMP:20260421T203851Z
DTSTART;TZID=Europe/Berlin:20170403T194500
DTEND;TZID=Europe/Berlin:20170403T224500
SUMMARY:HE 3. Liga Gr. 2 Ittigen vs Ostermundigen IV (0)
UID:6010be51-0ad6-5356-e053-1fc7a80a74f7
STATUS:CONFIRMED
LAST-MODIFIED:20170404T144217Z
DESCRIPTION:3. Liga Herren Gruppe 2\nBegegnungs-Nr: 0\nHeim: Ittigen\nGast: Ostermundigen IV\n\nAdresse: Fischrainweg 17\, 3048 Worblaufen\n
LOCATION:Fischrainweg 17\, 3048 Worblaufen
CATEGORIES:Saison 2016/17
END:VEVENT
BEGIN:VEVENT
DTSTAMP:20260421T203851Z
DTSTART;TZID=Europe/Berlin:20170303T194500
DTEND;TZID=Europe/Berlin:20170303T224500
SUMMARY:HE 3. Liga Gr. 2 Ittigen vs Regio Moossee (0)
UID:6010be51-0ade-5356-e053-1fc7a80a74f7
STATUS:CONFIRMED
LAST-MODIFIED:20170306T183510Z
DESCRIPTION:3. Liga Herren Gruppe 2\nBegegnungs-Nr: 0\nHeim: Ittigen\nGast: Regio Moossee\n\nAdresse: Fischrainweg 17\, 3048 Worblaufen\n
LOCATION:Fischrainweg 17\, 3048 Worblaufen
CATEGORIES:Saison 2016/17
END:VEVENT
BEGIN:VEVENT
DTSTAMP:20260421T203851Z
DTSTART;TZID=Europe/Berlin:20161212T194500
DTEND;TZID=Europe/Berlin:20161212T224500
SUMMARY:HE 3. Liga Gr. 2 Ittigen vs Bern II (0)
UID:6010be51-0b18-5356-e053-1fc7a80a74f7
STATUS:CONFIRMED
LAST-MODIFIED:20161217T060213Z
DESCRIPTION:3. Liga Herren Gruppe 2\nBegegnungs-Nr: 0\nHeim: Ittigen\nGast: Bern II\n\nAdresse: Fischrainweg 17\, 3048 Worblaufen\n
LOCATION:Fischrainweg 17\, 3048 Worblaufen
CATEGORIES:Saison 2016/17
END:VEVENT
BEGIN:VEVENT
DTSTAMP:20260421T203851Z
DTSTART;TZID=Europe/Berlin:20170414T000000
DTEND;TZID=Europe/Berlin:20170414T030000
SUMMARY:HE 3. Liga Final Ittigen vs Port II (6)
UID:6010be51-3bcf-5356-e053-1fc7a80a74f7
STATUS:CONFIRMED
LAST-MODIFIED:20170414T062010Z
DESCRIPTION:3. Liga Herren Finalrunde\nBegegnungs-Nr: 6\nHeim: Ittigen\nGast: Port II\n
LOCATION:
CATEGORIES:Saison 2016/17
END:VEVENT
BEGIN:VEVENT
DTSTAMP:20260421T203851Z
DTSTART;TZID=Europe/Berlin:20170522T194500
DTEND;TZID=Europe/Berlin:20170522T224500
SUMMARY:HE 3. Liga Final Ittigen vs Lyss (3)
UID:6010be51-3bd0-5356-e053-1fc7a80a74f7
STATUS:CONFIRMED
LAST-MODIFIED:20170524T184021Z
DESCRIPTION:3. Liga Herren Finalrunde\nBegegnungs-Nr: 3\nHeim: Ittigen\nGast: Lyss\n
LOCATION:
CATEGORIES:Saison 2016/17
END:VEVENT
BEGIN:VEVENT
DTSTAMP:20260421T203851Z
DTSTART;TZID=Europe/Berlin:20161114T194500
DTEND;TZID=Europe/Berlin:20161114T224500
SUMMARY:HE 3. Liga Gr. 2 Ittigen vs Schwarzenburg (0)
UID:6010be51-03a5-5356-e053-1fc7a80a74f7
STATUS:CONFIRMED
LAST-MODIFIED:20161115T165118Z
DESCRIPTION:3. Liga Herren Gruppe 2\nBegegnungs-Nr: 0\nHeim: Ittigen\nGast: Schwarzenburg\n\nAdresse: Fischrainweg 17\, 3048 Worblaufen\n
LOCATION:Fischrainweg 17\, 3048 Worblaufen
CATEGORIES:Saison 2016/17
END:VEVENT
BEGIN:VEVENT
DTSTAMP:20260421T203851Z
DTSTART;TZID=Europe/Berlin:20160829T194500
DTEND;TZID=Europe/Berlin:20160829T224500
SUMMARY:HE 3. Liga Gr. 2 Ittigen vs Wohlensee (0)
UID:6010be51-0413-5356-e053-1fc7a80a74f7
STATUS:CONFIRMED
LAST-MODIFIED:20160831T042822Z
DESCRIPTION:3. Liga Herren Gruppe 2\nBegegnungs-Nr: 0\nHeim: Ittigen\nGast: Wohlensee\n\nAdresse: Fischrainweg 17\, 3048 Worblaufen\n
LOCATION:Fischrainweg 17\, 3048 Worblaufen
CATEGORIES:Saison 2016/17
END:VEVENT
BEGIN:VEVENT
DTSTAMP:20260421T203851Z
DTSTART;TZID=Europe/Berlin:20161017T194500
DTEND;TZID=Europe/Berlin:20161017T224500
SUMMARY:HE 3. Liga Gr. 2 Ittigen vs Belp IV (0)
UID:6010be51-0418-5356-e053-1fc7a80a74f7
STATUS:CONFIRMED
LAST-MODIFIED:20161019T171142Z
DESCRIPTION:3. Liga Herren Gruppe 2\nBegegnungs-Nr: 0\nHeim: Ittigen\nGast: Belp IV\n\nAdresse: Fischrainweg 17\, 3048 Worblaufen\n
LOCATION:Fischrainweg 17\, 3048 Worblaufen
CATEGORIES:Saison 2016/17
END:VEVENT
BEGIN:VEVENT
DTSTAMP:20260421T203851Z
DTSTART;TZID=Europe/Berlin:20170123T194500
DTEND;TZID=Europe/Berlin:20170123T224500
SUMMARY:HE 3. Liga Gr. 2 Ittigen vs Burgdorf IV (0)
UID:6010be51-27dc-5356-e053-1fc7a80a74f7
STATUS:CONFIRMED
LAST-MODIFIED:20170124T161546Z
DESCRIPTION:3. Liga Herren Gruppe 2\nBegegnungs-Nr: 0\nHeim: Ittigen\nGast: Burgdorf IV\n\nAdresse: Fischrainweg 17\, 3048 Worblaufen\n
LOCATION:Fischrainweg 17\, 3048 Worblaufen
CATEGORIES:Saison 2016/17
END:VEVENT
BEGIN:VEVENT
DTSTAMP:20260421T203851Z
DTSTART;TZID=Europe/Berlin:20170227T194500
DTEND;TZID=Europe/Berlin:20170227T224500
SUMMARY:HE 3. Liga Gr. 2 Ittigen vs Langnau (0)
UID:6010be51-3225-5356-e053-1fc7a80a74f7
STATUS:CONFIRMED
LAST-MODIFIED:20170228T191320Z
DESCRIPTION:3. Liga Herren Gruppe 2\nBegegnungs-Nr: 0\nHeim: Ittigen\nGast: Langnau\n\nAdresse: Fischrainweg 17\, 3048 Worblaufen\n
LOCATION:Fischrainweg 17\, 3048 Worblaufen
CATEGORIES:Saison 2016/17
END:VEVENT
BEGIN:VEVENT
DTSTAMP:20260421T203851Z
DTSTART;TZID=Europe/Berlin:20170327T194500
DTEND;TZID=Europe/Berlin:20170327T224500
SUMMARY:HE 3. Liga Gr. 2 Ittigen vs Düdingen II (0)
UID:6010be51-3e65-5356-e053-1fc7a80a74f7
STATUS:CONFIRMED
LAST-MODIFIED:20170328T171743Z
DESCRIPTION:3. Liga Herren Gruppe 2\nBegegnungs-Nr: 0\nHeim: Ittigen\nGast: Düdingen II\n\nAdresse: Fischrainweg 17\, 3048 Worblaufen\n
LOCATION:Fischrainweg 17\, 3048 Worblaufen
CATEGORIES:Saison 2016/17
END:VEVENT
BEGIN:VEVENT
DTSTAMP:20260421T203851Z
DTSTART;TZID=Europe/Berlin:20170313T201500
DTEND;TZID=Europe/Berlin:20170313T231500
SUMMARY:HE 3. Liga Gr. 2 Schwarzenburg vs Ittigen (0)
UID:6010be51-0adc-5356-e053-1fc7a80a74f7
STATUS:CONFIRMED
LAST-MODIFIED:20170314T160219Z
DESCRIPTION:3. Liga Herren Gruppe 2\nBegegnungs-Nr: 0\nHeim: Schwarzenburg\nGast: Ittigen\n\nAdresse: Einschlag 21\, 3150 Schwarzenburg\n
LOCATION:Einschlag 21\, 3150 Schwarzenburg
CATEGORIES:Saison 2016/17
END:VEVENT
BEGIN:VEVENT
DTSTAMP:20260421T203851Z
DTSTART;TZID=Europe/Berlin:20170224T193000
DTEND;TZID=Europe/Berlin:20170224T223000
SUMMARY:HE 3. Liga Gr. 2 Belp IV vs Ittigen (0)
UID:6010be51-0b11-5356-e053-1fc7a80a74f7
STATUS:CONFIRMED
LAST-MODIFIED:20170225T225955Z
DESCRIPTION:3. Liga Herren Gruppe 2\nBegegnungs-Nr: 0\nHeim: Belp IV\nGast: Ittigen\n\nAdresse: Neumattstrasse 39\, 3123 Belp\n
LOCATION:Neumattstrasse 39\, 3123 Belp
CATEGORIES:Saison 2016/17
END:VEVENT
BEGIN:VEVENT
DTSTAMP:20260421T203851Z
DTSTART;TZID=Europe/Berlin:20160930T193000
DTEND;TZID=Europe/Berlin:20160930T223000
SUMMARY:HE 3. Liga Gr. 2 Burgdorf IV vs Ittigen (0)
UID:6010be51-139f-5356-e053-1fc7a80a74f7
STATUS:CONFIRMED
LAST-MODIFIED:20161004T152815Z
DESCRIPTION:3. Liga Herren Gruppe 2\nBegegnungs-Nr: 0\nHeim: Burgdorf IV\nGast: Ittigen\n\nAdresse: Pestalozzistrasse 69\, 3400 Burgdorf\n
LOCATION:Pestalozzistrasse 69\, 3400 Burgdorf
CATEGORIES:Saison 2016/17
END:VEVENT
BEGIN:VEVENT
DTSTAMP:20260421T203851Z
DTSTART;TZID=Europe/Berlin:20170502T200000
DTEND;TZID=Europe/Berlin:20170502T230000
SUMMARY:HE 3. Liga Final Steffisburg vs Ittigen (1)
UID:6010be51-3bd2-5356-e053-1fc7a80a74f7
STATUS:CONFIRMED
LAST-MODIFIED:20170503T144655Z
DESCRIPTION:3. Liga Herren Finalrunde\nBegegnungs-Nr: 1\nHeim: Steffisburg\nGast: Ittigen\n
LOCATION:
CATEGORIES:Saison 2016/17
END:VEVENT
BEGIN:VEVENT
DTSTAMP:20260421T203851Z
DTSTART;TZID=Europe/Berlin:20161029T140000
DTEND;TZID=Europe/Berlin:20161029T170000
SUMMARY:HE 3. Liga Gr. 2 Langnau vs Ittigen (0)
UID:6010be51-02b8-5356-e053-1fc7a80a74f7
STATUS:CONFIRMED
LAST-MODIFIED:20161101T205036Z
DESCRIPTION:3. Liga Herren Gruppe 2\nBegegnungs-Nr: 0\nHeim: Langnau\nGast: Ittigen\n\nAdresse: Bleicheweg 11\, 3550 Langnau\n
LOCATION:Bleicheweg 11\, 3550 Langnau
CATEGORIES:Saison 2016/17
END:VEVENT
BEGIN:VEVENT
DTSTAMP:20260421T203851Z
DTSTART;TZID=Europe/Berlin:20161101T200000
DTEND;TZID=Europe/Berlin:20161101T230000
SUMMARY:HE 3. Liga Gr. 2 Regio Moossee vs Ittigen (0)
UID:6010be51-03a2-5356-e053-1fc7a80a74f7
STATUS:CONFIRMED
LAST-MODIFIED:20161118T084246Z
DESCRIPTION:3. Liga Herren Gruppe 2\nBegegnungs-Nr: 0\nHeim: Regio Moossee\nGast: Ittigen\n\nAdresse: Schulhausstrasse 23-25\, 3302 Moosseedorf\n
LOCATION:Schulhausstrasse 23-25\, 3302 Moosseedorf
CATEGORIES:Saison 2016/17
END:VEVENT
BEGIN:VEVENT
DTSTAMP:20260421T203851Z
DTSTART;TZID=Europe/Berlin:20160912T193000
DTEND;TZID=Europe/Berlin:20160912T223000
SUMMARY:HE 3. Liga Gr. 2 Bern II vs Ittigen (0)
UID:6010be51-040f-5356-e053-1fc7a80a74f7
STATUS:CONFIRMED
LAST-MODIFIED:20160912T225614Z
DESCRIPTION:3. Liga Herren Gruppe 2\nBegegnungs-Nr: 0\nHeim: Bern II\nGast: Ittigen\n\nAdresse: Papiermühlestrasse 81\, 3014 Bern\n
LOCATION:Papiermühlestrasse 81\, 3014 Bern
CATEGORIES:Saison 2016/17
END:VEVENT
BEGIN:VEVENT
DTSTAMP:20260421T203851Z
DTSTART;TZID=Europe/Berlin:20161125T193000
DTEND;TZID=Europe/Berlin:20161125T223000
SUMMARY:HE 3. Liga Gr. 2 Ostermundigen IV vs Ittigen (0)
UID:6010be51-05c1-5356-e053-1fc7a80a74f7
STATUS:CONFIRMED
LAST-MODIFIED:20161127T191137Z
DESCRIPTION:3. Liga Herren Gruppe 2\nBegegnungs-Nr: 0\nHeim: Ostermundigen IV\nGast: Ittigen\n\nAdresse: Dennigkofenweg 169\, 3072 Ostermundigen\n
LOCATION:Dennigkofenweg 169\, 3072 Ostermundigen
CATEGORIES:Saison 2016/17
END:VEVENT
BEGIN:VEVENT
DTSTAMP:20260421T203851Z
DTSTART;TZID=Europe/Berlin:20170112T194500
DTEND;TZID=Europe/Berlin:20170112T224500
SUMMARY:HE 3. Liga Gr. 2 Wohlensee vs Ittigen (0)
UID:6010be51-1dea-5356-e053-1fc7a80a74f7
STATUS:CONFIRMED
LAST-MODIFIED:20170114T060119Z
DESCRIPTION:3. Liga Herren Gruppe 2\nBegegnungs-Nr: 0\nHeim: Wohlensee\nGast: Ittigen\n\nAdresse: Kappelenring 36 a\, 3032 Hinterkappelen\n
LOCATION:Kappelenring 36 a\, 3032 Hinterkappelen
CATEGORIES:Saison 2016/17
END:VEVENT
BEGIN:VEVENT
DTSTAMP:20260421T203851Z
DTSTART;TZID=Europe/Berlin:20161121T194500
DTEND;TZID=Europe/Berlin:20161121T224500
SUMMARY:HE 3. Liga Gr. 2 Düdingen II vs Ittigen (0)
UID:6010be51-34ee-5356-e053-1fc7a80a74f7
STATUS:CONFIRMED
LAST-MODIFIED:20161124T164646Z
DESCRIPTION:3. Liga Herren Gruppe 2\nBegegnungs-Nr: 0\nHeim: Düdingen II\nGast: Ittigen\n\nAdresse: Alfons-Aeby-Strasse\, 3186 Düdingen\n
LOCATION:Alfons-Aeby-Strasse\, 3186 Düdingen
CATEGORIES:Saison 2016/17
END:VEVENT
END:VCALENDAR
