BEGIN:VCALENDAR
PRODID:-//nuDatenautomaten//framework iCal4j //DE
VERSION:2.0
CALSCALE:GREGORIAN
BEGIN:VTIMEZONE
TZID:Europe/Berlin
LAST-MODIFIED:20260306T231828Z
TZURL:https://www.tzurl.org/zoneinfo/Europe/Berlin
X-LIC-LOCATION:Europe/Berlin
X-PROLEPTIC-TZNAME:LMT
BEGIN:STANDARD
TZNAME:CET
TZOFFSETFROM:+005328
TZOFFSETTO:+0100
DTSTART:18930401T000000
END:STANDARD
BEGIN:DAYLIGHT
TZNAME:CEST
TZOFFSETFROM:+0100
TZOFFSETTO:+0200
DTSTART:19160430T230000
RDATE:19400401T020000
RDATE:19430329T020000
RDATE:19460414T020000
RDATE:19470406T030000
RDATE:19480418T020000
RDATE:19490410T020000
RDATE:19800406T020000
END:DAYLIGHT
BEGIN:STANDARD
TZNAME:CET
TZOFFSETFROM:+0200
TZOFFSETTO:+0100
DTSTART:19161001T010000
RDATE:19421102T030000
RDATE:19431004T030000
RDATE:19441002T030000
RDATE:19451118T030000
RDATE:19461007T030000
END:STANDARD
BEGIN:DAYLIGHT
TZNAME:CEST
TZOFFSETFROM:+0100
TZOFFSETTO:+0200
DTSTART:19170416T020000
RRULE:FREQ=YEARLY;UNTIL=19180415T010000Z;BYMONTH=4;BYDAY=3MO
END:DAYLIGHT
BEGIN:STANDARD
TZNAME:CET
TZOFFSETFROM:+0200
TZOFFSETTO:+0100
DTSTART:19170917T030000
RRULE:FREQ=YEARLY;UNTIL=19180916T010000Z;BYMONTH=9;BYDAY=3MO
END:STANDARD
BEGIN:DAYLIGHT
TZNAME:CEST
TZOFFSETFROM:+0100
TZOFFSETTO:+0200
DTSTART:19440403T020000
RRULE:FREQ=YEARLY;UNTIL=19450402T010000Z;BYMONTH=4;BYDAY=1MO
END:DAYLIGHT
BEGIN:DAYLIGHT
TZNAME:CEMT
TZOFFSETFROM:+0200
TZOFFSETTO:+0300
DTSTART:19450524T020000
RDATE:19470511T030000
END:DAYLIGHT
BEGIN:DAYLIGHT
TZNAME:CEST
TZOFFSETFROM:+0300
TZOFFSETTO:+0200
DTSTART:19450924T030000
RDATE:19470629T030000
END:DAYLIGHT
BEGIN:STANDARD
TZNAME:CET
TZOFFSETFROM:+0100
TZOFFSETTO:+0100
DTSTART:19460101T000000
RDATE:19800101T000000
END:STANDARD
BEGIN:STANDARD
TZNAME:CET
TZOFFSETFROM:+0200
TZOFFSETTO:+0100
DTSTART:19471005T030000
RRULE:FREQ=YEARLY;UNTIL=19491002T010000Z;BYMONTH=10;BYDAY=1SU
END:STANDARD
BEGIN:STANDARD
TZNAME:CET
TZOFFSETFROM:+0200
TZOFFSETTO:+0100
DTSTART:19800928T030000
RRULE:FREQ=YEARLY;UNTIL=19950924T010000Z;BYMONTH=9;BYDAY=-1SU
END:STANDARD
BEGIN:DAYLIGHT
TZNAME:CEST
TZOFFSETFROM:+0100
TZOFFSETTO:+0200
DTSTART:19810329T020000
RRULE:FREQ=YEARLY;BYMONTH=3;BYDAY=-1SU
END:DAYLIGHT
BEGIN:STANDARD
TZNAME:CET
TZOFFSETFROM:+0200
TZOFFSETTO:+0100
DTSTART:19961027T030000
RRULE:FREQ=YEARLY;BYMONTH=10;BYDAY=-1SU
END:STANDARD
END:VTIMEZONE
BEGIN:VEVENT
DTSTAMP:20260422T123020Z
DTSTART;TZID=Europe/Berlin:20160916T200000
DTEND;TZID=Europe/Berlin:20160916T230000
SUMMARY:HE 4. Liga Gr. 6 Niedergösgen II vs Döttingen III (0)
UID:6010be50-fca3-5356-e053-1fc7a80a74f7
STATUS:CONFIRMED
LAST-MODIFIED:20160920T075740Z
DESCRIPTION:4. Liga Herren Gruppe 6\nBegegnungs-Nr: 0\nHeim: Niedergösgen II\nGast: Döttingen III\n\nAdresse: Stockackerstrasse 17\, 5013 Niedergösgen\n
LOCATION:Stockackerstrasse 17\, 5013 Niedergösgen
CATEGORIES:Saison 2016/17
END:VEVENT
BEGIN:VEVENT
DTSTAMP:20260422T123020Z
DTSTART;TZID=Europe/Berlin:20161123T200000
DTEND;TZID=Europe/Berlin:20161123T230000
SUMMARY:HE 4. Liga Gr. 6 Niedergösgen II vs Lenzburg V (0)
UID:6010be50-fcab-5356-e053-1fc7a80a74f7
STATUS:CONFIRMED
LAST-MODIFIED:20161125T091839Z
DESCRIPTION:4. Liga Herren Gruppe 6\nBegegnungs-Nr: 0\nHeim: Niedergösgen II\nGast: Lenzburg V\n\nAdresse: Stockackerstrasse 17\, 5013 Niedergösgen\n
LOCATION:Stockackerstrasse 17\, 5013 Niedergösgen
CATEGORIES:Saison 2016/17
END:VEVENT
BEGIN:VEVENT
DTSTAMP:20260422T123020Z
DTSTART;TZID=Europe/Berlin:20161019T200000
DTEND;TZID=Europe/Berlin:20161019T230000
SUMMARY:HE 4. Liga Gr. 6 Niedergösgen II vs Bremgarten VIII (0)
UID:6010be50-ff5c-5356-e053-1fc7a80a74f7
STATUS:CONFIRMED
LAST-MODIFIED:20161024T144428Z
DESCRIPTION:4. Liga Herren Gruppe 6\nBegegnungs-Nr: 0\nHeim: Niedergösgen II\nGast: Bremgarten VIII\n\nAdresse: Stockackerstrasse 17\, 5013 Niedergösgen\n
LOCATION:Stockackerstrasse 17\, 5013 Niedergösgen
CATEGORIES:Saison 2016/17
END:VEVENT
BEGIN:VEVENT
DTSTAMP:20260422T123020Z
DTSTART;TZID=Europe/Berlin:20161207T200000
DTEND;TZID=Europe/Berlin:20161207T230000
SUMMARY:HE 4. Liga Gr. 6 Niedergösgen II vs Wohlen II (0)
UID:6010be51-077a-5356-e053-1fc7a80a74f7
STATUS:CONFIRMED
LAST-MODIFIED:20161209T091227Z
DESCRIPTION:4. Liga Herren Gruppe 6\nBegegnungs-Nr: 0\nHeim: Niedergösgen II\nGast: Wohlen II\n\nAdresse: Stockackerstrasse 17\, 5013 Niedergösgen\n
LOCATION:Stockackerstrasse 17\, 5013 Niedergösgen
CATEGORIES:Saison 2016/17
END:VEVENT
BEGIN:VEVENT
DTSTAMP:20260422T123020Z
DTSTART;TZID=Europe/Berlin:20170118T200000
DTEND;TZID=Europe/Berlin:20170118T230000
SUMMARY:HE 4. Liga Gr. 6 Niedergösgen II vs Aarau II (0)
UID:6010be51-07ae-5356-e053-1fc7a80a74f7
STATUS:CONFIRMED
LAST-MODIFIED:20170120T090111Z
DESCRIPTION:4. Liga Herren Gruppe 6\nBegegnungs-Nr: 0\nHeim: Niedergösgen II\nGast: Aarau II\n\nAdresse: Stockackerstrasse 17\, 5013 Niedergösgen\n
LOCATION:Stockackerstrasse 17\, 5013 Niedergösgen
CATEGORIES:Saison 2016/17
END:VEVENT
BEGIN:VEVENT
DTSTAMP:20260422T123020Z
DTSTART;TZID=Europe/Berlin:20170301T200000
DTEND;TZID=Europe/Berlin:20170301T230000
SUMMARY:HE 4. Liga Gr. 6 Niedergösgen II vs Mellingen II (0)
UID:6010be51-07b5-5356-e053-1fc7a80a74f7
STATUS:CONFIRMED
LAST-MODIFIED:20170306T092419Z
DESCRIPTION:4. Liga Herren Gruppe 6\nBegegnungs-Nr: 0\nHeim: Niedergösgen II\nGast: Mellingen II\n\nAdresse: Stockackerstrasse 17\, 5013 Niedergösgen\n
LOCATION:Stockackerstrasse 17\, 5013 Niedergösgen
CATEGORIES:Saison 2016/17
END:VEVENT
BEGIN:VEVENT
DTSTAMP:20260422T123020Z
DTSTART;TZID=Europe/Berlin:20160914T200000
DTEND;TZID=Europe/Berlin:20160914T230000
SUMMARY:HE 4. Liga Gr. 6 Niedergösgen II vs Fortuna Hausen (0)
UID:6010be51-1e0e-5356-e053-1fc7a80a74f7
STATUS:CONFIRMED
LAST-MODIFIED:20160920T075719Z
DESCRIPTION:4. Liga Herren Gruppe 6\nBegegnungs-Nr: 0\nHeim: Niedergösgen II\nGast: Fortuna Hausen\n\nAdresse: Stockackerstrasse 17\, 5013 Niedergösgen\n
LOCATION:Stockackerstrasse 17\, 5013 Niedergösgen
CATEGORIES:Saison 2016/17
END:VEVENT
BEGIN:VEVENT
DTSTAMP:20260422T123020Z
DTSTART;TZID=Europe/Berlin:20160907T194500
DTEND;TZID=Europe/Berlin:20160907T224500
SUMMARY:HE 4. Liga Gr. 6 Wohlen II vs Niedergösgen II (0)
UID:6010be50-fc73-5356-e053-1fc7a80a74f7
STATUS:CONFIRMED
LAST-MODIFIED:20160915T085006Z
DESCRIPTION:4. Liga Herren Gruppe 6\nBegegnungs-Nr: 0\nHeim: Wohlen II\nGast: Niedergösgen II\n\nAdresse: Hofmattenweg 17\, 5610 Wohlen\, bei verschlossener Tür Klingel Halle 3 betätigen (links neben Türen)\n
LOCATION:Hofmattenweg 17\, 5610 Wohlen\, bei verschlossener Tür Klingel Halle 3 betätigen (links neben Türen)
CATEGORIES:Saison 2016/17
END:VEVENT
BEGIN:VEVENT
DTSTAMP:20260422T123020Z
DTSTART;TZID=Europe/Berlin:20160930T193000
DTEND;TZID=Europe/Berlin:20160930T223000
SUMMARY:HE 4. Liga Gr. 6 Aarau II vs Niedergösgen II (0)
UID:6010be50-fc78-5356-e053-1fc7a80a74f7
STATUS:CONFIRMED
LAST-MODIFIED:20161003T111527Z
DESCRIPTION:4. Liga Herren Gruppe 6\nBegegnungs-Nr: 0\nHeim: Aarau II\nGast: Niedergösgen II\n\nAdresse: Weltistrasse 20\, 5000 Aarau\n
LOCATION:Weltistrasse 20\, 5000 Aarau
CATEGORIES:Saison 2016/17
END:VEVENT
BEGIN:VEVENT
DTSTAMP:20260422T123020Z
DTSTART;TZID=Europe/Berlin:20161103T194500
DTEND;TZID=Europe/Berlin:20161103T224500
SUMMARY:HE 4. Liga Gr. 6 Mellingen II vs Niedergösgen II (0)
UID:6010be50-fca8-5356-e053-1fc7a80a74f7
STATUS:CONFIRMED
LAST-MODIFIED:20161107T101729Z
DESCRIPTION:4. Liga Herren Gruppe 6\nBegegnungs-Nr: 0\nHeim: Mellingen II\nGast: Niedergösgen II\n\nAdresse: Bahnhofstrasse 22\, 5507 Mellingen\n
LOCATION:Bahnhofstrasse 22\, 5507 Mellingen
CATEGORIES:Saison 2016/17
END:VEVENT
BEGIN:VEVENT
DTSTAMP:20260422T123020Z
DTSTART;TZID=Europe/Berlin:20170316T203000
DTEND;TZID=Europe/Berlin:20170316T233000
SUMMARY:HE 4. Liga Gr. 6 Lenzburg V vs Niedergösgen II (0)
UID:6010be51-07b6-5356-e053-1fc7a80a74f7
STATUS:CONFIRMED
LAST-MODIFIED:20170320T064546Z
DESCRIPTION:4. Liga Herren Gruppe 6\nBegegnungs-Nr: 0\nHeim: Lenzburg V\nGast: Niedergösgen II\n\nAdresse: Turnerweg\, 5600 Lenzburg\n
LOCATION:Turnerweg\, 5600 Lenzburg
CATEGORIES:Saison 2016/17
END:VEVENT
BEGIN:VEVENT
DTSTAMP:20260422T123020Z
DTSTART;TZID=Europe/Berlin:20170110T200000
DTEND;TZID=Europe/Berlin:20170110T230000
SUMMARY:HE 4. Liga Gr. 6 Fortuna Hausen vs Niedergösgen II (0)
UID:6010be51-1f98-5356-e053-1fc7a80a74f7
STATUS:CONFIRMED
LAST-MODIFIED:20170113T094802Z
DESCRIPTION:4. Liga Herren Gruppe 6\nBegegnungs-Nr: 0\nHeim: Fortuna Hausen\nGast: Niedergösgen II\n\nAdresse: Hauptstrasse 26\, 5212 Hausen AG\n
LOCATION:Hauptstrasse 26\, 5212 Hausen AG
CATEGORIES:Saison 2016/17
END:VEVENT
BEGIN:VEVENT
DTSTAMP:20260422T123020Z
DTSTART;TZID=Europe/Berlin:20170127T201500
DTEND;TZID=Europe/Berlin:20170127T231500
SUMMARY:HE 4. Liga Gr. 6 Döttingen III vs Niedergösgen II (0)
UID:6010be51-28c4-5356-e053-1fc7a80a74f7
STATUS:CONFIRMED
LAST-MODIFIED:20170130T085017Z
DESCRIPTION:4. Liga Herren Gruppe 6\nBegegnungs-Nr: 0\nHeim: Döttingen III\nGast: Niedergösgen II\n\nAdresse: Im Bogen\, Chilbert 25\, 5312 Döttingen\n
LOCATION:Im Bogen\, Chilbert 25\, 5312 Döttingen
CATEGORIES:Saison 2016/17
END:VEVENT
BEGIN:VEVENT
DTSTAMP:20260422T123020Z
DTSTART;TZID=Europe/Berlin:20170221T201500
DTEND;TZID=Europe/Berlin:20170221T231500
SUMMARY:HE 4. Liga Gr. 6 Bremgarten VIII vs Niedergösgen II (0)
UID:6010be51-3571-5356-e053-1fc7a80a74f7
STATUS:CONFIRMED
LAST-MODIFIED:20170223T090643Z
DESCRIPTION:4. Liga Herren Gruppe 6\nBegegnungs-Nr: 0\nHeim: Bremgarten VIII\nGast: Niedergösgen II\n\nAdresse: Badstrasse 3\, 5620 Bremgarten\n
LOCATION:Badstrasse 3\, 5620 Bremgarten
CATEGORIES:Saison 2016/17
END:VEVENT
END:VCALENDAR
