BEGIN:VCALENDAR
PRODID:-//nuDatenautomaten//framework iCal4j //DE
VERSION:2.0
CALSCALE:GREGORIAN
BEGIN:VTIMEZONE
TZID:Europe/Berlin
LAST-MODIFIED:20260306T231828Z
TZURL:https://www.tzurl.org/zoneinfo/Europe/Berlin
X-LIC-LOCATION:Europe/Berlin
X-PROLEPTIC-TZNAME:LMT
BEGIN:STANDARD
TZNAME:CET
TZOFFSETFROM:+005328
TZOFFSETTO:+0100
DTSTART:18930401T000000
END:STANDARD
BEGIN:DAYLIGHT
TZNAME:CEST
TZOFFSETFROM:+0100
TZOFFSETTO:+0200
DTSTART:19160430T230000
RDATE:19400401T020000
RDATE:19430329T020000
RDATE:19460414T020000
RDATE:19470406T030000
RDATE:19480418T020000
RDATE:19490410T020000
RDATE:19800406T020000
END:DAYLIGHT
BEGIN:STANDARD
TZNAME:CET
TZOFFSETFROM:+0200
TZOFFSETTO:+0100
DTSTART:19161001T010000
RDATE:19421102T030000
RDATE:19431004T030000
RDATE:19441002T030000
RDATE:19451118T030000
RDATE:19461007T030000
END:STANDARD
BEGIN:DAYLIGHT
TZNAME:CEST
TZOFFSETFROM:+0100
TZOFFSETTO:+0200
DTSTART:19170416T020000
RRULE:FREQ=YEARLY;UNTIL=19180415T010000Z;BYMONTH=4;BYDAY=3MO
END:DAYLIGHT
BEGIN:STANDARD
TZNAME:CET
TZOFFSETFROM:+0200
TZOFFSETTO:+0100
DTSTART:19170917T030000
RRULE:FREQ=YEARLY;UNTIL=19180916T010000Z;BYMONTH=9;BYDAY=3MO
END:STANDARD
BEGIN:DAYLIGHT
TZNAME:CEST
TZOFFSETFROM:+0100
TZOFFSETTO:+0200
DTSTART:19440403T020000
RRULE:FREQ=YEARLY;UNTIL=19450402T010000Z;BYMONTH=4;BYDAY=1MO
END:DAYLIGHT
BEGIN:DAYLIGHT
TZNAME:CEMT
TZOFFSETFROM:+0200
TZOFFSETTO:+0300
DTSTART:19450524T020000
RDATE:19470511T030000
END:DAYLIGHT
BEGIN:DAYLIGHT
TZNAME:CEST
TZOFFSETFROM:+0300
TZOFFSETTO:+0200
DTSTART:19450924T030000
RDATE:19470629T030000
END:DAYLIGHT
BEGIN:STANDARD
TZNAME:CET
TZOFFSETFROM:+0100
TZOFFSETTO:+0100
DTSTART:19460101T000000
RDATE:19800101T000000
END:STANDARD
BEGIN:STANDARD
TZNAME:CET
TZOFFSETFROM:+0200
TZOFFSETTO:+0100
DTSTART:19471005T030000
RRULE:FREQ=YEARLY;UNTIL=19491002T010000Z;BYMONTH=10;BYDAY=1SU
END:STANDARD
BEGIN:STANDARD
TZNAME:CET
TZOFFSETFROM:+0200
TZOFFSETTO:+0100
DTSTART:19800928T030000
RRULE:FREQ=YEARLY;UNTIL=19950924T010000Z;BYMONTH=9;BYDAY=-1SU
END:STANDARD
BEGIN:DAYLIGHT
TZNAME:CEST
TZOFFSETFROM:+0100
TZOFFSETTO:+0200
DTSTART:19810329T020000
RRULE:FREQ=YEARLY;BYMONTH=3;BYDAY=-1SU
END:DAYLIGHT
BEGIN:STANDARD
TZNAME:CET
TZOFFSETFROM:+0200
TZOFFSETTO:+0100
DTSTART:19961027T030000
RRULE:FREQ=YEARLY;BYMONTH=10;BYDAY=-1SU
END:STANDARD
END:VTIMEZONE
BEGIN:VEVENT
DTSTAMP:20260420T154920Z
DTSTART;TZID=Europe/Berlin:20151124T200000
DTEND;TZID=Europe/Berlin:20151124T230000
SUMMARY:HE 4. Liga Gr. 8 Fortuna Hausen II vs Bremgarten VI (0)
UID:6010be50-ee84-5356-e053-1fc7a80a74f7
STATUS:CONFIRMED
LAST-MODIFIED:20151127T133341Z
DESCRIPTION:4. Liga Herren Gruppe 8\nBegegnungs-Nr: 0\nHeim: Fortuna Hausen II\nGast: Bremgarten VI\n
LOCATION:
CATEGORIES:Saison 2015/16
END:VEVENT
BEGIN:VEVENT
DTSTAMP:20260420T154920Z
DTSTART;TZID=Europe/Berlin:20151103T200000
DTEND;TZID=Europe/Berlin:20151103T230000
SUMMARY:HE 4. Liga Gr. 8 Fortuna Hausen II vs Brugg III (0)
UID:6010be50-ef93-5356-e053-1fc7a80a74f7
STATUS:CONFIRMED
LAST-MODIFIED:20151109T105841Z
DESCRIPTION:4. Liga Herren Gruppe 8\nBegegnungs-Nr: 0\nHeim: Fortuna Hausen II\nGast: Brugg III\n
LOCATION:
CATEGORIES:Saison 2015/16
END:VEVENT
BEGIN:VEVENT
DTSTAMP:20260420T154920Z
DTSTART;TZID=Europe/Berlin:20151117T200000
DTEND;TZID=Europe/Berlin:20151117T230000
SUMMARY:HE 4. Liga Gr. 8 Fortuna Hausen II vs Mellingen II (0)
UID:6010be50-dfc7-5356-e053-1fc7a80a74f7
STATUS:CONFIRMED
LAST-MODIFIED:20151119T122955Z
DESCRIPTION:4. Liga Herren Gruppe 8\nBegegnungs-Nr: 0\nHeim: Fortuna Hausen II\nGast: Mellingen II\n
LOCATION:
CATEGORIES:Saison 2015/16
END:VEVENT
BEGIN:VEVENT
DTSTAMP:20260420T154920Z
DTSTART;TZID=Europe/Berlin:20150929T200000
DTEND;TZID=Europe/Berlin:20150929T230000
SUMMARY:HE 4. Liga Gr. 8 Fortuna Hausen II vs Wohlen (0)
UID:6010be50-dfcd-5356-e053-1fc7a80a74f7
STATUS:CONFIRMED
LAST-MODIFIED:20151001T082158Z
DESCRIPTION:4. Liga Herren Gruppe 8\nBegegnungs-Nr: 0\nHeim: Fortuna Hausen II\nGast: Wohlen\n
LOCATION:
CATEGORIES:Saison 2015/16
END:VEVENT
BEGIN:VEVENT
DTSTAMP:20260420T154920Z
DTSTART;TZID=Europe/Berlin:20150915T200000
DTEND;TZID=Europe/Berlin:20150915T230000
SUMMARY:HE 4. Liga Gr. 8 Fortuna Hausen II vs Oberrohrdorf (0)
UID:6010be50-dfd3-5356-e053-1fc7a80a74f7
STATUS:CONFIRMED
LAST-MODIFIED:20150918T123746Z
DESCRIPTION:4. Liga Herren Gruppe 8\nBegegnungs-Nr: 0\nHeim: Fortuna Hausen II\nGast: Oberrohrdorf\n
LOCATION:
CATEGORIES:Saison 2015/16
END:VEVENT
BEGIN:VEVENT
DTSTAMP:20260420T154920Z
DTSTART;TZID=Europe/Berlin:20160216T200000
DTEND;TZID=Europe/Berlin:20160216T230000
SUMMARY:HE 4. Liga Gr. 8 Fortuna Hausen II vs Döttingen III (0)
UID:6010be50-e07a-5356-e053-1fc7a80a74f7
STATUS:CONFIRMED
LAST-MODIFIED:20160223T081347Z
DESCRIPTION:4. Liga Herren Gruppe 8\nBegegnungs-Nr: 0\nHeim: Fortuna Hausen II\nGast: Döttingen III\n
LOCATION:
CATEGORIES:Saison 2015/16
END:VEVENT
BEGIN:VEVENT
DTSTAMP:20260420T154920Z
DTSTART;TZID=Europe/Berlin:20160119T200000
DTEND;TZID=Europe/Berlin:20160119T230000
SUMMARY:HE 4. Liga Gr. 8 Fortuna Hausen II vs Lenzburg IV (0)
UID:6010be50-e07e-5356-e053-1fc7a80a74f7
STATUS:CONFIRMED
LAST-MODIFIED:20160121T081354Z
DESCRIPTION:4. Liga Herren Gruppe 8\nBegegnungs-Nr: 0\nHeim: Fortuna Hausen II\nGast: Lenzburg IV\n
LOCATION:
CATEGORIES:Saison 2015/16
END:VEVENT
BEGIN:VEVENT
DTSTAMP:20260420T154920Z
DTSTART;TZID=Europe/Berlin:20151130T203000
DTEND;TZID=Europe/Berlin:20151130T233000
SUMMARY:HE 4. Liga Gr. 8 Oberrohrdorf vs Fortuna Hausen II (0)
UID:6010be50-efc3-5356-e053-1fc7a80a74f7
STATUS:CONFIRMED
LAST-MODIFIED:20151204T081634Z
DESCRIPTION:4. Liga Herren Gruppe 8\nBegegnungs-Nr: 0\nHeim: Oberrohrdorf\nGast: Fortuna Hausen II\n
LOCATION:
CATEGORIES:Saison 2015/16
END:VEVENT
BEGIN:VEVENT
DTSTAMP:20260420T154920Z
DTSTART;TZID=Europe/Berlin:20151019T201500
DTEND;TZID=Europe/Berlin:20151019T231500
SUMMARY:HE 4. Liga Gr. 8 Döttingen III vs Fortuna Hausen II (0)
UID:6010be50-dfcb-5356-e053-1fc7a80a74f7
STATUS:CONFIRMED
LAST-MODIFIED:20151021T175411Z
DESCRIPTION:4. Liga Herren Gruppe 8\nBegegnungs-Nr: 0\nHeim: Döttingen III\nGast: Fortuna Hausen II\n
LOCATION:
CATEGORIES:Saison 2015/16
END:VEVENT
BEGIN:VEVENT
DTSTAMP:20260420T154920Z
DTSTART;TZID=Europe/Berlin:20150910T203000
DTEND;TZID=Europe/Berlin:20150910T233000
SUMMARY:HE 4. Liga Gr. 8 Lenzburg IV vs Fortuna Hausen II (0)
UID:6010be50-dfcf-5356-e053-1fc7a80a74f7
STATUS:CONFIRMED
LAST-MODIFIED:20150914T095856Z
DESCRIPTION:4. Liga Herren Gruppe 8\nBegegnungs-Nr: 0\nHeim: Lenzburg IV\nGast: Fortuna Hausen II\n\nAdresse: Turnerweg\, 5600 Lenzburg\n
LOCATION:Turnerweg\, 5600 Lenzburg
CATEGORIES:Saison 2015/16
END:VEVENT
BEGIN:VEVENT
DTSTAMP:20260420T154920Z
DTSTART;TZID=Europe/Berlin:20150901T201500
DTEND;TZID=Europe/Berlin:20150901T231500
SUMMARY:HE 4. Liga Gr. 8 Bremgarten VI vs Fortuna Hausen II (0)
UID:6010be50-dfd5-5356-e053-1fc7a80a74f7
STATUS:CONFIRMED
LAST-MODIFIED:20150902T140424Z
DESCRIPTION:4. Liga Herren Gruppe 8\nBegegnungs-Nr: 0\nHeim: Bremgarten VI\nGast: Fortuna Hausen II\n
LOCATION:
CATEGORIES:Saison 2015/16
END:VEVENT
BEGIN:VEVENT
DTSTAMP:20260420T154920Z
DTSTART;TZID=Europe/Berlin:20160307T201500
DTEND;TZID=Europe/Berlin:20160307T231500
SUMMARY:HE 4. Liga Gr. 8 Brugg III vs Fortuna Hausen II (0)
UID:6010be50-e077-5356-e053-1fc7a80a74f7
STATUS:CONFIRMED
LAST-MODIFIED:20160310T074931Z
DESCRIPTION:4. Liga Herren Gruppe 8\nBegegnungs-Nr: 0\nHeim: Brugg III\nGast: Fortuna Hausen II\n\nAdresse: Sommerhaldenstrasse 29\, 5200 Brugg/Lauffohr\n
LOCATION:Sommerhaldenstrasse 29\, 5200 Brugg/Lauffohr
CATEGORIES:Saison 2015/16
END:VEVENT
BEGIN:VEVENT
DTSTAMP:20260420T154920Z
DTSTART;TZID=Europe/Berlin:20160120T194500
DTEND;TZID=Europe/Berlin:20160120T224500
SUMMARY:HE 4. Liga Gr. 8 Wohlen vs Fortuna Hausen II (0)
UID:6010be50-f7d4-5356-e053-1fc7a80a74f7
STATUS:CONFIRMED
LAST-MODIFIED:20160121T081431Z
DESCRIPTION:4. Liga Herren Gruppe 8\nBegegnungs-Nr: 0\nHeim: Wohlen\nGast: Fortuna Hausen II\n
LOCATION:
CATEGORIES:Saison 2015/16
END:VEVENT
BEGIN:VEVENT
DTSTAMP:20260420T154920Z
DTSTART;TZID=Europe/Berlin:20160310T194500
DTEND;TZID=Europe/Berlin:20160310T224500
SUMMARY:HE 4. Liga Gr. 8 Mellingen II vs Fortuna Hausen II (0)
UID:6010be51-367d-5356-e053-1fc7a80a74f7
STATUS:CONFIRMED
LAST-MODIFIED:20160314T091622Z
DESCRIPTION:4. Liga Herren Gruppe 8\nBegegnungs-Nr: 0\nHeim: Mellingen II\nGast: Fortuna Hausen II\n
LOCATION:
CATEGORIES:Saison 2015/16
END:VEVENT
END:VCALENDAR
