BEGIN:VCALENDAR
PRODID:-//nuDatenautomaten//framework iCal4j //DE
VERSION:2.0
CALSCALE:GREGORIAN
BEGIN:VTIMEZONE
TZID:Europe/Berlin
LAST-MODIFIED:20260306T231828Z
TZURL:https://www.tzurl.org/zoneinfo/Europe/Berlin
X-LIC-LOCATION:Europe/Berlin
X-PROLEPTIC-TZNAME:LMT
BEGIN:STANDARD
TZNAME:CET
TZOFFSETFROM:+005328
TZOFFSETTO:+0100
DTSTART:18930401T000000
END:STANDARD
BEGIN:DAYLIGHT
TZNAME:CEST
TZOFFSETFROM:+0100
TZOFFSETTO:+0200
DTSTART:19160430T230000
RDATE:19400401T020000
RDATE:19430329T020000
RDATE:19460414T020000
RDATE:19470406T030000
RDATE:19480418T020000
RDATE:19490410T020000
RDATE:19800406T020000
END:DAYLIGHT
BEGIN:STANDARD
TZNAME:CET
TZOFFSETFROM:+0200
TZOFFSETTO:+0100
DTSTART:19161001T010000
RDATE:19421102T030000
RDATE:19431004T030000
RDATE:19441002T030000
RDATE:19451118T030000
RDATE:19461007T030000
END:STANDARD
BEGIN:DAYLIGHT
TZNAME:CEST
TZOFFSETFROM:+0100
TZOFFSETTO:+0200
DTSTART:19170416T020000
RRULE:FREQ=YEARLY;UNTIL=19180415T010000Z;BYMONTH=4;BYDAY=3MO
END:DAYLIGHT
BEGIN:STANDARD
TZNAME:CET
TZOFFSETFROM:+0200
TZOFFSETTO:+0100
DTSTART:19170917T030000
RRULE:FREQ=YEARLY;UNTIL=19180916T010000Z;BYMONTH=9;BYDAY=3MO
END:STANDARD
BEGIN:DAYLIGHT
TZNAME:CEST
TZOFFSETFROM:+0100
TZOFFSETTO:+0200
DTSTART:19440403T020000
RRULE:FREQ=YEARLY;UNTIL=19450402T010000Z;BYMONTH=4;BYDAY=1MO
END:DAYLIGHT
BEGIN:DAYLIGHT
TZNAME:CEMT
TZOFFSETFROM:+0200
TZOFFSETTO:+0300
DTSTART:19450524T020000
RDATE:19470511T030000
END:DAYLIGHT
BEGIN:DAYLIGHT
TZNAME:CEST
TZOFFSETFROM:+0300
TZOFFSETTO:+0200
DTSTART:19450924T030000
RDATE:19470629T030000
END:DAYLIGHT
BEGIN:STANDARD
TZNAME:CET
TZOFFSETFROM:+0100
TZOFFSETTO:+0100
DTSTART:19460101T000000
RDATE:19800101T000000
END:STANDARD
BEGIN:STANDARD
TZNAME:CET
TZOFFSETFROM:+0200
TZOFFSETTO:+0100
DTSTART:19471005T030000
RRULE:FREQ=YEARLY;UNTIL=19491002T010000Z;BYMONTH=10;BYDAY=1SU
END:STANDARD
BEGIN:STANDARD
TZNAME:CET
TZOFFSETFROM:+0200
TZOFFSETTO:+0100
DTSTART:19800928T030000
RRULE:FREQ=YEARLY;UNTIL=19950924T010000Z;BYMONTH=9;BYDAY=-1SU
END:STANDARD
BEGIN:DAYLIGHT
TZNAME:CEST
TZOFFSETFROM:+0100
TZOFFSETTO:+0200
DTSTART:19810329T020000
RRULE:FREQ=YEARLY;BYMONTH=3;BYDAY=-1SU
END:DAYLIGHT
BEGIN:STANDARD
TZNAME:CET
TZOFFSETFROM:+0200
TZOFFSETTO:+0100
DTSTART:19961027T030000
RRULE:FREQ=YEARLY;BYMONTH=10;BYDAY=-1SU
END:STANDARD
END:VTIMEZONE
BEGIN:VEVENT
DTSTAMP:20260422T121256Z
DTSTART;TZID=Europe/Berlin:20141101T140000
DTEND;TZID=Europe/Berlin:20141101T170000
SUMMARY:DA NLB Gr.1 Rapid Luzern II vs Rio-Star Muttenz II (4)
UID:6010be50-aafb-5356-e053-1fc7a80a74f7
STATUS:CONFIRMED
LAST-MODIFIED:20141107T132903Z
DESCRIPTION:${damen} ${nationalliga} B ${gruppe} 1\nBegegnungs-Nr: 4\nHeim: Rapid Luzern II\nGast: Rio-Star Muttenz II\n\nAdresse: Kreuzbuchstr. 60\, 6006 Luzern\n
LOCATION:Kreuzbuchstr. 60\, 6006 Luzern
CATEGORIES:Saison 2014/15
END:VEVENT
BEGIN:VEVENT
DTSTAMP:20260422T121256Z
DTSTART;TZID=Europe/Berlin:20140906T140000
DTEND;TZID=Europe/Berlin:20140906T170000
SUMMARY:DA NLB Gr.1 Rapid Luzern II vs Lenzburg (1)
UID:6010be50-c384-5356-e053-1fc7a80a74f7
STATUS:CONFIRMED
LAST-MODIFIED:20140921T100727Z
DESCRIPTION:${damen} ${nationalliga} B ${gruppe} 1\nBegegnungs-Nr: 1\nHeim: Rapid Luzern II\nGast: Lenzburg\n\nAdresse: Kreuzbuchstr. 60\, 6006 Luzern\n
LOCATION:Kreuzbuchstr. 60\, 6006 Luzern
CATEGORIES:Saison 2014/15
END:VEVENT
BEGIN:VEVENT
DTSTAMP:20260422T121256Z
DTSTART;TZID=Europe/Berlin:20141122T140000
DTEND;TZID=Europe/Berlin:20141122T170000
SUMMARY:DA NLB Gr.1 Rapid Luzern II vs Münsingen (5)
UID:6010be50-c38c-5356-e053-1fc7a80a74f7
STATUS:CONFIRMED
LAST-MODIFIED:20141126T150339Z
DESCRIPTION:${damen} ${nationalliga} B ${gruppe} 1\nBegegnungs-Nr: 5\nHeim: Rapid Luzern II\nGast: Münsingen\n\nAdresse: Kreuzbuchstr. 60\, 6006 Luzern\n
LOCATION:Kreuzbuchstr. 60\, 6006 Luzern
CATEGORIES:Saison 2014/15
END:VEVENT
BEGIN:VEVENT
DTSTAMP:20260422T121256Z
DTSTART;TZID=Europe/Berlin:20150110T140000
DTEND;TZID=Europe/Berlin:20150110T170000
SUMMARY:DA NLB Gr.1 Rapid Luzern II vs Burgdorf (7)
UID:6010be50-c38f-5356-e053-1fc7a80a74f7
STATUS:CONFIRMED
LAST-MODIFIED:20150115T084029Z
DESCRIPTION:${damen} ${nationalliga} B ${gruppe} 1\nBegegnungs-Nr: 7\nHeim: Rapid Luzern II\nGast: Burgdorf\n\nAdresse: Kreuzbuchstr. 60\, 6006 Luzern\n
LOCATION:Kreuzbuchstr. 60\, 6006 Luzern
CATEGORIES:Saison 2014/15
END:VEVENT
BEGIN:VEVENT
DTSTAMP:20260422T121256Z
DTSTART;TZID=Europe/Berlin:20150131T170000
DTEND;TZID=Europe/Berlin:20150131T200000
SUMMARY:DA NLB Gr.1 Rapid Luzern II vs Thun (8)
UID:6010be50-c3c7-5356-e053-1fc7a80a74f7
STATUS:CONFIRMED
LAST-MODIFIED:20150206T090747Z
DESCRIPTION:${damen} ${nationalliga} B ${gruppe} 1\nBegegnungs-Nr: 8\nHeim: Rapid Luzern II\nGast: Thun\n\nAdresse: Kreuzbuchstr. 60\, 6006 Luzern\n
LOCATION:Kreuzbuchstr. 60\, 6006 Luzern
CATEGORIES:Saison 2014/15
END:VEVENT
BEGIN:VEVENT
DTSTAMP:20260422T121256Z
DTSTART;TZID=Europe/Berlin:20150307T150000
DTEND;TZID=Europe/Berlin:20150307T180000
SUMMARY:DA NLB Gr.1 Rio-Star Muttenz II vs Rapid Luzern II (9)
UID:6010be51-2fb2-5356-e053-1fc7a80a74f7
STATUS:CONFIRMED
LAST-MODIFIED:20150312T103428Z
DESCRIPTION:${damen} ${nationalliga} B ${gruppe} 1\nBegegnungs-Nr: 9\nHeim: Rio-Star Muttenz II\nGast: Rapid Luzern II\n\nAdresse: Gründenstrasse 32\, 4132 Muttenz\n
LOCATION:Gründenstrasse 32\, 4132 Muttenz
CATEGORIES:Saison 2014/15
END:VEVENT
BEGIN:VEVENT
DTSTAMP:20260422T121256Z
DTSTART;TZID=Europe/Berlin:20141011T130000
DTEND;TZID=Europe/Berlin:20141011T160000
SUMMARY:DA NLB Gr.1 Thun vs Rapid Luzern II (3)
UID:6010be50-c388-5356-e053-1fc7a80a74f7
STATUS:CONFIRMED
LAST-MODIFIED:20141017T165305Z
DESCRIPTION:${damen} ${nationalliga} B ${gruppe} 1\nBegegnungs-Nr: 3\nHeim: Thun\nGast: Rapid Luzern II\n
LOCATION:
CATEGORIES:Saison 2014/15
END:VEVENT
BEGIN:VEVENT
DTSTAMP:20260422T121256Z
DTSTART;TZID=Europe/Berlin:20141213T140000
DTEND;TZID=Europe/Berlin:20141213T170000
SUMMARY:DA NLB Gr.1 Lenzburg vs Rapid Luzern II (6)
UID:6010be50-c38e-5356-e053-1fc7a80a74f7
STATUS:CONFIRMED
LAST-MODIFIED:20141231T150149Z
DESCRIPTION:${damen} ${nationalliga} B ${gruppe} 1\nBegegnungs-Nr: 6\nHeim: Lenzburg\nGast: Rapid Luzern II\n
LOCATION:
CATEGORIES:Saison 2014/15
END:VEVENT
BEGIN:VEVENT
DTSTAMP:20260422T121256Z
DTSTART;TZID=Europe/Berlin:20150321T160000
DTEND;TZID=Europe/Berlin:20150321T190000
SUMMARY:DA NLB Gr.1 Münsingen vs Rapid Luzern II (10)
UID:6010be50-c3cb-5356-e053-1fc7a80a74f7
STATUS:CONFIRMED
LAST-MODIFIED:20150323T111720Z
DESCRIPTION:${damen} ${nationalliga} B ${gruppe} 1\nBegegnungs-Nr: 10\nHeim: Münsingen\nGast: Rapid Luzern II\n
LOCATION:
CATEGORIES:Saison 2014/15
END:VEVENT
BEGIN:VEVENT
DTSTAMP:20260422T121256Z
DTSTART;TZID=Europe/Berlin:20140920T143000
DTEND;TZID=Europe/Berlin:20140920T173000
SUMMARY:DA NLB Gr.1 Burgdorf vs Rapid Luzern II (2)
UID:6010be50-c385-5356-e053-1fc7a80a74f7
STATUS:CONFIRMED
LAST-MODIFIED:20140922T133611Z
DESCRIPTION:${damen} ${nationalliga} B ${gruppe} 1\nBegegnungs-Nr: 2\nHeim: Burgdorf\nGast: Rapid Luzern II\n
LOCATION:
CATEGORIES:Saison 2014/15
END:VEVENT
END:VCALENDAR
